Workbook

Sheet 改定履歴
A1: 改定履歴
A3: バージョン | B3: 日付 | C3: 内容 | D3: 課題
A4: Ver.1 | B4: 45491 | C4: ・240711案（確認Ver.5、中間Ver.4、完了Ver.5）を元に新規作成 ・中間検査、完了検査において、検討時には①基本、②防避分、③構造分（中間）特例差額分（完了）と分類して、これらに階数調整係数や特例調整係数を考慮した金額の組合せ（積み上げ）にて手数料を算出していたが、算定ツールにおいては、①+②+③を基本手数料とし、階数調整と特例調整については、検討時の計算結果を別表にて金額を直接設定することで個別調整がしやすい構成とした。 （Ex.階数調整：①+②に階数調整係数を掛けて金額算出 ⇒上記金額を別表にて直接設定し、階数３以上の場合に加算） | D4: ・用途分類の見直し以外に手数料を変更する主だった理由がないもの（主に現行の５類と６類）において算定方法による手数料の差異が生じている。 ・完了検査の階数３以上において、200㎡超の金額がB類とC類で逆転している。
A5: Ver.2 | B5: 45492 | C5: ・確認申請において、中間検査･完了検査と同様に階数調整と特例調整については、検討時の計算結果を別表にて金額を直接設定した。 ・「一括算定表」を追加 ・完了検査に”省エネ適判”、”昇降機併願”を追加 | D5: （同上）
A6: Ver.3 | B6: 45495 | C6: ・検討用手数料一覧（シミュレーション一覧への転記用）を作成 ・現状と金額の差が大きいもの（ボリュームゾーンにおいては差が有るもの）について金額を個別調整 ・型式認定（特例１号、２号）の場合に、階数３以上であっても階数調整を適用しないように修正 ・中間検査にＤ～Ｆ類（構造規模により対象となる場合あり）を追加（金額はC類と同額で統一）
A7: 241001-1 | B7: 2024/8/20 2024/9/3 | C7: ＜手数料額＞ ・特例調整基準額の500㎡超を200～500㎡の金額に統一（型式認定物件の手数料が現行より低くなりすぎるための調整） | D7: ★施行用
C8: ＜共通＞ ・バージョン、センター名の表示を追加 ・基本手数料及び各種調整額を非表示（一括算定以外） ・デフォルト入力（一戸建ての住宅・特例３号、計画変更以外） ・入力以外のセルのロック、シート内の算定過程の表を非表示、算定シート以外のシートを非表示（シートの保護、ブックの保護）
C9: ＜一括算定＞ ・対象外に建設性能評価を追加 ・対象外に新築以外を追加
C10: ＜確認申請＞ ・表②欄外の注意書き（構造計算②）の誤記修正（計画変更も） ・増築、大規模修繕等の算定方法修正 （増築：既存面積からの算定額×20％、その他：新築と同じ） ・複数棟申請の算定方法修正・注意書き追加
C11: ＜中間検査＞ ・建設性能評価有りの場合の手数料を追加（手数料規程では中間検査も対象としているため追加するが、県内特庁ではすべて基準法検査が対象外となっているため、誤解を招かないように非表示とする。）
C12: ＜完了検査＞ ・建設性能評価有りの場合の手数料を追加（用途分類がＤ～Ｆの場合は非表示） ・複数棟申請の算定方法修正
A13: 250401-01 | B13: 45714 | C13: <一括算定> ・「省エネ仕様基準」追加。「省エネ適判」⇒「省エネ基準検査」に変更。 ・加算対象となる軽微変更は対象外である注意書き追加。 ＜確認申請・計画変更＞ ・加算項目に「省エネ仕様基準」と「郵送交付」を追加。 ＜中間検査＞ ・表②（各種加算）を追加。（「郵送交付」を追加。） ＜完了検査＞ ・加算項目に「軽微な変更」と「郵送交付」を追加。 | D13: ・軽微な変更の手数料徴収のタイミングを完了検査のみとした。（中間検査前に提出されたものの徴収もれがないよう運用にて工夫が必要。）
A14: 260401-01 | B14: 46042 | C14: ＜0-100㎡区分＞ ・基本手数料、特例調整基準額を改定 ＜完了検査＞ ・加算項目に「省エネ仕様基準追加審査」を追加

Sheet 一括算定表
A1: 令和８年４月１日改定版 | E1: Ver.260401-01
A2: 建築物 確認検査手数料算定シート（一括算定）
E3: （一財）福岡県建築住宅センター
A4: ★本シートは各申請の算定結果のみを示していますので、手数料の内訳は個別の算定シートにて ご確認ください。 ★次のものについては本シートでは算定できませんので個別の算定シートにてご確認ください。 ・新築以外 ・複数棟申請 ・計画変更申請 ・構造別棟計算 ・構造計算ルート２、ルート３ ・軽微な変更（構造規定又は省エネ仕様基準に係るものに限る）があるもの ・省エネ適判対象建築物において省エネ基準に関する軽微な変更（ルートB）が含まれるもの ・当センターに建設住宅性能評価を申請しているもの ・直前の手続き又は省エネ適判が他機関によるもの ・確認済証等の郵送交付
A5: ★下表の左列は確認申請書第４面の記載内容を入力ください。
A6: 項目 | C6: 内容 | D6: 項目 | E6: 内容
A7: 用途 | B7: 区分コード | C7: 08010 | D7: 省エネ仕様基準審査※１ | E7: なし | G7: 確認申請 | H7: 基本 | I7: =OFFSET(基本手数料等!$B$5,K11,K8) -> 50000 | K7: 分類OS | M7: Ａ | N7: 0 | P7: 0 | Q7: 0
B8: 具体的用途 | C8: =IF(C7<>"",VLOOKUP(C7,用途分類!$A$2:$D$74,3),"") -> 一戸建ての住宅 | D8: 消防同意 | E8: 不要 | G8: =SUM(I7:I15) -> 50000 | H8: 階数調整 | I8: =OFFSET(基本手数料等!$I$5,K11,K8)*K14 -> 0 | K8: =IFERROR(VLOOKUP(C9,$M$7:$N$12,2),0) -> 0 | M8: Ｂ | N8: 1 | P8: 100.001 | Q8: 1
B9: 分類 | C9: =IF(C7<>"",VLOOKUP(C7,用途分類!$A$2:$D$74,4),"") -> Ａ | D9: 天空率適用数 | E9: 0 | H9: 特例調整 | I9: =ROUNDDOWN(OFFSET(基本手数料等!$P$5,K11,K8)*K17,-3) -> 0 | M9: Ｃ | N9: 2 | P9: 200.001 | Q9: 2
A10: 工事種別 | C10: 新築 | D10: 構造計算（ルート１同等） | E10: なし | H10: 種別調整 | I10: =ROUNDDOWN(SUM(I7:I9)*K20,-3) -> 0 | K10: 床面積OS | M10: Ｄ | N10: 3 | P10: 500.001 | Q10: 3
A11: 階数 | B11: 地上 | C11: 2 | D11: 昇降機併願数 | E11: 0 | H11: 省エネ仕様基準 | I11: =IF(E7="あり（戸建住宅等）",基本手数料等!$B12,IF(E7="あり（共同住宅等）",基本手数料等!$B13,0)) -> 0 | K11: =IFERROR(VLOOKUP(C14,$P$7:$Q$11,2,TRUE),0) -> 1 | M11: Ｅ | N11: 4 | P11: 1000.001 | Q11: 4
B12: 地下 | C12: 0 | D12: 中間検査 | E12: あり（瑕疵保険なし） | H12: 消防同意 | I12: =IF(E8="要",基本手数料等!$B14,0) -> 0 | M12: Ｆ | N12: 5
A13: 特例（令10条区分） | C13: 非該当 | D13: 省エネ基準検査※２ | E13: あり | H13: 天空率 | I13: =E9*基本手数料等!$B15 -> 0 | K13: 階数調整
A14: 床面積（申請部分） | C14: 150 | H14: 構造計算 | I14: =IF(E10="あり",IF(AND((C11+C12)<=2,C14<=500),30000,50000),0) -> 0 | K14: =IF(OR(C13="１号",C13="２号",C11+C12<=2),0,1) -> 0
A15: ※１ 省エネ適判を受ける場合は「なし」を選択してください。（省エネ適判申請手数料は別途かかります。） | H15: 昇降機 | I15: =E11*基本手数料等!$B21 -> 0
A16: ※２ 仕様基準・省エネ適判の区別に関わらず、省エネ基準検査がある建築物は「あり」を選択してください。 | K16: 特例調整
B17: の欄をすべて入力すると手数料が表示されます。 | G17: 中間検査 | K17: =IFERROR(IF(C13="４号",IF(OR(C9="Ａ",C9="Ｂ"),基本手数料等!$K$17,基本手数料等!$J$17),VLOOKUP(C13,基本手数料等!$I$14:$J$18,2)),0) -> 0 | L17: =VLOOKUP(C13,基本手数料等!$I$37:$J$41,2) -> 0 | M17: =VLOOKUP(C13,基本手数料等!$I$56:$J$60,2) -> 0
G18: =IF(E12="なし",0,SUM(I18:I21)) -> 52000 | H18: 基本 | I18: =OFFSET(基本手数料等!$B$29,K11,K8) -> 52000
A19: 確認申請 | C19: =IF(COUNTBLANK(C7:C14)+COUNTBLANK(E7:E13)=0,G8,0) -> 50000 | H19: 階数調整 | I19: =OFFSET(基本手数料等!$I$29,K11,K8)*K14 -> 0 | K19: 種別調整
H20: 特例調整 | I20: =ROUNDDOWN(OFFSET(基本手数料等!$P$29,K11,K8)*L17,-3) -> 0 | K20: =IFERROR(VLOOKUP(C10,基本手数料等!$L$14:$M$16,2,FALSE),0) -> 0
A21: 中間検査 | C21: =IF(COUNTBLANK(C7:C14)+COUNTBLANK(E7:E13)=0,G18,0) -> 52000 | H21: 瑕疵保険 | I21: =IF(E12="あり（瑕疵保険付き）",基本手数料等!S38,0) -> 0
K22: 省エネ調整
A23: 完了検査 | C23: =IF(COUNTBLANK(C7:C14)+COUNTBLANK(E7:E13)=0,G24,0) -> 58000 | G23: 完了検査 | K23: =IF(E13="あり",基本手数料等!V57,0) -> 0.2
G24: =SUM(I24:I29) -> 58000 | H24: 基本 | I24: =OFFSET(基本手数料等!$B$48,K11,K8) -> 51000
A25: 合計 | C25: =SUM(C19:D24) -> 160000 | H25: 階数調整 | I25: =OFFSET(基本手数料等!$I$48,K11,K8)*K14 -> 0
H26: 特例調整 | I26: =ROUNDDOWN(OFFSET(基本手数料等!$P$48,K11,K8)*M17,-3) -> 0
H27: 中間有無 | I27: =IF(E12<>"なし",基本手数料等!P56,0) -> -2000
H28: 省エネ検査 | I28: =ROUNDDOWN(SUM(I24:I27)*K23,-3) -> 9000
H29: 昇降機 | I29: =E11*基本手数料等!$B$61 -> 0

Sheet 確認申請
A1: =一括算定表!A1 -> 令和８年４月１日改定版 | E1: =一括算定表!E1 -> Ver.260401-01
A2: 建築物 確認検査手数料算定シート（確認申請）
E3: （一財）福岡県建築住宅センター
A4: 表①：確認申請書第４面より | E4: ※４棟目以降は別途計算
A5: 項目 | C5: １棟目 | D5: ２棟目 | E5: ３棟目 | G5: 分類オフセット | K5: Ａ | L5: 0 | N5: 0 | O5: 0
A6: 用途 | B6: 区分コード | C6: 08010 | G6: =IFERROR(VLOOKUP(C8,$K$5:$L$10,2),0) -> 0 | H6: =IFERROR(VLOOKUP(D8,$K$5:$L$10,2),0) -> 0 | I6: =IFERROR(VLOOKUP(E8,$K$5:$L$10,2),0) -> 0 | K6: Ｂ | L6: 1 | N6: 100.001 | O6: 1
B7: 具体的用途 | C7: =IF(C6<>"",VLOOKUP(C6,用途分類!$A$2:$D$74,3),"") -> 一戸建ての住宅 | D7: =IF(D6<>"",VLOOKUP(D6,用途分類!$A$2:$D$74,3),"") | E7: =IF(E6<>"",VLOOKUP(E6,用途分類!$A$2:$D$74,3),"") | K7: Ｃ | L7: 2 | N7: 200.001 | O7: 2
B8: 分類 | C8: =IF(C6<>"",VLOOKUP(C6,用途分類!$A$2:$D$74,4),"") -> Ａ | D8: =IF(D6<>"",VLOOKUP(D6,用途分類!$A$2:$D$74,4),"") | E8: =IF(E6<>"",VLOOKUP(E6,用途分類!$A$2:$D$74,4),"") | G8: 床面積オフセット | K8: Ｄ | L8: 3 | N8: 500.001 | O8: 3
A9: 工事種別 | C9: 新築 | G9: =IFERROR(VLOOKUP(C13,$N$5:$O$9,2,TRUE),0) -> 1 | H9: =IFERROR(VLOOKUP(D13,$N$5:$O$9,2,TRUE),0) -> 0 | I9: =IFERROR(VLOOKUP(E13,$N$5:$O$9,2,TRUE),0) -> 0 | K9: Ｅ | L9: 4 | N9: 1000.001 | O9: 4
A10: 階数 | B10: 地上 | C10: 2 | K10: Ｆ | L10: 5
B11: 地下 | C11: 0 | G11: 階数調整
A12: 特例（令10条区分） | C12: 非該当 | G12: =IF(OR(C12="１号",C12="２号",C10+C11<=2),0,1) -> 0 | H12: =IF(OR(D12="１号",D12="２号",D10+D11<=2),0,1) -> 0 | I12: =IF(OR(E12="１号",E12="２号",E10+E11<=2),0,1) -> 0
A13: 床面積（申請部分）※１ | C13: 150
A14: 床面積（申請以外の部分） | C14: 0 | D14: 0 | E14: 0 | G14: 特例調整係数 α
C15: ⇓ | D15: ⇓ | E15: ⇓ | G15: =IFERROR(IF(C12="４号",IF(OR(C8="Ａ",C8="Ｂ"),基本手数料等!$K$17,基本手数料等!$J$17),VLOOKUP(C12,基本手数料等!$I$14:$J$18,2)),0) -> 0 | H15: =IFERROR(IF(D12="４号",IF(OR(D8="Ａ",D8="Ｂ"),基本手数料等!$K$17,基本手数料等!$J$17),VLOOKUP(D12,基本手数料等!$I$14:$J$18,2)),0) -> 0 | I15: =IFERROR(IF(E12="４号",IF(OR(E8="Ａ",E8="Ｂ"),基本手数料等!$K$17,基本手数料等!$J$17),VLOOKUP(E12,基本手数料等!$I$14:$J$18,2)),0) -> 0
A16: （Ａ）基本手数料 | C16: =IF(COUNTBLANK(C6:C14)=0,OFFSET(基本手数料等!$B$5,G9,G6),0) -> 50000 | D16: =IF(COUNTBLANK(D6:D13)=0,OFFSET(基本手数料等!$B$5,H9,H6),0) -> 0 | E16: =IF(COUNTBLANK(E6:E13)=0,OFFSET(基本手数料等!$B$5,I9,I6),0) -> 0
A17: （Ｂ）階数調整 | C17: =IF(COUNTBLANK(C6:C14)=0,OFFSET(基本手数料等!$I$5,G9,G6)*G12,0) -> 0 | D17: =IF(COUNTBLANK(D6:D13)=0,OFFSET(基本手数料等!$I$5,H9,H6)*H12,0) -> 0 | E17: =IF(COUNTBLANK(E6:E13)=0,OFFSET(基本手数料等!$I$5,I9,I6)*I12,0) -> 0 | F17: 階数３以上の場合に調整額加算 | G17: 工事種別調整係数 β | K17: 複数棟調整係数 γ
A18: （Ｃ）特例調整 | C18: =IF(COUNTBLANK(C6:C14)=0,ROUNDDOWN(OFFSET(基本手数料等!$P$5,G9,G6)*G15,-3),0) -> 0 | D18: =IF(COUNTBLANK(D6:D13)=0,ROUNDDOWN(OFFSET(基本手数料等!$P$5,H9,H6)*H15,-3),0) -> 0 | E18: =IF(COUNTBLANK(E6:E13)=0,ROUNDDOWN(OFFSET(基本手数料等!$P$5,I9,I6)*I15,-3),0) -> 0 | F18: 特例調整基準額 × α | G18: =IFERROR(VLOOKUP(C9,基本手数料等!$L$14:$M$16,2,FALSE),0) -> 0 | H18: =IFERROR(VLOOKUP(D9,基本手数料等!$L$14:$M$16,2,FALSE),0) -> 0 | I18: =IFERROR(VLOOKUP(E9,基本手数料等!$L$14:$M$16,2,FALSE),0) -> 0 | K18: =基本手数料等!$P$14 -> 0 | L18: =基本手数料等!$P$15 -> -0.5 | M18: =基本手数料等!$P$15 -> -0.5
A19: （Ｄ）工事種別調整 | C19: =G26 -> 0 | D19: =H26 -> 0 | E19: =I26 -> 0 | F19: 既存部分による算定額 × β | G19: 工事種別調整額
A20: （Ｅ）複数棟調整 | C20: =ROUNDDOWN(SUM(C16:C19)*K18,-3) -> 0 | D20: =ROUNDDOWN(SUM(D16:D19)*L18,-3) -> 0 | E20: =ROUNDDOWN(SUM(E16:E19)*M18,-3) -> 0 | F20: ｛（Ａ）～（Ｄ）の合計｝× γ | G20: =G6 -> 0 | H20: =H6 -> 0 | I20: =I6 -> 0 | J20: 分類オフセット
A21: 棟別手数料 | C21: =SUM(C16:C20) -> 50000 | D21: =SUM(D16:D20) -> 0 | E21: =SUM(E16:E20) -> 0 | F21: ※各項目において千円未満切り捨て | G21: =IFERROR(VLOOKUP(C14,$N$5:$O$9,2,TRUE),0) -> 0 | H21: =IFERROR(VLOOKUP(D14,$N$5:$O$9,2,TRUE),0) -> 0 | I21: =IFERROR(VLOOKUP(E14,$N$5:$O$9,2,TRUE),0) -> 0 | J21: 床面積オフセット
A22: 【１】小計 | C22: =SUM(C21:E21) -> 50000 | G22: =IF(COUNTBLANK(C6:C14)=0,OFFSET(基本手数料等!$B$5,G21,G20),0) -> 43000 | H22: =IF(COUNTBLANK(D6:D14)=0,OFFSET(基本手数料等!$B$5,H21,H20),0) -> 0 | I22: =IF(COUNTBLANK(E6:E14)=0,OFFSET(基本手数料等!$B$5,I21,I20),0) -> 0 | J22: 基本手数料
A23: ※１ 複数棟申請における注意事項 申請に係る附属建築物のうち次のものについては、主たる申請建築物（１棟目）の 床面積（申請部分）に附属建築物の床面積を合算して入力してください。（棟別の入力は不要です。） ・確認申請書第４面の作成を要しない附属建築物（10㎡以下） ・主たる申請建築物（１棟目）が住宅系（A類～C類）の場合における30㎡／棟以下の附属建築物 | G23: =IF(COUNTBLANK(C6:C14)=0,OFFSET(基本手数料等!$I$5,G21,G20)*G12,0) -> 0 | H23: =IF(COUNTBLANK(D6:D14)=0,OFFSET(基本手数料等!$I$5,H21,H20)*H12,0) -> 0 | I23: =IF(COUNTBLANK(E6:E14)=0,OFFSET(基本手数料等!$I$5,I21,I20)*I12,0) -> 0 | J23: 階数調整
G24: =IF(COUNTBLANK(C6:C14)=0,ROUNDDOWN(OFFSET(基本手数料等!$P$5,G21,G20)*G15,-3),0) -> 0 | H24: =IF(COUNTBLANK(D6:D14)=0,ROUNDDOWN(OFFSET(基本手数料等!$P$5,H21,H20)*H15,-3),0) -> 0 | I24: =IF(COUNTBLANK(E6:E14)=0,ROUNDDOWN(OFFSET(基本手数料等!$P$5,I21,I20)*I15,-3),0) -> 0 | J24: 特例調整
G25: =SUM(G22:G24) -> 43000 | H25: =SUM(H22:H24) -> 0 | I25: =SUM(I22:I24) -> 0 | J25: 基準額
A26: 表②：各種加算 | G26: =ROUNDDOWN(G25*G18,-3) -> 0 | H26: =ROUNDDOWN(H25*H18,-3) -> 0 | I26: =ROUNDDOWN(I25*I18,-3) -> 0 | J26: 調整額
A27: 項目 | C27: 内容 | E27: 加算額
D28: 対象数
A29: 省エネ基準審査（仕様基準） | C29: なし | E29: =IF(C29="あり（戸建住宅等）",基本手数料等!$B12,IF(C29="あり（共同住宅等）",基本手数料等!$B13,0))*D29 -> 0 | F29: （戸建等10,000円 or 共同等30,000円）×対象数
A30: 消防同意 | C30: 不要 | E30: =IF(C30="要",基本手数料等!$B14,0) -> 0 | F30: 「要」の場合は2,000円
A31: 天空率適用 | C31: なし | E31: =IF(C31="あり",D31*基本手数料等!$B15,0) -> 0 | F31: 10,000円×対象数
A32: 構造計算① | C32: なし | E32: =IF(C32="あり",D32*基本手数料等!$B16,0) -> 0 | F32: 30,000円×対象数
A33: 構造計算② | C33: なし | E33: =IF(C33="あり",D33*基本手数料等!$B17,0) -> 0 | F33: 50,000円×対象数
A34: 構造計算③ | C34: なし | E34: =IF(C34="あり",D34*基本手数料等!$B18,0) -> 0 | F34: 150,000円×対象数
A35: 構造計算④ | C35: なし | E35: =IF(C35="あり",D35*基本手数料等!$B19,0) -> 0 | F35: 180,000円×対象数
A36: 構造適判（整合確認） | C36: なし | E36: =IF(C36="あり",D36*基本手数料等!$B20,0) -> 0 | F36: 10,000円×対象数
A37: 昇降機併願申請 | C37: なし | E37: =IF(C37="あり",D37*基本手数料等!$B21,0) -> 0 | F37: 18,000円×対象数（≒単独22,000円×0.8）
A38: 確認済証の郵送交付 | C38: なし | E38: =IF(C38="あり",基本手数料等!$B22,0) -> 0 | F38: 「あり」の場合は2,000円
A39: その他
A40: 【２】小計 | C40: =SUM(E29:E39) -> 0
A41: ※構造計算 ①ルート２以外：階数２以下かつ500㎡以下 ②ルート２以外：階数３以上又は500㎡超 ③ルート２：500㎡以下 ④ルート２：500㎡超
A42: 合計 | C42: 【１】+【２】 | D42: =C22+C40 -> 50000

Sheet 計画変更
A1: =一括算定表!A1 -> 令和８年４月１日改定版 | E1: =一括算定表!E1 -> Ver.260401-01
A2: 建築物 確認検査手数料算定シート（計画変更）
E3: （一財）福岡県建築住宅センター
A4: ★直前の確認済証又は中間検査合格証の交付を当センター以外で受けているものについては、 「確認申請」シートでの算定となります。
A5: 表①：確認申請書第４面より（変更に係る建築物のみ） | E5: ※４棟目以降は別途計算
A6: 項目 | C6: １棟目 | D6: ２棟目 | E6: ３棟目 | G6: 分類オフセット | K6: Ａ | L6: 0 | N6: 0 | O6: 0
A7: 用途 | B7: 区分コード | C7: 08010 | G7: =IFERROR(VLOOKUP(C9,$K$6:$L$11,2),0) -> 0 | H7: =IFERROR(VLOOKUP(D9,$K$6:$L$11,2),0) -> 0 | I7: =IFERROR(VLOOKUP(E9,$K$6:$L$11,2),0) -> 0 | K7: Ｂ | L7: 1 | N7: 100.001 | O7: 1
B8: 具体的用途 | C8: =IF(C7<>"",VLOOKUP(C7,用途分類!$A$2:$D$74,3),"") -> 一戸建ての住宅 | D8: =IF(D7<>"",VLOOKUP(D7,用途分類!$A$2:$D$74,3),"") | E8: =IF(E7<>"",VLOOKUP(E7,用途分類!$A$2:$D$74,3),"") | K8: Ｃ | L8: 2 | N8: 200.001 | O8: 2
B9: 分類 | C9: =IF(C7<>"",VLOOKUP(C7,用途分類!$A$2:$D$74,4),"") -> Ａ | D9: =IF(D7<>"",VLOOKUP(D7,用途分類!$A$2:$D$74,4),"") | E9: =IF(E7<>"",VLOOKUP(E7,用途分類!$A$2:$D$74,4),"") | G9: 床面積オフセット | K9: Ｄ | L9: 3 | N9: 500.001 | O9: 3
A10: 工事種別 | C10: 新築 | G10: =IFERROR(VLOOKUP(C14,$N$6:$O$10,2,TRUE),0) -> 1 | H10: =IFERROR(VLOOKUP(D14,$N$6:$O$10,2,TRUE),0) -> 0 | I10: =IFERROR(VLOOKUP(E14,$N$6:$O$10,2,TRUE),0) -> 0 | K10: Ｅ | L10: 4 | N10: 1000.001 | O10: 4
A11: 階数 | B11: 地上 | C11: 2 | K11: Ｆ | L11: 5
B12: 地下 | C12: 0 | G12: 階数調整
A13: 特例（令10条区分） | C13: 非該当 | G13: =IF(OR(C13="１号",C13="２号",C11+C12<=2),0,1) -> 0 | H13: =IF(OR(D13="１号",D13="２号",D11+D12<=2),0,1) -> 0 | I13: =IF(OR(E13="１号",E13="２号",E11+E12<=2),0,1) -> 0
A14: 床面積（申請部分）※１ | C14: 150
A15: 床面積（申請以外の部分） | C15: 0 | D15: 0 | E15: 0 | G15: 特例調整係数 α
C16: ⇓ | D16: ⇓ | E16: ⇓ | G16: =IFERROR(IF(C13="４号",IF(OR(C9="Ａ",C9="Ｂ"),基本手数料等!$K$17,基本手数料等!$J$17),VLOOKUP(C13,基本手数料等!$I$14:$J$18,2)),0) -> 0 | H16: =IFERROR(IF(D13="４号",IF(OR(D9="Ａ",D9="Ｂ"),基本手数料等!$K$17,基本手数料等!$J$17),VLOOKUP(D13,基本手数料等!$I$14:$J$18,2)),0) -> 0 | I16: =IFERROR(IF(E13="４号",IF(OR(E9="Ａ",E9="Ｂ"),基本手数料等!$K$17,基本手数料等!$J$17),VLOOKUP(E13,基本手数料等!$I$14:$J$18,2)),0) -> 0
A17: （Ａ）基本手数料 | C17: =IF(COUNTBLANK(C7:C15)=0,OFFSET(基本手数料等!$B$5,G10,G7),0) -> 50000 | D17: =IF(COUNTBLANK(D7:D14)=0,OFFSET(基本手数料等!$B$5,H10,H7),0) -> 0 | E17: =IF(COUNTBLANK(E7:E14)=0,OFFSET(基本手数料等!$B$5,I10,I7),0) -> 0
A18: （Ｂ）階数調整 | C18: =IF(COUNTBLANK(C7:C15)=0,OFFSET(基本手数料等!$I$5,G10,G7)*G13,0) -> 0 | D18: =IF(COUNTBLANK(D7:D14)=0,OFFSET(基本手数料等!$I$5,H10,H7)*H13,0) -> 0 | E18: =IF(COUNTBLANK(E7:E14)=0,OFFSET(基本手数料等!$I$5,I10,I7)*I13,0) -> 0 | F18: 階数３以上の場合に調整額加算 | G18: 工事種別調整係数 β | K18: 複数棟調整係数 γ
A19: （Ｃ）特例調整 | C19: =IF(COUNTBLANK(C7:C15)=0,ROUNDDOWN(OFFSET(基本手数料等!$P$5,G10,G7)*G16,-3),0) -> 0 | D19: =IF(COUNTBLANK(D7:D14)=0,ROUNDDOWN(OFFSET(基本手数料等!$P$5,H10,H7)*H16,-3),0) -> 0 | E19: =IF(COUNTBLANK(E7:E14)=0,ROUNDDOWN(OFFSET(基本手数料等!$P$5,I10,I7)*I16,-3),0) -> 0 | F19: 特例調整基準額 × α | G19: =IFERROR(VLOOKUP(C10,基本手数料等!$L$14:$M$16,2,FALSE),0) -> 0 | H19: =IFERROR(VLOOKUP(D10,基本手数料等!$L$14:$M$16,2,FALSE),0) -> 0 | I19: =IFERROR(VLOOKUP(E10,基本手数料等!$L$14:$M$16,2,FALSE),0) -> 0 | K19: =基本手数料等!$P$14 -> 0 | L19: =基本手数料等!$P$15 -> -0.5 | M19: =基本手数料等!$P$15 -> -0.5
A20: （Ｄ）工事種別調整 | C20: =G27 -> 0 | D20: =H27 -> 0 | E20: =I27 -> 0 | F20: 既存部分による算定額 × β | G20: 工事種別調整額
A21: （Ｅ）複数棟調整 | C21: =ROUNDDOWN(SUM(C17:C20)*K19,-3) -> 0 | D21: =ROUNDDOWN(SUM(D17:D20)*L19,-3) -> 0 | E21: =ROUNDDOWN(SUM(E17:E20)*M19,-3) -> 0 | F21: ｛（Ａ）～（Ｄ）の合計｝× γ | G21: =G7 -> 0 | H21: =H7 -> 0 | I21: =I7 -> 0 | J21: 分類オフセット
A22: 棟別手数料 | C22: =SUM(C17:C21) -> 50000 | D22: =SUM(D17:D21) -> 0 | E22: =SUM(E17:E21) -> 0 | F22: ※各項目において千円未満切り捨て | G22: =IFERROR(VLOOKUP(C15,$N$6:$O$10,2,TRUE),0) -> 0 | H22: =IFERROR(VLOOKUP(D15,$N$6:$O$10,2,TRUE),0) -> 0 | I22: =IFERROR(VLOOKUP(E15,$N$6:$O$10,2,TRUE),0) -> 0 | J22: 床面積オフセット
A23: 【１】小計 | C23: =SUM(C22:E22) -> 50000 | G23: =IF(COUNTBLANK(C7:C15)=0,OFFSET(基本手数料等!$B$5,G22,G21),0) -> 43000 | H23: =IF(COUNTBLANK(D7:D15)=0,OFFSET(基本手数料等!$B$5,H22,H21),0) -> 0 | I23: =IF(COUNTBLANK(E7:E15)=0,OFFSET(基本手数料等!$B$5,I22,I21),0) -> 0 | J23: 基本手数料
G24: =IF(COUNTBLANK(C7:C15)=0,OFFSET(基本手数料等!$I$5,G22,G21)*G13,0) -> 0 | H24: =IF(COUNTBLANK(D7:D15)=0,OFFSET(基本手数料等!$I$5,H22,H21)*H13,0) -> 0 | I24: =IF(COUNTBLANK(E7:E15)=0,OFFSET(基本手数料等!$I$5,I22,I21)*I13,0) -> 0 | J24: 階数調整
A25: 表②：各種加算（計画変更申請において再度審査等が必要となるもののみ） | G25: =IF(COUNTBLANK(C7:C15)=0,ROUNDDOWN(OFFSET(基本手数料等!$P$5,G22,G21)*G16,-3),0) -> 0 | H25: =IF(COUNTBLANK(D7:D15)=0,ROUNDDOWN(OFFSET(基本手数料等!$P$5,H22,H21)*H16,-3),0) -> 0 | I25: =IF(COUNTBLANK(E7:E15)=0,ROUNDDOWN(OFFSET(基本手数料等!$P$5,I22,I21)*I16,-3),0) -> 0 | J25: 特例調整
A26: 項目 | C26: 内容 | E26: 加算額 | G26: =SUM(G23:G25) -> 43000 | H26: =SUM(H23:H25) -> 0 | I26: =SUM(I23:I25) -> 0 | J26: 基準額
D27: 対象数 | G27: =ROUNDDOWN(G26*G19,-3) -> 0 | H27: =ROUNDDOWN(H26*H19,-3) -> 0 | I27: =ROUNDDOWN(I26*I19,-3) -> 0 | J27: 調整額
A28: 省エネ基準審査（仕様基準） | C28: なし | E28: =IF(C28="あり（戸建住宅等）",基本手数料等!$B12,IF(C28="あり（共同住宅等）",基本手数料等!$B13,0))*D28 -> 0 | F28: （戸建等10,000円 or 共同等30,000円）×対象数
A29: 消防同意 | C29: 不要 | E29: =IF(C29="要",基本手数料等!$B14,0) -> 0 | F29: 「要」の場合は2,000円
A30: 天空率適用 | C30: なし | E30: =IF(C30="あり",D30*基本手数料等!$B15,0) -> 0 | F30: 10,000円×対象数
A31: 構造計算① | C31: なし | E31: =IF(C31="あり",D31*基本手数料等!$B16,0) -> 0 | F31: 30,000円×対象数
A32: 構造計算② | C32: なし | E32: =IF(C32="あり",D32*基本手数料等!$B17,0) -> 0 | F32: 50,000円×対象数
A33: 構造計算③ | C33: なし | E33: =IF(C33="あり",D33*基本手数料等!$B18,0) -> 0 | F33: 150,000円×対象数
A34: 構造計算④ | C34: なし | E34: =IF(C34="あり",D34*基本手数料等!$B19,0) -> 0 | F34: 180,000円×対象数
A35: 構造適判（整合確認） | C35: なし | E35: =IF(C35="あり",D35*基本手数料等!$B20,0) -> 0 | F35: 10,000円×対象数
A36: 昇降機併願申請 | C36: なし | E36: =IF(C36="あり",D36*基本手数料等!$B21,0) -> 0 | F36: 18,000円×対象数（≒単独22,000円×0.8）
A37: 確認済証の郵送交付 | C37: なし | E37: =IF(C37="あり",基本手数料等!$B22,0) -> 0 | F37: 「あり」の場合は2,000円
A38: その他
A39: 【２】小計 | C39: =SUM(E28:E38) -> 0
A40: ※構造計算 ①ルート２以外：階数２以下かつ500㎡以下 ②ルート２以外：階数３以上又は500㎡超 ③ルート２：500㎡以下 ④ルート２：500㎡超
A41: 表③：変更内容による掛率等
A42: 計画変更申請の内容（軽微な変更に該当するものを除く） | E42: 該当（いずれか１つ） | F42: 掛率 上限
A43: （１） | B43: 構造規定に関する変更を含む | F43: 0.7 70,000
A44: （２） | B44: 次の内容のみの変更 ・建築物の配置 ・敷地面積（直前の申請の5%以下の減少に限る。） ・浄化槽に関するもの（仕様の変更･汲み取りからの変更等） | F44: 0.5 20,000
A45: （３） | B45: （１）及び（２）に該当しない変更 | F45: 0.6 50.000
A46: 【３】掛率 | C46: =IF(E43="○",基本手数料等!T14,IF(E45="○",基本手数料等!T16,IF(E44="○",基本手数料等!T15,"0"))) -> 0 | D46: 【４】上限 | E46: =IF(E43="○",基本手数料等!U14,IF(E45="○",基本手数料等!U16,IF(E44="○",基本手数料等!U15,0))) -> 0
A48: 合計 | C48: （【１】+【２】）×【３】 と 【４】 の少ない方 | D48: =IFERROR(MIN(ROUNDDOWN((C23+C39)*C46,-3),E46),"") -> 0 | F48: （【１】+【２】）×【３】 と 【４】 の少ない方
F49: ↑ 千円未満切り捨て

Sheet 中間検査
A1: =一括算定表!A1 -> 令和８年４月１日改定版 | E1: =一括算定表!E1 -> Ver.260401-01
A2: 建築物 確認検査手数料算定シート（中間検査）
E3: （一財）福岡県建築住宅センター
A5: 表①：確認申請書第４面より（検査対象建築物のみ） | E5: ※４棟目以降は別途計算
A6: 項目 | C6: １棟目 | D6: ２棟目 | E6: ３棟目
A7: 用途 | B7: 区分コード | C7: 08010 | G7: 手数料分類オフセット | K7: Ａ | L7: 0 | N7: 0 | O7: 0
B8: 具体的用途 | C8: =IF(C7<>"",VLOOKUP(C7,用途分類!$A$2:$D$74,3),"") -> 一戸建ての住宅 | D8: =IF(D7<>"",VLOOKUP(D7,用途分類!$A$2:$D$74,3),"") | E8: =IF(E7<>"",VLOOKUP(E7,用途分類!$A$2:$D$74,3),"") | G8: =IFERROR(VLOOKUP(C9,$K$7:$L$12,2),0) -> 0 | H8: =IFERROR(VLOOKUP(D9,$K$7:$L$12,2),0) -> 0 | I8: =IFERROR(VLOOKUP(E9,$K$7:$L$12,2),0) -> 0 | K8: Ｂ | L8: 1 | N8: 100.001 | O8: 1
B9: 分類 | C9: =IF(C7<>"",VLOOKUP(C7,用途分類!$A$2:$D$74,4),"") -> Ａ | D9: =IF(D7<>"",VLOOKUP(D7,用途分類!$A$2:$D$74,4),"") | E9: =IF(E7<>"",VLOOKUP(E7,用途分類!$A$2:$D$74,4),"") | K9: Ｃ | L9: 2 | N9: 200.001 | O9: 2
A10: 階数 | B10: 地上 | C10: 2 | G10: 床面積オフセット | K10: Ｄ | L10: 3 | N10: 500.001 | O10: 3
B11: 地下 | C11: 0 | G11: =IFERROR(VLOOKUP(C13,$N$7:$O$11,2,TRUE),0) -> 1 | H11: =IFERROR(VLOOKUP(D13,$N$7:$O$11,2,TRUE),0) -> 0 | I11: =IFERROR(VLOOKUP(E13,$N$7:$O$11,2,TRUE),0) -> 0 | K11: Ｅ | L11: 4 | N11: 1000.001 | O11: 4
A12: 特例（令10条区分） | C12: 非該当 | K12: Ｆ | L12: 5
A13: 床面積（申請部分） | C13: 150 | G13: 階数調整
A14: 瑕疵保険同時検査 | C14: なし | G14: =IF(OR(C12="１号",C12="２号",C10+C11<=2),0,1) -> 0 | H14: =IF(OR(D12="１号",D12="２号",D10+D11<=2),0,1) -> 0 | I14: =IF(OR(E12="１号",E12="２号",E10+E11<=2),0,1) -> 0
A15: 直前申請 | C15: 当センター
C16: ⇓ | D16: ⇓ | E16: ⇓ | G16: 特例調整係数 α
A17: （Ａ）基本手数料 | C17: =IF(COUNTBLANK(C7:C15)=0,OFFSET(基本手数料等!$B$29,G11,G8),0) -> 52000 | D17: =IF(COUNTBLANK(D7:D15)=0,OFFSET(基本手数料等!$B$29,H11,H8),0) -> 0 | E17: =IF(COUNTBLANK(E7:E15)=0,OFFSET(基本手数料等!$B$29,I11,I8),0) -> 0 | G17: =IFERROR(VLOOKUP(C12,基本手数料等!$I$37:$J$41,2),0) -> 0 | H17: =IFERROR(VLOOKUP(D12,基本手数料等!$I$37:$J$41,2),0) -> 0 | I17: =IFERROR(VLOOKUP(E12,基本手数料等!$I$37:$J$41,2),0) -> 0
A18: （Ｂ）階数調整 | C18: =IF(COUNTBLANK(C7:C15)=0,OFFSET(基本手数料等!$I$29,G11,G8)*G14,0) -> 0 | D18: =IF(COUNTBLANK(D7:D15)=0,OFFSET(基本手数料等!$I$29,H11,H8)*H14,0) -> 0 | E18: =IF(COUNTBLANK(E7:E15)=0,OFFSET(基本手数料等!$I$29,I11,I8)*I14,0) -> 0 | F18: 階数３以上の場合に調整額加算
A19: （Ｃ）特例調整 | C19: =IF(COUNTBLANK(C7:C15)=0,ROUNDDOWN(OFFSET(基本手数料等!$P$29,G11,G8)*G17,-3),0) -> 0 | D19: =IF(COUNTBLANK(D7:D15)=0,ROUNDDOWN(OFFSET(基本手数料等!$P$29,H11,H8)*H17,-3),0) -> 0 | E19: =IF(COUNTBLANK(E7:E15)=0,ROUNDDOWN(OFFSET(基本手数料等!$P$29,I11,I8)*I17,-3),0) -> 0 | F19: 特例調整基準額 × α | G19: 複数棟調整係数 β
A20: （Ｄ）複数棟調整 | C20: =ROUNDDOWN(SUM(C17:C19)*G20,-3) -> 0 | D20: =ROUNDDOWN(SUM(D17:D19)*H20,-3) -> 0 | E20: =ROUNDDOWN(SUM(E17:E19)*I20,-3) -> 0 | F20: ｛（Ａ）～（Ｃ）の合計｝× β | G20: =基本手数料等!$M$37 -> 0 | H20: =基本手数料等!$M$38 -> -0.5 | I20: =基本手数料等!$M$38 -> -0.5
A21: （Ｅ）他機関物件調整 | C21: =ROUNDDOWN(SUM(C17:C20)*G23,-3) -> 0 | D21: =ROUNDDOWN(SUM(D17:D20)*H23,-3) -> 0 | E21: =ROUNDDOWN(SUM(E17:E20)*I23,-3) -> 0 | F21: ｛（Ａ）～（Ｄ）の合計｝× γ
A22: （Ｆ）瑕疵保険調整 | C22: =IF(COUNTBLANK(C7:C15)=0,G26,0) -> 0 | D22: =IF(COUNTBLANK(D7:D15)=0,H26,0) -> 0 | E22: =IF(COUNTBLANK(E7:E15)=0,I26,0) -> 0 | F22: 同時検査の場合に調整額減算 | G22: 他機関調整係数 γ
A23: 棟別手数料 | C23: =SUM(C17:C22) -> 52000 | D23: =SUM(D17:D22) -> 0 | E23: =SUM(E17:E22) -> 0 | F23: ※各項目において千円未満切り捨て | G23: =IFERROR(VLOOKUP(C15,基本手数料等!$O$37:$P$38,2,FALSE),0) -> 0 | H23: =IFERROR(VLOOKUP(D15,基本手数料等!$O$37:$P$38,2,FALSE),0) -> 0 | I23: =IFERROR(VLOOKUP(E15,基本手数料等!$O$37:$P$38,2,FALSE),0) -> 0
A24: 【１】小計 | C24: =SUM(C23:E23) -> 52000
G25: 瑕疵保険調整額
A26: 表②：各種加算 | G26: =IFERROR(VLOOKUP(C14,基本手数料等!$R$37:$S$38,2,FALSE),0) -> 0 | H26: =IFERROR(VLOOKUP(D14,基本手数料等!$R$37:$S$38,2,FALSE),0) -> 0 | I26: =IFERROR(VLOOKUP(E14,基本手数料等!$R$37:$S$38,2,FALSE),0) -> 0
A27: 項目 | C27: 内容 | E27: 加算額
D28: 対象数
A29: 中間検査合格証の郵送交付 | C29: なし | E29: =IF(C29="あり",基本手数料等!$B36,0) -> 0 | F29: 「あり」の場合は2,000円
A30: その他
A31: 【２】小計 | C31: =SUM(E29:E30) -> 0
A33: 合計 | C33: 【１】+【２】 | D33: =C24+C31 -> 52000
A34: ※新法（令和７年４月１日施行）適用に係る追加審査が必要な場合は、上記金額に「計画変更申請手数料」に
A35: 相当する額の加算がありますのでご注意ください。
A37: ★建設住宅性能評価併願申請の場合（直前申請が当センターの場合に限ります。）は次の手数料になります。 | G37: 建設評価による減免
A38: 棟別手数料 | C38: =G39 -> 26000 | D38: =H39 -> 0 | E38: =I39 -> 0 | G38: =IF(OR(C9="Ａ",C9="Ｂ",C9="Ｃ"),0.5,1) -> 0.5 | H38: =IF(OR(D9="Ａ",D9="Ｂ",D9="Ｃ"),0.5,1) -> 1 | I38: =IF(OR(E9="Ａ",E9="Ｂ",E9="Ｃ"),0.5,1) -> 1
A39: 加算額 | C39: =C31 -> 0 | G39: =ROUNDDOWN(C23*G38,-3) -> 26000 | H39: =ROUNDDOWN(D23*H38,-3) -> 0 | I39: =ROUNDDOWN(E23*I38,-3) -> 0
A40: 合計 | C40: =SUM(C38:E38)+C39 -> 26000

Sheet 完了検査
A1: =一括算定表!A1 -> 令和８年４月１日改定版 | E1: =一括算定表!E1 -> Ver.260401-01
A2: 建築物 確認検査手数料算定シート（完了検査）
E3: （一財）福岡県建築住宅センター
A4: 表①：確認申請書第４面より | E4: ※４棟目以降は別途計算
A5: 項目 | C5: １棟目 | D5: ２棟目 | E5: ３棟目
A6: 用途 | B6: 区分コード | C6: 08010 | G6: 手数料分類オフセット | K6: Ａ | L6: 0 | N6: 0 | O6: 0
B7: 具体的用途 | C7: =IF(C6<>"",VLOOKUP(C6,用途分類!$A$2:$D$74,3),"") -> 一戸建ての住宅 | D7: =IF(D6<>"",VLOOKUP(D6,用途分類!$A$2:$D$74,3),"") | E7: =IF(E6<>"",VLOOKUP(E6,用途分類!$A$2:$D$74,3),"") | G7: =IFERROR(VLOOKUP(C8,$K$6:$L$11,2),0) -> 0 | H7: =IFERROR(VLOOKUP(D8,$K$6:$L$11,2),0) -> 0 | I7: =IFERROR(VLOOKUP(E8,$K$6:$L$11,2),0) -> 0 | K7: Ｂ | L7: 1 | N7: 100.001 | O7: 1
B8: 分類 | C8: =IF(C6<>"",VLOOKUP(C6,用途分類!$A$2:$D$74,4),"") -> Ａ | D8: =IF(D6<>"",VLOOKUP(D6,用途分類!$A$2:$D$74,4),"") | E8: =IF(E6<>"",VLOOKUP(E6,用途分類!$A$2:$D$74,4),"") | K8: Ｃ | L8: 2 | N8: 200.001 | O8: 2
A9: 階数 | B9: 地上 | C9: 2 | G9: 床面積オフセット | K9: Ｄ | L9: 3 | N9: 500.001 | O9: 3
B10: 地下 | C10: 0 | G10: =IFERROR(VLOOKUP(C12,$N$6:$O$10,2,TRUE),0) -> 1 | H10: =IFERROR(VLOOKUP(D12,$N$6:$O$10,2,TRUE),0) -> 0 | I10: =IFERROR(VLOOKUP(E12,$N$6:$O$10,2,TRUE),0) -> 0 | K10: Ｅ | L10: 4 | N10: 1000.001 | O10: 4
A11: 特例（令10条区分） | C11: 非該当 | K11: Ｆ | L11: 5
A12: 床面積（申請部分）※１ | C12: 150 | G12: 階数調整
A13: 中間検査 | C13: 済 | G13: =IF(OR(C11="１号",C11="２号",C9+C10<=2),0,1) -> 0 | H13: =IF(OR(D11="１号",D11="２号",D9+D10<=2),0,1) -> 0 | I13: =IF(OR(E11="１号",E11="２号",E9+E10<=2),0,1) -> 0
A14: 省エネ基準検査 | C14: あり
A15: 直前申請 | C15: 当センター | G15: 特例調整係数 α
C16: ⇓ | D16: ⇓ | E16: ⇓ | G16: =IFERROR(VLOOKUP(C11,基本手数料等!$I$56:$J$60,2),0) -> 0 | H16: =IFERROR(VLOOKUP(D11,基本手数料等!$I$56:$J$60,2),0) -> 0 | I16: =IFERROR(VLOOKUP(E11,基本手数料等!$I$56:$J$60,2),0) -> 0
A17: （Ａ）基本手数料 | C17: =IF(COUNTBLANK(C6:C15)=0,OFFSET(基本手数料等!$B$48,G10,G7),0) -> 51000 | D17: =IF(COUNTBLANK(D6:D15)=0,OFFSET(基本手数料等!$B$48,H10,H7),0) -> 0 | E17: =IF(COUNTBLANK(E6:E15)=0,OFFSET(基本手数料等!$B$48,I10,I7),0) -> 0
A18: （Ｂ）階数調整 | C18: =IF(COUNTBLANK(C6:C15)=0,OFFSET(基本手数料等!$I$48,G10,G7)*G13,0) -> 0 | D18: =IF(COUNTBLANK(D6:D15)=0,OFFSET(基本手数料等!$I$48,H10,H7)*H13,0) -> 0 | E18: =IF(COUNTBLANK(E6:E15)=0,OFFSET(基本手数料等!$I$48,I10,I7)*I13,0) -> 0 | F18: 階数３以上の場合に調整額加算 | G18: 中間検査調整額
A19: （Ｃ）特例調整 | C19: =IF(COUNTBLANK(C6:C15)=0,ROUNDDOWN(OFFSET(基本手数料等!$P$48,G10,G7)*G16,-3),0) -> 0 | D19: =IF(COUNTBLANK(D6:D15)=0,ROUNDDOWN(OFFSET(基本手数料等!$P$48,H10,H7)*H16,-3),0) -> 0 | E19: =IF(COUNTBLANK(E6:E15)=0,ROUNDDOWN(OFFSET(基本手数料等!$P$48,I10,I7)*I16,-3),0) -> 0 | F19: 特例調整基準額 × α | G19: =IFERROR(VLOOKUP(C13,基本手数料等!$O$56:$P$57,2,FALSE),0) -> -2000 | H19: =IFERROR(VLOOKUP(D13,基本手数料等!$O$56:$P$57,2,FALSE),0) -> 0 | I19: =IFERROR(VLOOKUP(E13,基本手数料等!$O$56:$P$57,2,FALSE),0) -> 0
A20: （Ｄ）中間検査調整 | C20: =IF(COUNTBLANK(C6:C15)=0,G19,0) -> -2000 | D20: =IF(COUNTBLANK(D6:D15)=0,H19,0) -> 0 | E20: =IF(COUNTBLANK(E6:E15)=0,I19,0) -> 0 | F20: 中間済みの場合に調整額減算
A21: （Ｅ）複数棟調整 | C21: =ROUNDDOWN(SUM(C17:C20)*G22,-3) -> 0 | D21: =ROUNDDOWN(SUM(D17:D20)*H22,-3) -> 0 | E21: =ROUNDDOWN(SUM(E17:E20)*I22,-3) -> 0 | F21: ｛（Ａ）～（Ｄ）の合計｝× β | G21: 複数棟調整係数 β
A22: （Ｆ）他機関物件調整 | C22: =ROUNDDOWN(SUM(C17:C21)*G25,-3) -> 0 | D22: =ROUNDDOWN(SUM(D17:D21)*H25,-3) -> 0 | E22: =ROUNDDOWN(SUM(E17:E21)*I25,-3) -> 0 | F22: ｛（Ａ）～（Ｅ）の合計｝× γ | G22: =基本手数料等!$M$56 -> 0 | H22: =基本手数料等!$M$57 -> -0.5 | I22: =基本手数料等!$M$57 -> -0.5
A23: （Ｇ）省エネ調整 | C23: =ROUNDDOWN(SUM(C17:C22)*G28,-3) -> 9000 | D23: =ROUNDDOWN(SUM(D17:D22)*H28,-3) -> 0 | E23: =ROUNDDOWN(SUM(E17:E22)*I28,-3) -> 0 | F23: ｛（Ａ）～（Ｆ）の合計｝× δ
A24: 棟別手数料 | C24: =SUM(C17:C23) -> 58000 | D24: =SUM(D17:D23) -> 0 | E24: =SUM(E17:E23) -> 0 | F24: ※各項目において千円未満切り捨て | G24: 他機関調整係数 γ
A25: 【１】小計 | C25: =SUM(C24:E24) -> 58000 | G25: =IFERROR(VLOOKUP(C15,基本手数料等!$R$56:$S$57,2,FALSE),0) -> 0 | H25: =IFERROR(VLOOKUP(D15,基本手数料等!$R$56:$S$57,2,FALSE),0) -> 0 | I25: =IFERROR(VLOOKUP(E15,基本手数料等!$R$56:$S$57,2,FALSE),0) -> 0
A26: ※１ 複数棟申請における注意事項 申請に係る附属建築物のうち次のものについては、主たる申請建築物（１棟目）の 床面積（申請部分）に附属建築物の床面積を合算して入力してください。（棟別の入力は不要です。） ・確認申請書第４面の作成を要しない附属建築物（10㎡以下） ・主たる申請建築物（１棟目）が住宅系（A類～C類）の場合における30㎡／棟以下の附属建築物
G27: 省エネ調整係数 δ
G28: =IFERROR(VLOOKUP(C14,基本手数料等!$U$56:$V$60,2,FALSE),0) -> 0.2 | H28: =IFERROR(VLOOKUP(D14,基本手数料等!$U$56:$V$60,2,FALSE),0) -> 0 | I28: =IFERROR(VLOOKUP(E14,基本手数料等!$U$56:$V$60,2,FALSE),0) -> 0
A29: 表②：各種加算
A30: 項目 | C30: 内容 | E30: 加算額
D31: 対象数
A32: 軽微な変更（構造規定） | C32: なし | E32: =IF(C32="あり",基本手数料等!$B55,IF(C32="あり（構造計算書あり）",基本手数料等!$B56,0)) -> 0 | F32: （基本3,000円 or 計算付き15,000円）
A33: 軽微な変更（省エネ仕様基準） | C33: なし | E33: =IF(C33="あり",基本手数料等!$B57,0) -> 0 | F33: 「あり」の場合は3,000円
A34: 省エネ仕様基準追加審査 | C34: なし | E34: =IF(C34="あり（戸建住宅等）",基本手数料等!$B58,IF(C34="あり（共同住宅等）",基本手数料等!$B59,0))*D34 -> 0 | F34: （戸建等10,000円 or 共同等30,000円）×対象数
A35: 検査済証の郵送交付 | C35: なし | E35: =IF(C35="あり",基本手数料等!$B60,0) -> 0 | F35: 「あり」の場合は2,000円
A36: 昇降機併願申請 | C36: なし | E36: =IF(C36="あり",D36*基本手数料等!$B$61,0) -> 0 | F36: 22,000円×対象数（≒単独27,000円×0.8）
A37: その他
A38: 【２】小計 | C38: =SUM(E32:E37) -> 0
A40: 合計 | C40: 【１】+【２】 | D40: =C25+C38 -> 58000
A41: ※新法（令和７年４月１日施行）適用に係る追加審査が必要な場合は、上記金額に「計画変更申請手数料」に
A42: 相当する額の加算がありますのでご注意ください。（中間検査時に追加審査を実施している場合を除きます。）
A43: ★建設住宅性能評価併願申請の場合（直前申請が当センターの場合に限ります。）は次の手数料になります。
A44: 棟別手数料 | C44: =G46 -> 29000 | D44: =H46 -> 0 | E44: =I46 -> 0 | G44: 建設評価による減免
A45: 加算額 | C45: =C38 -> 0 | G45: =IF(OR(C8="Ａ",C8="Ｂ",C8="Ｃ"),0.5,1) -> 0.5 | H45: =IF(OR(D8="Ａ",D8="Ｂ",D8="Ｃ"),0.5,1) -> 1 | I45: =IF(OR(E8="Ａ",E8="Ｂ",E8="Ｃ"),0.5,1) -> 1
A46: 合計 | C46: =SUM(C44:E44)+C45 -> 29000 | G46: =ROUNDDOWN(C24*G45,-3) -> 29000 | H46: =ROUNDDOWN(D24*H45,-3) -> 0 | I46: =ROUNDDOWN(E24*I45,-3) -> 0

Sheet 用途分類
A1: 用途区分コード | B1: 具体的用途 | C1: 表示用 | D1: 手数料分類
A2: 08010 | B2: 一戸建ての住宅 | C2: 一戸建ての住宅 | D2: Ａ | F2: Ａ | G2: 住宅系①（戸建住宅･兼用住宅）
A3: 08020 | B3: 長屋 | C3: 長屋 | D3: Ｂ | F3: Ｂ | G3: 住宅系②（長屋）
A4: 08030 | B4: 共同住宅 | C4: 共同住宅 | D4: Ｃ | F4: Ｃ | G4: 住宅系③（共同住宅･寄宿舎･下宿）
A5: 08040 | B5: 寄宿舎 | C5: 寄宿舎 | D5: Ｃ | F5: Ｄ | G5: 車庫・倉庫系
A6: 08050 | B6: 下宿 | C6: 下宿 | D6: Ｃ | F6: Ｅ | G6: その他非住宅系①（主に法別表第１に該当しないもの）
A7: 08060 | B7: 住宅で事務所、店舗その他これらに類する用途を兼ねるもの | C7: 兼用住宅 | D7: Ａ | F7: Ｆ | G7: その他非住宅系②（主に法別表第１に該当するもの）
A8: 08070 | B8: 幼稚園 | C8: 幼稚園 | D8: Ｆ
A9: 08080 | B9: 小学校 | C9: 小学校 | D9: Ｆ
A10: 08082 | B10: 義務教育学校 | C10: 義務教育学校 | D10: Ｆ
A11: 08090 | B11: 中学校、高等学校又は中等教育学校 | C11: 中学・高校等 | D11: Ｆ
A12: 08100 | B12: 特別支援学校 | C12: 特別支援学校 | D12: Ｆ
A13: 08110 | B13: 大学又は高等専門学校 | C13: 大学又は高専 | D13: Ｆ
A14: 08120 | B14: 専修学校 | C14: 専修学校 | D14: Ｆ
A15: 08130 | B15: 各種学校 | C15: 各種学校 | D15: Ｆ
A16: 08132 | B16: 幼保連携型認定こども園 | C16: 幼保連携型認定こども園 | D16: Ｆ
A17: 08140 | B17: 図書館その他これに類するもの | C17: 図書館等 | D17: Ｆ
A18: 08150 | B18: 博物館その他これに類するもの | C18: 博物館等 | D18: Ｆ
A19: 08152 | B19: 美術館その他これに類するもの | C19: 美術館等 | D19: Ｆ
... A74: 08990 | B74: その他 | C74: その他 | D74: Ｆ

Sheet 基本手数料等
A1: 確認申請
A3: 基本手数料 | I3: 階数調整額 | P3: 特例調整基準額
A4: 申請床面積（㎡） | B4: Ａ類 | C4: Ｂ類 | D4: Ｃ類 | E4: Ｄ類 | F4: Ｅ類 | G4: Ｆ類 | I4: Ａ類 | J4: Ｂ類 | K4: Ｃ類 | L4: Ｄ類 | M4: Ｅ類 | N4: Ｆ類 | P4: Ａ類 | Q4: Ｂ類 | R4: Ｃ類 | S4: Ｄ類 | T4: Ｅ類 | U4: Ｆ類
A5: 0 ～ 100 以下 | B5: 43000 | C5: 44000 | D5: 51000 | E5: 36000 | F5: 48000 | G5: 54000 | I5: 21000 | J5: 22000 | K5: 24000 | L5: 15000 | M5: 22000 | N5: 26000 | P5: 24000 | Q5: 25000 | R5: 28000 | S5: 20000 | T5: 24000 | U5: 30000
A6: 100超～ 200 以下 | B6: 50000 | C6: 52000 | D6: 60000 | E6: 42000 | F6: 56000 | G6: 63000 | I6: 22000 | J6: 24000 | K6: 27000 | L6: 21000 | M6: 25000 | N6: 31000 | P6: 30000 | Q6: 32000 | R6: 36000 | S6: 25000 | T6: 31000 | U6: 38000
A7: 200超～ 500 以下 | B7: 67000 | C7: 69000 | D7: 73000 | E7: 51000 | F7: 72000 | G7: 76000 | I7: 30000 | J7: 32000 | K7: 36000 | L7: 25000 | M7: 33000 | N7: 39000 | P7: 40000 | Q7: 42000 | R7: 44000 | S7: 31000 | T7: 41000 | U7: 46000
A8: 500超～1,000 以下 | B8: 89000 | C8: 93000 | D8: 106000 | E8: 74000 | F8: 95000 | G8: 111000 | I8: 44000 | J8: 46000 | K8: 52000 | L8: 37000 | M8: 47000 | N8: 55000 | P8: 40000 | Q8: 42000 | R8: 44000 | S8: 31000 | T8: 41000 | U8: 46000
A9: 1,000超～2,000 以下 | B9: 126000 | C9: 132000 | D9: 151000 | E9: 105000 | F9: 135000 | G9: 158000 | I9: 63000 | J9: 66000 | K9: 73000 | L9: 52000 | M9: 70000 | N9: 79000 | P9: 40000 | Q9: 42000 | R9: 44000 | S9: 31000 | T9: 41000 | U9: 46000
A11: 各種加算（単価）
A12: 省エネ基準審査（戸建） | B12: 10000 | I12: 特例調整係数 | L12: 工事種別調整係数 | O12: 複数棟調整係数 | R12: 計画変更調整
A13: 省エネ基準審査（共同） | B13: 30000 | I13: 令10条区分 | J13: α | L13: 種別 | M13: β | O13: 棟数 | P13: γ | R13: 内容 | T13: 掛率 | U13: 上限
A14: 消防同意 | B14: 2000 | C14: ルート２以外：階数２以下かつ500㎡以下 | I14: １号 | J14: -1 | L14: 新築 | M14: 0 | O14: １棟目 | P14: 0 | R14: （１）構造含む | T14: 0.7 | U14: 70000
A15: 天空率適用 | B15: 10000 | C15: ルート２以外：階数３以上又は500㎡超 | I15: ２号 | J15: -1 | L15: 増築 | M15: 0.2 | O15: 2棟目以降 | P15: -0.5 | R15: （２）小規模変更 | T15: 0.5 | U15: 20000
A16: 構造計算① | B16: 30000 | C16: ルート２：500㎡以下 | I16: ３号 | J16: -0.75 | L16: その他 | M16: 0 | R16: （３）その他 | T16: 0.6 | U16: 50000
A17: 構造計算② | B17: 50000 | C17: ルート２：500㎡超 | I17: ４号 | J17: -0.5 | K17: -0.7
A18: 構造計算③ | B18: 150000 | I18: 非該当 | J18: 0 | K18: ↑A類・B類
A19: 構造計算④ | B19: 180000
A20: 構造適判（整合確認） | B20: 10000
A21: 昇降機併願申請 | B21: 18000
A22: 郵送交付 | B22: 2000
A25: 中間検査
A27: 基本手数料 | I27: 階数調整額 | P27: 特例調整基準額
A28: 申請床面積（㎡） | B28: Ａ類 | C28: Ｂ類 | D28: Ｃ類 | E28: Ｄ類 | F28: Ｅ類 | G28: Ｆ類 | I28: Ａ類 | J28: Ｂ類 | K28: Ｃ類 | L28: Ｄ類 | M28: Ｅ類 | N28: Ｆ類 | P28: Ａ類 | Q28: Ｂ類 | R28: Ｃ類 | S28: Ｄ類 | T28: Ｅ類 | U28: Ｆ類
A29: 0 ～ 100 以下 | B29: 44000 | C29: 46000 | D29: 49000 | E29: 49000 | F29: 49000 | G29: 49000 | I29: 9000 | J29: 11000 | K29: 14000 | L29: 14000 | M29: 14000 | N29: 14000 | P29: 25000 | Q29: 25000 | R29: 25000 | S29: 25000 | T29: 25000 | U29: 25000
A30: 100超～ 200 以下 | B30: 52000 | C30: 54000 | D30: 58000 | E30: 58000 | F30: 58000 | G30: 58000 | I30: 13000 | J30: 14000 | K30: 16000 | L30: 16000 | M30: 16000 | N30: 16000 | P30: 32000 | Q30: 32000 | R30: 32000 | S30: 32000 | T30: 32000 | U30: 32000
A31: 200超～ 500 以下 | B31: 79000 | C31: 81000 | D31: 82000 | E31: 82000 | F31: 82000 | G31: 82000 | I31: 15000 | J31: 16000 | K31: 17000 | L31: 17000 | M31: 17000 | N31: 17000 | P31: 48000 | Q31: 48000 | R31: 48000 | S31: 48000 | T31: 48000 | U31: 48000
A32: 500超～1,000 以下 | B32: 129000 | C32: 131000 | D32: 133000 | E32: 133000 | F32: 133000 | G32: 133000 | I32: 24000 | J32: 25000 | K32: 26000 | L32: 26000 | M32: 26000 | N32: 26000 | P32: 48000 | Q32: 48000 | R32: 48000 | S32: 48000 | T32: 48000 | U32: 48000
A33: 1,000超～2,000 以下 | B33: 165000 | C33: 167000 | D33: 169000 | E33: 169000 | F33: 169000 | G33: 169000 | I33: 31000 | J33: 32000 | K33: 33000 | L33: 33000 | M33: 33000 | N33: 33000 | P33: 48000 | Q33: 48000 | R33: 48000 | S33: 48000 | T33: 48000 | U33: 48000
A35: 各種加算（単価） | I35: 特例調整係数 | L35: 複数棟調整係数 | O35: 他機関調整係数 | R35: 瑕疵保険調整額
A36: 郵送交付 | B36: 2000 | I36: 令10条区分 | J36: α | L36: 棟数 | M36: β | O36: 直前手続 | P36: γ | R36: 同時検査
I37: １号 | J37: -1 | L37: １棟目 | M37: 0 | O37: 当センター | P37: 0 | R37: なし | S37: 0
I38: ２号 | J38: -1 | L38: 2棟目以降 | M38: -0.5 | O38: 他機関 | P38: 0.5 | R38: あり | S38: -3000
I39: ３号 | J39: -0.85
I40: ４号 | J40: -0.85
I41: 非該当 | J41: 0
A44: 完了検査
A46: 基本手数料 | I46: 階数調整額 | P46: 特例調整基準額
A47: 申請床面積（㎡） | B47: Ａ類 | C47: Ｂ類 | D47: Ｃ類 | E47: Ｄ類 | F47: Ｅ類 | G47: Ｆ類 | I47: Ａ類 | J47: Ｂ類 | K47: Ｃ類 | L47: Ｄ類 | M47: Ｅ類 | N47: Ｆ類 | P47: Ａ類 | Q47: Ｂ類 | R47: Ｃ類 | S47: Ｄ類 | T47: Ｅ類 | U47: Ｆ類
A48: 0 ～ 100 以下 | B48: 43000 | C48: 47000 | D48: 64000 | E48: 52000 | F48: 58000 | G48: 65000 | I48: 14000 | J48: 15000 | K48: 11000 | L48: 9000 | M48: 13000 | N48: 12000 | P48: 22000 | Q48: 26000 | R48: 38000 | S48: 31000 | T48: 33000 | U48: 38000
A49: 100超～ 200 以下 | B49: 51000 | C49: 55000 | D49: 75000 | E49: 61000 | F49: 68000 | G49: 77000 | I49: 24000 | J49: 25000 | K49: 13000 | L49: 11000 | M49: 16000 | N49: 14000 | P49: 30000 | Q49: 33000 | R49: 48000 | S49: 39000 | T49: 42000 | U49: 48000
A50: 200超～ 500 以下 | B50: 78000 | C50: 85000 | D50: 98000 | E50: 80000 | F50: 91000 | G50: 100000 | I50: 26000 | J50: 27000 | K50: 17000 | L50: 15000 | M50: 17000 | N50: 18000 | P50: 46000 | Q50: 52000 | R50: 63000 | S50: 50000 | T50: 47000 | U50: 63000
A51: 500超～1,000 以下 | B51: 108000 | C51: 120000 | D51: 135000 | E51: 108000 | F51: 123000 | G51: 137000 | I51: 38000 | J51: 40000 | K51: 30000 | L51: 25000 | M51: 35000 | N51: 31000 | P51: 46000 | Q51: 52000 | R51: 63000 | S51: 50000 | T51: 47000 | U51: 63000
A52: 1,000超～2,000 以下 | B52: 149000 | C52: 161000 | D52: 181000 | E52: 146000 | F52: 164000 | G52: 183000 | I52: 45000 | J52: 47000 | K52: 49000 | L52: 40000 | M52: 48000 | N52: 50000 | P52: 46000 | Q52: 52000 | R52: 63000 | S52: 50000 | T52: 47000 | U52: 63000
A54: 各種加算（単価） | I54: 特例調整係数 | L54: 複数棟調整係数 | O54: 中間検査調整額 | R54: 他機関調整係数 | U54: 省エネ調整係数
A55: 軽微な変更（構造規定） | B55: 3000 | I55: 令10条区分 | J55: α | L55: 棟数 | M55: β | O55: 中間検査 | R55: 直前手続 | S55: γ | U55: 省エネ検査 | V55: δ
A56: 軽微な変更（構造規定･構造計算） | B56: 15000 | I56: １号 | J56: -1 | L56: １棟目 | M56: 0 | O56: 済 | P56: -2000 | R56: 当センター | S56: 0 | U56: なし | V56: 0
A57: 軽微な変更（省エネ仕様基準） | B57: 3000 | I57: ２号 | J57: -1 | L57: 2棟目以降 | M57: -0.5 | O57: 対象外 | P57: 0 | R57: 他機関 | S57: 0.5 | U57: あり | V57: 0.2
A58: 省エネ基準審査（戸建） | B58: 10000 | I58: ３号 | J58: -0.85 | U58: あり （軽変B) | V58: 0.5
A59: 省エネ基準審査（共同） | B59: 30000 | I59: ４号 | J59: -0.8 | U59: あり （他機関判定） | V59: 0.4
A60: 郵送交付 | B60: 2000 | I60: 非該当 | J60: 0 | U60: あり （他機関判定･軽変B) | V60: 0.7
A61: 昇降機併願申請 | B61: 22000

Sheet 手数料規程（新旧）用
A1: 260401改定用（建築物のみ）
C2: 元データ（基本手数料等シートのリンク） | K2: 手数料規程 新旧対照貼付用（幅12.41cm）
A4: 別表第２－１ 基本手数料（建築物･確認申請） | H4: （単位：円）
A5: 申請部分の床面積 | D5: 建築物の分類
D6: Ａ類 | E6: Ｂ類 | F6: Ｃ類 | G6: Ｄ類 | H6: Ｅ類 | I6: Ｆ類
A7: 100 ㎡以下 | D7: =基本手数料等!B5 -> 43000 | E7: =基本手数料等!C5 -> 44000 | F7: =基本手数料等!D5 -> 51000 | G7: =基本手数料等!E5 -> 36000 | H7: =基本手数料等!F5 -> 48000 | I7: =基本手数料等!G5 -> 54000
A8: 100㎡超～ 200 ㎡以下 | D8: =基本手数料等!B6 -> 50000 | E8: =基本手数料等!C6 -> 52000 | F8: =基本手数料等!D6 -> 60000 | G8: =基本手数料等!E6 -> 42000 | H8: =基本手数料等!F6 -> 56000 | I8: =基本手数料等!G6 -> 63000
A9: 200㎡超～ 500 ㎡以下 | D9: =基本手数料等!B7 -> 67000 | E9: =基本手数料等!C7 -> 69000 | F9: =基本手数料等!D7 -> 73000 | G9: =基本手数料等!E7 -> 51000 | H9: =基本手数料等!F7 -> 72000 | I9: =基本手数料等!G7 -> 76000
A10: 500㎡超～1,000 ㎡以下 | D10: =基本手数料等!B8 -> 89000 | E10: =基本手数料等!C8 -> 93000 | F10: =基本手数料等!D8 -> 106000 | G10: =基本手数料等!E8 -> 74000 | H10: =基本手数料等!F8 -> 95000 | I10: =基本手数料等!G8 -> 111000
A11: 1,000㎡超～2,000 ㎡以下 | D11: =基本手数料等!B9 -> 126000 | E11: =基本手数料等!C9 -> 132000 | F11: =基本手数料等!D9 -> 151000 | G11: =基本手数料等!E9 -> 105000 | H11: =基本手数料等!F9 -> 135000 | I11: =基本手数料等!G9 -> 158000
A14: 別表第２－２ 階数調整額（建築物・確認申請） | H14: （単位：円）
A15: 申請部分の床面積 | D15: 建築物の分類
D16: Ａ類 | E16: Ｂ類 | F16: Ｃ類 | G16: Ｄ類 | H16: Ｅ類 | I16: Ｆ類
A17: 100 ㎡以下 | D17: =基本手数料等!I5 -> 21000 | E17: =基本手数料等!J5 -> 22000 | F17: =基本手数料等!K5 -> 24000 | G17: =基本手数料等!L5 -> 15000 | H17: =基本手数料等!M5 -> 22000 | I17: =基本手数料等!N5 -> 26000
A18: 100㎡超～ 200 ㎡以下 | D18: =基本手数料等!I6 -> 22000 | E18: =基本手数料等!J6 -> 24000 | F18: =基本手数料等!K6 -> 27000 | G18: =基本手数料等!L6 -> 21000 | H18: =基本手数料等!M6 -> 25000 | I18: =基本手数料等!N6 -> 31000
A19: 200㎡超～ 500 ㎡以下 | D19: =基本手数料等!I7 -> 30000 | E19: =基本手数料等!J7 -> 32000 | F19: =基本手数料等!K7 -> 36000 | G19: =基本手数料等!L7 -> 25000 | H19: =基本手数料等!M7 -> 33000 | I19: =基本手数料等!N7 -> 39000
A20: 500㎡超～1,000 ㎡以下 | D20: =基本手数料等!I8 -> 44000 | E20: =基本手数料等!J8 -> 46000 | F20: =基本手数料等!K8 -> 52000 | G20: =基本手数料等!L8 -> 37000 | H20: =基本手数料等!M8 -> 47000 | I20: =基本手数料等!N8 -> 55000
A21: 1,000㎡超～2,000 ㎡以下 | D21: =基本手数料等!I9 -> 63000 | E21: =基本手数料等!J9 -> 66000 | F21: =基本手数料等!K9 -> 73000 | G21: =基本手数料等!L9 -> 52000 | H21: =基本手数料等!M9 -> 70000 | I21: =基本手数料等!N9 -> 79000
A22: ※ 本表の調整額は階数３以上の建築物に限り適用する。
A25: 別表第２－３ 特例調整額（建築物・確認申請） | H25: （単位：円）
A26: 申請部分の床面積の合計 | D26: 建築物の分類（特例調整基準額）
D27: Ａ類 | E27: Ｂ類 | F27: Ｃ類 | G27: Ｄ類 | H27: Ｅ類 | I27: Ｆ類
A28: 100 ㎡以下 | D28: =基本手数料等!P5 -> 24000 | E28: =基本手数料等!Q5 -> 25000 | F28: =基本手数料等!R5 -> 28000 | G28: =基本手数料等!S5 -> 20000 | H28: =基本手数料等!T5 -> 24000 | I28: =基本手数料等!U5 -> 30000
A29: 100㎡超～ 200 ㎡以下 | D29: =基本手数料等!P6 -> 30000 | E29: =基本手数料等!Q6 -> 32000 | F29: =基本手数料等!R6 -> 36000 | G29: =基本手数料等!S6 -> 25000 | H29: =基本手数料等!T6 -> 31000 | I29: =基本手数料等!U6 -> 38000
A30: 200㎡超～ 500 ㎡以下 | D30: =基本手数料等!P7 -> 40000 | E30: =基本手数料等!Q7 -> 42000 | F30: =基本手数料等!R7 -> 44000 | G30: =基本手数料等!S7 -> 31000 | H30: =基本手数料等!T7 -> 41000 | I30: =基本手数料等!U7 -> 46000
A31: 500㎡超～1,000 ㎡以下 | D31: =基本手数料等!P8 -> 40000 | E31: =基本手数料等!Q8 -> 42000 | F31: =基本手数料等!R8 -> 44000 | G31: =基本手数料等!S8 -> 31000 | H31: =基本手数料等!T8 -> 41000 | I31: =基本手数料等!U8 -> 46000
A32: 1,000㎡超～2,000 ㎡以下 | D32: =基本手数料等!P9 -> 40000 | E32: =基本手数料等!Q9 -> 42000 | F32: =基本手数料等!R9 -> 44000 | G32: =基本手数料等!S9 -> 31000 | H32: =基本手数料等!T9 -> 41000 | I32: =基本手数料等!U9 -> 46000
A33: 適用する調整額 （建築基準法施行令第10条 各号の区分による） | D33: 第１号 ： 上記特例調整基準額 × ▲100％ 第２号 ： 上記特例調整基準額 × ▲100％ 第３号 ： 上記特例調整基準額 × ▲ 75％ 第４号 ： 上記特例調整基準額 × ▲ 70％（Ａ類・Ｂ類） 上記特例調整基準額 × ▲ 50％（Ｃ類～Ｆ類） 非該当 ： 0
A37: ※ ▲は負値を示す。
A38: ※ 適用する調整額の千円未満は切り捨てとする。
A41: 別表第２－４ その他調整額（建築物・確認申請） | H41: （単位：円）
A42: 調整項目 | D42: 調整額
A43: 工事種別 | D43: 新築 ： 0 増築 ：（申請以外の部分の床面積を申請部分の床面積と みなした場合の別表第2-1～別表第2-3の合計額） × 20％ その他 ： 0
A46: 複数棟申請 | D46: 主たる申請建築物 ： 0 附属する申請建築物 ：（別表第2-1～別表第2-3の合計額に 工事種別による調整額を加えた額） × ▲50％
A49: ※ ▲は負値を示す。
A50: ※ 各調整項目において調整額の千円未満は切り捨てとする。
A51: ※ 計画変更申請において、変更に係る建築物が附属する申請建築物のみである場合は、
A52: 変更に係る建築物のうち申請部分の床面積が最も大きなものを主たる申請建築物と
A53: みなして複数棟申請に係る調整額を算定する。
A56: 別表第２－５ 各種加算額（建築物・確認申請） | H56: （単位：円）
A57: 審査項目等 | D57: 加算額
A58: 省エネ基準適合審査 | D58: 一戸建ての住宅、併用住宅の住宅部分 10,000 共同住宅、長屋、寄宿舎等 30,000
A60: 消防同意 | D60: 必要 ： 2,000 不要 ： 0
A62: 天空率 | D62: 10,000 × Ｎ１
A63: 構造計算 | D63: ＜ルート２以外※１＞ 階数２以下かつ500㎡以下： 30,000 階数３以上又は500㎡超 ： 50,000 ＜ルート２＞ × Ｎ２ 500㎡以下 ： 150,000 500㎡超 ： 180,000
A67: 構造計算適合性判定図書 との整合性確認 | D67: 10,000 × Ｎ３
A69: 昇降機併願 | D69: 18,000 × Ｎ４
A70: その他特殊な審査※２ | D70: 別途理事長が定める額
A71: 確認済証の郵送交付 | D71: 2200
A72: 電子申請における 副本の書面交付 | D72: 法第６条第１項第１号～第３号建築物を含む申請 8,000 法第６条第１項第４号建築物のみの申請 5,000 （上記に加え）構造計算書１棟分につき 10,000
A74: Ｎ１： 法第56条第7項の規定による特例を適用する区分の数
A75: Ｎ２： 各構造計算を要する構造上の棟数
A76: Ｎ３： 構造計算適合性判定を要する構造上の棟数
A77: Ｎ４： 併願申請する昇降機の数
A78: ※１ 構造強度に関する仕様規定の除外規定によるものを含む。
A79: ※２ 避難安全検証法、特定天井の他、別途理事長が定めるもの。
A83: 別表第５－１ 基本手数料（建築物･中間検査） | H83: （単位：円）
A84: 申請部分の床面積 | D84: 建築物の分類
D85: Ａ類 | E85: Ｂ類 | F85: Ｃ類 | G85: Ｄ類 | H85: Ｅ類 | I85: Ｆ類
A86: 100 ㎡以下 | D86: =基本手数料等!B29 -> 44000 | E86: =基本手数料等!C29 -> 46000 | F86: =基本手数料等!D29 -> 49000 | G86: =基本手数料等!E29 -> 49000 | H86: =基本手数料等!F29 -> 49000 | I86: =基本手数料等!G29 -> 49000
A87: 100㎡超～ 200 ㎡以下 | D87: =基本手数料等!B30 -> 52000 | E87: =基本手数料等!C30 -> 54000 | F87: =基本手数料等!D30 -> 58000 | G87: =基本手数料等!E30 -> 58000 | H87: =基本手数料等!F30 -> 58000 | I87: =基本手数料等!G30 -> 58000
A88: 200㎡超～ 500 ㎡以下 | D88: =基本手数料等!B31 -> 79000 | E88: =基本手数料等!C31 -> 81000 | F88: =基本手数料等!D31 -> 82000 | G88: =基本手数料等!E31 -> 82000 | H88: =基本手数料等!F31 -> 82000 | I88: =基本手数料等!G31 -> 82000
A89: 500㎡超～1,000 ㎡以下 | D89: =基本手数料等!B32 -> 129000 | E89: =基本手数料等!C32 -> 131000 | F89: =基本手数料等!D32 -> 133000 | G89: =基本手数料等!E32 -> 133000 | H89: =基本手数料等!F32 -> 133000 | I89: =基本手数料等!G32 -> 133000
A90: 1,000㎡超～2,000 ㎡以下 | D90: =基本手数料等!B33 -> 165000 | E90: =基本手数料等!C33 -> 167000 | F90: =基本手数料等!D33 -> 169000 | G90: =基本手数料等!E33 -> 169000 | H90: =基本手数料等!F33 -> 169000 | I90: =基本手数料等!G33 -> 169000
A93: 別表第５－２ 階数調整額（建築物・中間検査） | H93: （単位：円）
A94: 申請部分の床面積 | D94: 建築物の分類
D95: Ａ類 | E95: Ｂ類 | F95: Ｃ類 | G95: Ｄ類 | H95: Ｅ類 | I95: Ｆ類
A96: 100 ㎡以下 | D96: =基本手数料等!I29 -> 9000 | E96: =基本手数料等!J29 -> 11000 | F96: =基本手数料等!K29 -> 14000 | G96: =基本手数料等!L29 -> 14000 | H96: =基本手数料等!M29 -> 14000 | I96: =基本手数料等!N29 -> 14000
A97: 100㎡超～ 200 ㎡以下 | D97: =基本手数料等!I30 -> 13000 | E97: =基本手数料等!J30 -> 14000 | F97: =基本手数料等!K30 -> 16000 | G97: =基本手数料等!L30 -> 16000 | H97: =基本手数料等!M30 -> 16000 | I97: =基本手数料等!N30 -> 16000
A98: 200㎡超～ 500 ㎡以下 | D98: =基本手数料等!I31 -> 15000 | E98: =基本手数料等!J31 -> 16000 | F98: =基本手数料等!K31 -> 17000 | G98: =基本手数料等!L31 -> 17000 | H98: =基本手数料等!M31 -> 17000 | I98: =基本手数料等!N31 -> 17000
A99: 500㎡超～1,000 ㎡以下 | D99: =基本手数料等!I32 -> 24000 | E99: =基本手数料等!J32 -> 25000 | F99: =基本手数料等!K32 -> 26000 | G99: =基本手数料等!L32 -> 26000 | H99: =基本手数料等!M32 -> 26000 | I99: =基本手数料等!N32 -> 26000
A100: 1,000㎡超～2,000 ㎡以下 | D100: =基本手数料等!I33 -> 31000 | E100: =基本手数料等!J33 -> 32000 | F100: =基本手数料等!K33 -> 33000 | G100: =基本手数料等!L33 -> 33000 | H100: =基本手数料等!M33 -> 33000 | I100: =基本手数料等!N33 -> 33000
A101: ※ 本表の調整額は階数３以上の建築物に限り適用する。
A104: 別表第５－３ 特例調整額（建築物・中間検査） | H104: （単位：円）
A105: 申請部分の床面積 | D105: 建築物の分類（特例調整基準額）
D106: Ａ類 | E106: Ｂ類 | F106: Ｃ類 | G106: Ｄ類 | H106: Ｅ類 | I106: Ｆ類
A107: 100 ㎡以下 | D107: =基本手数料等!P29 -> 25000 | E107: =基本手数料等!Q29 -> 25000 | F107: =基本手数料等!R29 -> 25000 | G107: =基本手数料等!S29 -> 25000 | H107: =基本手数料等!T29 -> 25000 | I107: =基本手数料等!U29 -> 25000
A108: 100㎡超～ 200 ㎡以下 | D108: =基本手数料等!P30 -> 32000 | E108: =基本手数料等!Q30 -> 32000 | F108: =基本手数料等!R30 -> 32000 | G108: =基本手数料等!S30 -> 32000 | H108: =基本手数料等!T30 -> 32000 | I108: =基本手数料等!U30 -> 32000
A109: 200㎡超～ 500 ㎡以下 | D109: =基本手数料等!P31 -> 48000 | E109: =基本手数料等!Q31 -> 48000 | F109: =基本手数料等!R31 -> 48000 | G109: =基本手数料等!S31 -> 48000 | H109: =基本手数料等!T31 -> 48000 | I109: =基本手数料等!U31 -> 48000
A110: 500㎡超～1,000 ㎡以下 | D110: =基本手数料等!P32 -> 48000 | E110: =基本手数料等!Q32 -> 48000 | F110: =基本手数料等!R32 -> 48000 | G110: =基本手数料等!S32 -> 48000 | H110: =基本手数料等!T32 -> 48000 | I110: =基本手数料等!U32 -> 48000
A111: 1,000㎡超～2,000 ㎡以下 | D111: =基本手数料等!P33 -> 48000 | E111: =基本手数料等!Q33 -> 48000 | F111: =基本手数料等!R33 -> 48000 | G111: =基本手数料等!S33 -> 48000 | H111: =基本手数料等!T33 -> 48000 | I111: =基本手数料等!U33 -> 48000
A112: 適用する調整額 （建築基準法施行令第10条 各号の区分による） | D112: 第１号 ： 上記特例調整基準額 × ▲100％ 第２号 ： 上記特例調整基準額 × ▲100％ 第３号 ： 上記特例調整基準額 × ▲ 85％ 第４号 ： 上記特例調整基準額 × ▲ 85％ 非該当 ： 0
A115: ※ ▲は負値を示す。
A116: ※ 適用する調整額の千円未満は切り捨てとする。
A119: 別表第５－４ その他調整額（建築物・中間検査） | H119: （単位：円）
A120: 調整項目 | D120: 調整額
A121: 複数棟申請 | D121: 主たる申請建築物 ： 0 附属する申請建築物 ：（別表第5-1～別表第5-3の合計額） × ▲50％
A124: 他機関物件 | D124: （別表第5-1～別表第5-3の合計額に複数棟申請による調整額を 加えた額） × 50％
A126: 瑕疵保険同時検査 | D126: ▲3,000
A127: ※ ▲は負値を示す。
A128: ※ 各調整項目において調整額の千円未満は切り捨てとする。
A131: 別表第５－５ 各種加算額（建築物・中間検査） | H131: （単位：円）
A132: 中間検査合格証の郵送交付 | D132: 2000
A133: 新法（令和7年4月1日施行） 適用に係る追加審査※1 | D133: 第４条第２項（計画変更申請）に相当する額
A135: ※ 1 令和7年3月31日までに確認済証の交付を受け、工事の着手が令和7年4月1日以降の物件で
A136: 中間検査申請までに計画変更申請がないもの
A140: 別表第６－１ 基本手数料（建築物･完了検査） | H140: （単位：円）
A141: 申請部分の床面積 | D141: 建築物の分類
D142: Ａ類 | E142: Ｂ類 | F142: Ｃ類 | G142: Ｄ類 | H142: Ｅ類 | I142: Ｆ類
A143: 100 ㎡以下 | D143: =基本手数料等!B48 -> 43000 | E143: =基本手数料等!C48 -> 47000 | F143: =基本手数料等!D48 -> 64000 | G143: =基本手数料等!E48 -> 52000 | H143: =基本手数料等!F48 -> 58000 | I143: =基本手数料等!G48 -> 65000
...

Sheet 手数料規程用
A1: 260401改定用（建築物のみ）
C2: 元データ（基本手数料等シートのリンク） | K2: 手数料規程 貼付用（幅19.14cm）
A4: 別表第２－１ 基本手数料（建築物･確認申請） | H4: （単位：円）
A5: 申請部分の床面積 | D5: 建築物の分類
D6: Ａ類 | E6: Ｂ類 | F6: Ｃ類 | G6: Ｄ類 | H6: Ｅ類 | I6: Ｆ類
A7: 100 ㎡以下 | D7: =基本手数料等!B5 -> 43000 | E7: =基本手数料等!C5 -> 44000 | F7: =基本手数料等!D5 -> 51000 | G7: =基本手数料等!E5 -> 36000 | H7: =基本手数料等!F5 -> 48000 | I7: =基本手数料等!G5 -> 54000
A8: 100㎡超～ 200 ㎡以下 | D8: =基本手数料等!B6 -> 50000 | E8: =基本手数料等!C6 -> 52000 | F8: =基本手数料等!D6 -> 60000 | G8: =基本手数料等!E6 -> 42000 | H8: =基本手数料等!F6 -> 56000 | I8: =基本手数料等!G6 -> 63000
A9: 200㎡超～ 500 ㎡以下 | D9: =基本手数料等!B7 -> 67000 | E9: =基本手数料等!C7 -> 69000 | F9: =基本手数料等!D7 -> 73000 | G9: =基本手数料等!E7 -> 51000 | H9: =基本手数料等!F7 -> 72000 | I9: =基本手数料等!G7 -> 76000
A10: 500㎡超～1,000 ㎡以下 | D10: =基本手数料等!B8 -> 89000 | E10: =基本手数料等!C8 -> 93000 | F10: =基本手数料等!D8 -> 106000 | G10: =基本手数料等!E8 -> 74000 | H10: =基本手数料等!F8 -> 95000 | I10: =基本手数料等!G8 -> 111000
A11: 1,000㎡超～2,000 ㎡以下 | D11: =基本手数料等!B9 -> 126000 | E11: =基本手数料等!C9 -> 132000 | F11: =基本手数料等!D9 -> 151000 | G11: =基本手数料等!E9 -> 105000 | H11: =基本手数料等!F9 -> 135000 | I11: =基本手数料等!G9 -> 158000
A14: 別表第２－２ 階数調整額（建築物・確認申請） | H14: （単位：円）
A15: 申請部分の床面積 | D15: 建築物の分類
D16: Ａ類 | E16: Ｂ類 | F16: Ｃ類 | G16: Ｄ類 | H16: Ｅ類 | I16: Ｆ類
A17: 100 ㎡以下 | D17: =基本手数料等!I5 -> 21000 | E17: =基本手数料等!J5 -> 22000 | F17: =基本手数料等!K5 -> 24000 | G17: =基本手数料等!L5 -> 15000 | H17: =基本手数料等!M5 -> 22000 | I17: =基本手数料等!N5 -> 26000
A18: 100㎡超～ 200 ㎡以下 | D18: =基本手数料等!I6 -> 22000 | E18: =基本手数料等!J6 -> 24000 | F18: =基本手数料等!K6 -> 27000 | G18: =基本手数料等!L6 -> 21000 | H18: =基本手数料等!M6 -> 25000 | I18: =基本手数料等!N6 -> 31000
A19: 200㎡超～ 500 ㎡以下 | D19: =基本手数料等!I7 -> 30000 | E19: =基本手数料等!J7 -> 32000 | F19: =基本手数料等!K7 -> 36000 | G19: =基本手数料等!L7 -> 25000 | H19: =基本手数料等!M7 -> 33000 | I19: =基本手数料等!N7 -> 39000
A20: 500㎡超～1,000 ㎡以下 | D20: =基本手数料等!I8 -> 44000 | E20: =基本手数料等!J8 -> 46000 | F20: =基本手数料等!K8 -> 52000 | G20: =基本手数料等!L8 -> 37000 | H20: =基本手数料等!M8 -> 47000 | I20: =基本手数料等!N8 -> 55000
A21: 1,000㎡超～2,000 ㎡以下 | D21: =基本手数料等!I9 -> 63000 | E21: =基本手数料等!J9 -> 66000 | F21: =基本手数料等!K9 -> 73000 | G21: =基本手数料等!L9 -> 52000 | H21: =基本手数料等!M9 -> 70000 | I21: =基本手数料等!N9 -> 79000
A22: ※ 本表の調整額は階数３以上の建築物に限り適用する。
A25: 別表第２－３ 特例調整額（建築物・確認申請） | H25: （単位：円）
A26: 申請部分の床面積 | D26: 建築物の分類（特例調整基準額）
D27: Ａ類 | E27: Ｂ類 | F27: Ｃ類 | G27: Ｄ類 | H27: Ｅ類 | I27: Ｆ類
A28: 100 ㎡以下 | D28: =基本手数料等!P5 -> 24000 | E28: =基本手数料等!Q5 -> 25000 | F28: =基本手数料等!R5 -> 28000 | G28: =基本手数料等!S5 -> 20000 | H28: =基本手数料等!T5 -> 24000 | I28: =基本手数料等!U5 -> 30000
A29: 100㎡超～ 200 ㎡以下 | D29: =基本手数料等!P6 -> 30000 | E29: =基本手数料等!Q6 -> 32000 | F29: =基本手数料等!R6 -> 36000 | G29: =基本手数料等!S6 -> 25000 | H29: =基本手数料等!T6 -> 31000 | I29: =基本手数料等!U6 -> 38000
A30: 200㎡超～ 500 ㎡以下 | D30: =基本手数料等!P7 -> 40000 | E30: =基本手数料等!Q7 -> 42000 | F30: =基本手数料等!R7 -> 44000 | G30: =基本手数料等!S7 -> 31000 | H30: =基本手数料等!T7 -> 41000 | I30: =基本手数料等!U7 -> 46000
A31: 500㎡超～1,000 ㎡以下 | D31: =基本手数料等!P8 -> 40000 | E31: =基本手数料等!Q8 -> 42000 | F31: =基本手数料等!R8 -> 44000 | G31: =基本手数料等!S8 -> 31000 | H31: =基本手数料等!T8 -> 41000 | I31: =基本手数料等!U8 -> 46000
A32: 1,000㎡超～2,000 ㎡以下 | D32: =基本手数料等!P9 -> 40000 | E32: =基本手数料等!Q9 -> 42000 | F32: =基本手数料等!R9 -> 44000 | G32: =基本手数料等!S9 -> 31000 | H32: =基本手数料等!T9 -> 41000 | I32: =基本手数料等!U9 -> 46000
A33: 適用する調整額 （建築基準法施行令第10条 各号の区分による） | D33: 第１号 ： 上記特例調整基準額 × ▲100％ 第２号 ： 上記特例調整基準額 × ▲100％ 第３号 ： 上記特例調整基準額 × ▲ 75％ 第４号 ： 上記特例調整基準額 × ▲ 70％（Ａ類・Ｂ類） 上記特例調整基準額 × ▲ 50％（Ｃ類～Ｆ類） 非該当 ： 0
A37: ※ ▲は負値を示す。
A38: ※ 適用する調整額の千円未満は切り捨てとする。
A41: 別表第２－４ その他調整額（建築物・確認申請） | H41: （単位：円）
A42: 調整項目 | D42: 調整額
A43: 工事種別 | D43: 新築 ： 0 増築 ：（申請以外の部分の床面積を申請部分の床面積と みなした場合の別表第2-1～別表第2-3の合計額） × 20％ その他 ： 0
A46: 複数棟申請 | D46: 主たる申請建築物 ： 0 附属する申請建築物 ：（別表第2-1～別表第2-3の合計額に 工事種別による調整額を加えた額） × ▲50％
A49: ※ ▲は負値を示す。
A50: ※ 各調整項目において調整額の千円未満は切り捨てとする。
A51: ※ 計画変更申請において、変更に係る建築物が附属する申請建築物のみである場合は、
A52: 変更に係る建築物のうち申請部分の床面積が最も大きなものを主たる申請建築物と
A53: みなして複数棟申請に係る調整額を算定する。
A56: 別表第２－５ 各種加算額（建築物・確認申請） | H56: （単位：円）
A57: 審査項目等 | D57: 加算額
A58: 省エネ基準適合審査 | D58: 一戸建ての住宅、併用住宅の住宅部分 10,000 共同住宅、長屋、寄宿舎等 30,000
A60: 消防同意 | D60: 必要 ： 2,000 不要 ： 0
A62: 天空率 | D62: 10,000 × Ｎ１
A63: 構造計算 | D63: ＜ルート２以外※１＞ 階数２以下かつ500㎡以下： 30,000 階数３以上又は500㎡超 ： 50,000 ＜ルート２＞ × Ｎ２ 500㎡以下 ： 150,000 500㎡超 ： 180,000
A67: 構造計算適合性判定図書 との整合性確認 | D67: 10,000 × Ｎ３
A69: 昇降機併願 | D69: 18,000 × Ｎ４
A70: その他特殊な審査※２ | D70: 別途理事長が定める額
A71: 確認済証の郵送交付 | D71: 2000
A72: 電子申請における 副本の書面交付 | D72: 法第６条第１項第１号～第３号建築物を含む申請 8,000 法第６条第１項第４号建築物のみの申請 5,000 （上記に加え）構造計算書１棟分につき 10,000
A74: Ｎ１： 法第56条第7項の規定による特例を適用する区分の数
A75: Ｎ２： 各構造計算を要する構造上の棟数
A76: Ｎ３： 構造計算適合性判定を要する構造上の棟数
A77: Ｎ４： 併願申請する昇降機の数
A78: ※１ 構造強度に関する仕様規定の除外規定によるものを含む。
A79: ※２ 避難安全検証法、特定天井の他、別途理事長が定めるもの。
A83: 別表第５－１ 基本手数料（建築物･中間検査） | H83: （単位：円）
A84: 申請部分の床面積 | D84: 建築物の分類
D85: Ａ類 | E85: Ｂ類 | F85: Ｃ類 | G85: Ｄ類 | H85: Ｅ類 | I85: Ｆ類
A86: 100 ㎡以下 | D86: =基本手数料等!B29 -> 44000 | E86: =基本手数料等!C29 -> 46000 | F86: =基本手数料等!D29 -> 49000 | G86: =基本手数料等!E29 -> 49000 | H86: =基本手数料等!F29 -> 49000 | I86: =基本手数料等!G29 -> 49000
A87: 100㎡超～ 200 ㎡以下 | D87: =基本手数料等!B30 -> 52000 | E87: =基本手数料等!C30 -> 54000 | F87: =基本手数料等!D30 -> 58000 | G87: =基本手数料等!E30 -> 58000 | H87: =基本手数料等!F30 -> 58000 | I87: =基本手数料等!G30 -> 58000
A88: 200㎡超～ 500 ㎡以下 | D88: =基本手数料等!B31 -> 79000 | E88: =基本手数料等!C31 -> 81000 | F88: =基本手数料等!D31 -> 82000 | G88: =基本手数料等!E31 -> 82000 | H88: =基本手数料等!F31 -> 82000 | I88: =基本手数料等!G31 -> 82000
A89: 500㎡超～1,000 ㎡以下 | D89: =基本手数料等!B32 -> 129000 | E89: =基本手数料等!C32 -> 131000 | F89: =基本手数料等!D32 -> 133000 | G89: =基本手数料等!E32 -> 133000 | H89: =基本手数料等!F32 -> 133000 | I89: =基本手数料等!G32 -> 133000
A90: 1,000㎡超～2,000 ㎡以下 | D90: =基本手数料等!B33 -> 165000 | E90: =基本手数料等!C33 -> 167000 | F90: =基本手数料等!D33 -> 169000 | G90: =基本手数料等!E33 -> 169000 | H90: =基本手数料等!F33 -> 169000 | I90: =基本手数料等!G33 -> 169000
A93: 別表第５－２ 階数調整額（建築物・中間検査） | H93: （単位：円）
A94: 申請部分の床面積 | D94: 建築物の分類
D95: Ａ類 | E95: Ｂ類 | F95: Ｃ類 | G95: Ｄ類 | H95: Ｅ類 | I95: Ｆ類
A96: 100 ㎡以下 | D96: =基本手数料等!I29 -> 9000 | E96: =基本手数料等!J29 -> 11000 | F96: =基本手数料等!K29 -> 14000 | G96: =基本手数料等!L29 -> 14000 | H96: =基本手数料等!M29 -> 14000 | I96: =基本手数料等!N29 -> 14000
A97: 100㎡超～ 200 ㎡以下 | D97: =基本手数料等!I30 -> 13000 | E97: =基本手数料等!J30 -> 14000 | F97: =基本手数料等!K30 -> 16000 | G97: =基本手数料等!L30 -> 16000 | H97: =基本手数料等!M30 -> 16000 | I97: =基本手数料等!N30 -> 16000
A98: 200㎡超～ 500 ㎡以下 | D98: =基本手数料等!I31 -> 15000 | E98: =基本手数料等!J31 -> 16000 | F98: =基本手数料等!K31 -> 17000 | G98: =基本手数料等!L31 -> 17000 | H98: =基本手数料等!M31 -> 17000 | I98: =基本手数料等!N31 -> 17000
A99: 500㎡超～1,000 ㎡以下 | D99: =基本手数料等!I32 -> 24000 | E99: =基本手数料等!J32 -> 25000 | F99: =基本手数料等!K32 -> 26000 | G99: =基本手数料等!L32 -> 26000 | H99: =基本手数料等!M32 -> 26000 | I99: =基本手数料等!N32 -> 26000
A100: 1,000㎡超～2,000 ㎡以下 | D100: =基本手数料等!I33 -> 31000 | E100: =基本手数料等!J33 -> 32000 | F100: =基本手数料等!K33 -> 33000 | G100: =基本手数料等!L33 -> 33000 | H100: =基本手数料等!M33 -> 33000 | I100: =基本手数料等!N33 -> 33000
A101: ※ 本表の調整額は階数３以上の建築物に限り適用する。
A104: 別表第５－３ 特例調整額（建築物・中間検査） | H104: （単位：円）
A105: 申請部分の床面積 | D105: 建築物の分類（特例調整基準額）
D106: Ａ類 | E106: Ｂ類 | F106: Ｃ類 | G106: Ｄ類 | H106: Ｅ類 | I106: Ｆ類
A107: 100 ㎡以下 | D107: =基本手数料等!P29 -> 25000 | E107: =基本手数料等!Q29 -> 25000 | F107: =基本手数料等!R29 -> 25000 | G107: =基本手数料等!S29 -> 25000 | H107: =基本手数料等!T29 -> 25000 | I107: =基本手数料等!U29 -> 25000
A108: 100㎡超～ 200 ㎡以下 | D108: =基本手数料等!P30 -> 32000 | E108: =基本手数料等!Q30 -> 32000 | F108: =基本手数料等!R30 -> 32000 | G108: =基本手数料等!S30 -> 32000 | H108: =基本手数料等!T30 -> 32000 | I108: =基本手数料等!U30 -> 32000
A109: 200㎡超～ 500 ㎡以下 | D109: =基本手数料等!P31 -> 48000 | E109: =基本手数料等!Q31 -> 48000 | F109: =基本手数料等!R31 -> 48000 | G109: =基本手数料等!S31 -> 48000 | H109: =基本手数料等!T31 -> 48000 | I109: =基本手数料等!U31 -> 48000
A110: 500㎡超～1,000 ㎡以下 | D110: =基本手数料等!P32 -> 48000 | E110: =基本手数料等!Q32 -> 48000 | F110: =基本手数料等!R32 -> 48000 | G110: =基本手数料等!S32 -> 48000 | H110: =基本手数料等!T32 -> 48000 | I110: =基本手数料等!U32 -> 48000
A111: 1,000㎡超～2,000 ㎡以下 | D111: =基本手数料等!P33 -> 48000 | E111: =基本手数料等!Q33 -> 48000 | F111: =基本手数料等!R33 -> 48000 | G111: =基本手数料等!S33 -> 48000 | H111: =基本手数料等!T33 -> 48000 | I111: =基本手数料等!U33 -> 48000
A112: 適用する調整額 （建築基準法施行令第10条 各号の区分による） | D112: 第１号 ： 上記特例調整基準額 × ▲100％ 第２号 ： 上記特例調整基準額 × ▲100％ 第３号 ： 上記特例調整基準額 × ▲ 85％ 第４号 ： 上記特例調整基準額 × ▲ 85％ 非該当 ： 0
A115: ※ ▲は負値を示す。
A116: ※ 適用する調整額の千円未満は切り捨てとする。
A119: 別表第５－４ その他調整額（建築物・中間検査） | H119: （単位：円）
A120: 調整項目 | D120: 調整額
A121: 複数棟申請 | D121: 主たる申請建築物 ： 0 附属する申請建築物 ：（別表第5-1～別表第5-3の合計額） × ▲50％
A124: 他機関物件 | D124: （別表第5-1～別表第5-3の合計額に複数棟申請による調整額を 加えた額） × 50％
A126: 瑕疵保険同時検査 | D126: ▲3,000
A127: ※ ▲は負値を示す。
A128: ※ 各調整項目において調整額の千円未満は切り捨てとする。
A131: 別表第５－５ 各種加算額（建築物・中間検査） | H131: （単位：円）
A132: 中間検査合格証の郵送交付 | D132: 2000
A133: 新法（令和7年4月1日施行） 適用に係る追加審査※1 | D133: 第４条第２項（計画変更申請）に相当する額
A135: ※ 1 令和7年3月31日までに確認済証の交付を受け、工事の着手が令和7年4月1日以降の物件で
A136: 中間検査申請までに計画変更申請がないもの
A139: 別表第６－１ 基本手数料（建築物･完了検査） | H139: （単位：円）
A140: 申請部分の床面積 | D140: 建築物の分類
D141: Ａ類 | E141: Ｂ類 | F141: Ｃ類 | G141: Ｄ類 | H141: Ｅ類 | I141: Ｆ類
A142: 100 ㎡以下 | D142: =基本手数料等!B48 -> 43000 | E142: =基本手数料等!C48 -> 47000 | F142: =基本手数料等!D48 -> 64000 | G142: =基本手数料等!E48 -> 52000 | H142: =基本手数料等!F48 -> 58000 | I142: =基本手数料等!G48 -> 65000
...
