Workbook

Sheet まず、お読みください
A1: ～ まず、お読みください。 ～
A2: ＜ ファイル使用時の注意事項 ＞
A4: １．シートの構成
B5: ☆ このExcelファイルは、４枚のワークシートで構成されています。
B6: ☆ 画面下部のシート見出しより、入力（表示）したいワークシート名をクリックしてください。
A8: ２．シートの保護について
B9: ☆ このExcelファイルは、ワークシートに[シートの保護]設定をしているため、保護されている
B10: セルの選択が出来ないようになっています。
B11: ☆ シート保護の解除は、[ホーム]タブ→[書式]→[シート保護の解除]をクリックしてください。
B12: ・「シートの保護を解除するためのパスワード」は未設定です。
B13: ☆ シートの保護を解除すると、セルの選択・入力・書式設定などの変更が可能になりますが、
B14: 誤って法令で決められている内容を変更されることのないようお願いします。
A16: ３．書類作成時の注意事項
B17: ☆ このExcelファイルは、まず「定期検査報告書」シートから入力してください。
B18: ☆ 「定期検査報告書」に入力することにより、「定期検査報告概要書」にも同じ内容が表示されます。
B19: ・記入欄以外の場所に入力された場合は、「定期検査報告概要書」には表示されませんので、ご注意ください。
B20: ☆ 入力される内容に対し記入欄が狭く、文字（数字等）が入りきらない場合がありますので、
B21: 入力画面上だけでなく、必ず印刷して内容を確認してください。
B22: ☆ 入力行が不足する場合はシートの保護を解除し追加してください
A24: ４．入力方法
B25: ☆ 入力が必要な箇所は「定期検査報告書」シートに | H25: で塗りつぶしがされている所です
B26: ・該当しない箇所があれば入力は不要です

Sheet 注意事項
A1: （注意）
A2: １．各面共通関係
B3: ① | C3: ※印のある欄は記入しないでください。
B4: ② | C4: 数字は算用数字を、単位はメートル法を用いてください。
B5: ③ | C5: 記入欄が不足する場合は、枠を拡大、行を追加して記入するか、別紙に必要な事項を記入し添えてください。
A6: ２．第一面関係
B7: ① | C7: 検査者が２人以上のときは、代表となる検査者を検査者氏名欄に記入してください。
B8: ② | C8: １欄及び２欄は、所有者又は管理者が法人のときは、「ロ」はそれぞれ法人の名称及び代表者氏名を、「ニ」はそれぞれ法人の所在地を記入してください。
B9: ③ | C9: 第二面の６欄の「イ」において「要是正の指摘あり」のチェックボックスに「レ」マークを入れた場合においては、４欄の「イ」の「要是正の指摘あり」のチェックボックスに「レ」マークを入れてください。また、第二面の６欄の「イ」において、「既存不適格」のチェックボックスに「レ」マークを入れたときは、併せて４欄の「イ」の「既存不適格」のチェックボックスに「レ」マークを入れてください。
A10: ３．第二面関係
B11: ① | C11: この書類は、建築物ごとに、防火設備の概要及び当該防火設備の構造方法に係る検査結果について作成してください。
B12: ② | C12: ２欄の「イ」及び「ロ」は、検査対象の防火設備を有する建築物に関する直前の確認について、「ハ」及び「ニ」は、検査対象の防火設備を有する建築物に関する直前の完了検査について、それぞれ記入してください。
B13: ③ | C13: ２欄の「ロ」及び「ニ」は、該当するチェックボックスに「レ」マークを入れ、「指定確認検査機関」の場合には、併せてその名称を記入してください。
B14: ④ | C14: ３欄の「イ」は、検査が終了した年月日を記入し、「ロ」は、検査対象の防火設備に関する直前の報告について記入して下さい。
B15: ⑤ | C15: ３欄の「ロ」は、報告の対象となっていない場合には「未実施」のチェックボックスに「レ」マークを入れてください。
B16: ⑥ | C16: ３欄の「ハ」は、前回の定期検査の結果を記録した書類の写しの保存の有無について記入してください。
B17: ⑦ | C17: ４欄は、代表となる検査者並びに検査に係る防火設備に係る全ての検査者について記入してください。当該防火設備の検査を行った検査者が１人の場合は、その他の検査者欄は削除して構いません。
B18: ⑧ | C18: ４欄の「イ」は、検査者の有する資格について記入してください。検査者が防火設備検査員である場合は、防火設備検査員資格者証の交付番号を「防火設備検査員」の番号欄に記入してください。
B19: ⑨ | C19: ４欄の「ニ」は、検査者が法人に勤務している場合は、検査者の勤務先について記入し、勤務先が建築士事務所のときは、事務所登録番号を併せて記入してください。
B20: ⑩ | C20: ４欄の「ホ」から「ト」までは、検査者が法人に勤務している場合は、検査者の勤務先について記入し、検査者が法人に勤務していない場合は検査者の住所について記入してください。
B21: ⑪ | C21: ５欄の「イ」は、建築基準法施行令第１２８条の６第３項に規定する区画避難安全検証法により区画避難安全性能が検証された建築物のときは「区画避難安全検証法」のチェックボックスに、同令第１２９条第３項に規定する階避難安全検証法により階避難安全性能が検証された建築物のときは「階避難安全検証法」のチェックボックスに、同令第129条の２第４項に規定する全館避難安全検証法により全館避難安全性能が検証された建築物のときは「全館避難安全検証法」のチェックボックスに、それぞれ「レ」マークを入れ、「区画避難安全検証法」の場合は区画避難安全性能を検証した階を、「階避難安全検証法」の場合は、階避難安全性能を検証した階を、併せて記入してください。建築基準法第38条（同法第66条、第67条の2及び第88条第１項において準用する場合を含む。）の規定による特殊構造方法等認定、同法第68条の25第１項の規定による構造方法等の認定又は建築基準法の一部を改正する法律（平成10年法律第100号）による改正前の建築基準法第38条の規定による認定を受けている建築物のうち、当該適用について特に報告が必要なものについては「その他」のチェックボックスに「レ」マークを入れ、その概要を記入してください。
B22: ⑫ | C22: ５欄の「ロ」は、検査対象の防火設備について、チェックボックスに「レ」マークを入れてください。また、防火扉、防火シャッター、耐火クロススクリーンについては、個々の扉又はカーテン部ごとにその枚数を計上し、その合計を記入してください。ドレンチャーについては、散水ヘッドの合計の個数を記入してください。「その他」の場合は具体的な内容と台数を記入してください。
... B27: ⑰ | C27: 各欄に掲げられている項目以外で特に報告すべき事項は、８欄又は別紙に記載して添えてください。
A28: ４．第三面関係
B29: ① | C29: 第三面は、前回検査時以降に把握した防火設備に係る不具合のうち第二面の６欄において指摘されるもの以外のものについて、把握できる範囲において記入してください。前回検査時以降不具合を把握していない場合は、第三面を省略することができます。
B30: ② | C30: 「不具合を把握した年月」欄は、当該不具合を把握した年月を記入してください。
B31: ③ | C31: 「不具合の概要」欄は、当該不具合の箇所を特定した上で、当該不具合の具体的内容を記入してください。不具合の概要を記入する場合にあっては、当該防火設備が設置されている区画の概要を明記してください。
B32: ④ | C32: 「考えられる原因」欄は、当該不具合が生じた原因として主として考えられるものを記入してください。ただし、当該不具合が生じた原因が不明な場合は「不明」と記入してください。
B33: ⑤ | C33: 「改善（予定）年月」欄は、既に改善を実施している場合には実施年月を、改善を行う予定がある場合には改善予定年月を記入し、改善を行う予定がない場合には「－」を記入してください。
B34: ⑥ | C34: 「改善措置の概要等」欄は、既に改善を実施している場合又は改善を行う予定がある場合に、具体的措置の概要を記入してください。改善を行う予定がない場合には、その理由を記入してください。

Sheet 定期検査報告書
A1: 2025.7.1～ | AI1: 整 理 番 号
AQ2: 2
A3: 第 | B3: 三 | C3: 十 | D3: 六 | E3: 号 | F3: の | G3: 八 | H3: 様 | I3: 式 | J3: （ | K3: 第 | L3: 六 | M3: 条 | N3: 関 | O3: 係 | P3: ） | Q3: ( | R3: A | S3: 4 | T3: ) | AI3: （必ず記入して下さい）
R4: 定 期 検 査 報 告 書
T5: 防 火 設 備
T6: ( | U6: 第 | V6: 一 | W6: 面 | X6: ）
B7: 建 | C7: 築 | D7: 基 | E7: 準 | F7: 法 | G7: 第 | H7: 1 | I7: 2 | J7: 条 | K7: 第 | L7: 3 | M7: 項 | N7: の | O7: 規 | P7: 定 | Q7: に | R7: よ | S7: り | T7: 、 | U7: 定 | V7: 期 | W7: 検 | X7: 査 | Y7: の | Z7: 結 | AA7: 果 | AB7: を | AC7: 報 | AD7: 告 | AE7: し | AF7: ま | AG7: す | AH7: 。 | AI7: こ | AJ7: の | AK7: 報 | AL7: 告 | AM7: 書 | AN7: に | AO7: 記 | AP7: 載
A8: の | B8: 事 | C8: 項 | D8: は | E8: 、 | F8: 事 | G8: 実 | H8: に | I8: 相 | J8: 違 | K8: あ | L8: り | M8: ま | N8: せ | O8: ん | P8: 。 | AU8: 平成・令和
B9: 特 | C9: 定 | D9: 行 | E9: 政 | F9: 庁 | Q9: 様
AC10: 令和 | AI10: 年 | AL10: 月 | AO10: 日 | AU10: 平成
AU11: 令和
X12: 報 | Y12: 告 | Z12: 者 | AA12: 氏 | AB12: 名 | AV12: A
AV13: B
AV14: C
X15: 検 | Y15: 査 | Z15: 者 | AA15: 氏 | AB15: 名 | AV15: D
AV16: E
AV17: F
A18: 【 | B18: 1 | C18: ． | D18: 所 | E18: 有 | F18: 者 | G18: 】 | AV18: G
B19: 【 | C19: イ | D19: ． | E19: 氏 | F19: 名 | G19: の | H19: フ | I19: リ | J19: ガ | K19: ナ | L19: 】 | AV19: H
B20: 【 | C20: ロ | D20: ． | E20: 氏 | H20: 名 | I20: 】 | AV20: I
B21: 【 | C21: ハ | D21: ． | E21: 郵 | F21: 便 | G21: 番 | H21: 号 | I21: 】 | AV21: J
B22: 【 | C22: ニ | D22: ． | E22: 住 | H22: 所 | I22: 】 | AV22: K
B23: 【 | C23: ホ | D23: ． | E23: 電 | F23: 話 | G23: 番 | H23: 号 | I23: 】 | AV23: L
AV24: M
AV25: N
A26: 【 | B26: 2 | C26: ． | D26: 管 | E26: 理 | F26: 者 | G26: 】
B27: 【 | C27: イ | D27: ． | E27: 氏 | F27: 名 | G27: の | H27: フ | I27: リ | J27: ガ | K27: ナ | L27: 】
B28: 【 | C28: ロ | D28: ． | E28: 氏 | H28: 名 | I28: 】
B29: 【 | C29: ハ | D29: ． | E29: 郵 | F29: 便 | G29: 番 | H29: 号 | I29: 】
B30: 【 | C30: ニ | D30: ． | E30: 住 | H30: 所 | I30: 】
B31: 【 | C31: ホ | D31: ． | E31: 電 | F31: 話 | G31: 番 | H31: 号 | I31: 】
A34: 【 | B34: 3 | C34: ． | D34: 報 | E34: 告 | F34: 対 | G34: 象 | H34: 建 | I34: 築 | J34: 物 | K34: 】
B35: 【 | C35: イ | D35: ． | E35: 所 | F35: 在 | H35: 地 | I35: 】
B36: 【 | C36: ロ | D36: ． | E36: 名 | F36: 称 | G36: の | H36: フ | I36: リ | J36: ガ | K36: ナ | L36: 】
B37: 【 | C37: ハ | D37: ． | E37: 名 | H37: 称 | I37: 】
B38: 【 | C38: ニ | D38: ． | E38: 用 | H38: 途 | I38: 】
A41: 【 | B41: 4 | C41: ． | D41: 検 | E41: 査 | F41: に | G41: よ | H41: る | I41: 指 | J41: 摘 | K41: の | L41: 概 | M41: 要 | N41: 】
B43: 【 | C43: イ | D43: ． | E43: 指 | F43: 摘 | G43: の | H43: 内 | I43: 容 | J43: 】 | O43: =IF(O119="","",O119) | P43: 要 | Q43: 是 | R43: 正 | S43: の | T43: 指 | U43: 摘 | V43: あ | W43: り | Y43: （ | Z43: =IF(Z119="","",Z119) | AA43: 既 | AB43: 存 | AC43: 不 | AD43: 適 | AE43: 格 | AF43: ） | AI43: =IF(AI119="","",AI119) | AJ43: 指 | AK43: 摘 | AL43: な | AM43: し
B45: 【 | C45: ロ | D45: ． | E45: 指 | F45: 摘 | G45: の | H45: 概 | I45: 要 | J45: 】 | L45: =M123&" "&M184&" "&M234
C46: =IF(C121="","",C121)
...

Sheet 定期検査報告概要書
AI1: 整 理 番 号
AI2: =IF(定期検査報告書!AI2="","",IF(定期検査報告書!AI2=0,"0",定期検査報告書!AI2)) | AJ2: =IF(定期検査報告書!AJ2="","",IF(定期検査報告書!AJ2=0,"0",定期検査報告書!AJ2)) | AK2: =IF(定期検査報告書!AK2="","",IF(定期検査報告書!AK2=0,"0",定期検査報告書!AK2)) | AL2: =IF(定期検査報告書!AL2="","",IF(定期検査報告書!AL2=0,"0",定期検査報告書!AL2)) | AM2: =IF(定期検査報告書!AM2="","",IF(定期検査報告書!AM2=0,"0",定期検査報告書!AM2)) | AN2: =IF(定期検査報告書!AN2="","",IF(定期検査報告書!AN2=0,"0",定期検査報告書!AN2)) | AO2: =IF(定期検査報告書!AO2="","",IF(定期検査報告書!AO2=0,"0",定期検査報告書!AO2)) | AP2: =IF(定期検査報告書!AP2="","",IF(定期検査報告書!AP2=0,"0",定期検査報告書!AP2)) | AQ2: =IF(定期検査報告書!AQ2="","",IF(定期検査報告書!AQ2=0,"0",定期検査報告書!AQ2)) -> 2
A4: 第 | B4: 三 | C4: 十 | D4: 六 | E4: 号 | F4: の | G4: 九 | H4: 様 | I4: 式 | J4: （ | K4: 第 | L4: 六 | M4: 条 | N4: 、 | O4: 第 | P4: 六 | Q4: 条 | R4: の | S4: 三 | T4: 、 | U4: 第 | V4: 十 | W4: 一 | X4: 条 | Y4: の | Z4: 四 | AA4: 関 | AB4: 係 | AC4: ） | AD4: ( | AE4: A | AF4: 4 | AG4: )
Q5: 定 期 検 査 報 告 概 要 書
T6: 防 | U6: 火 | V6: 設 | W6: 備
T8: ( | U8: 第 | V8: 一 | W8: 面 | X8: ）
A11: 【 | B11: 1 | C11: ． | D11: 所 | E11: 有 | F11: 者 | G11: 】
B12: 【 | C12: イ | D12: ． | E12: 氏 | F12: 名 | G12: の | H12: フ | I12: リ | J12: ガ | K12: ナ | L12: 】 | M12: =IF(定期検査報告書!M19="","",定期検査報告書!M19)
B13: 【 | C13: ロ | D13: ． | E13: 氏 | H13: 名 | I13: 】 | M13: =IF(定期検査報告書!M20="","",定期検査報告書!M20)
B14: 【 | C14: ハ | D14: ． | E14: 郵 | F14: 便 | G14: 番 | H14: 号 | I14: 】 | M14: =IF(定期検査報告書!M21="","",定期検査報告書!M21)
B15: 【 | C15: ニ | D15: ． | E15: 住 | H15: 所 | I15: 】 | M15: =IF(定期検査報告書!M22="","",定期検査報告書!M22)
A18: 【 | B18: 2 | C18: ． | D18: 管 | E18: 理 | F18: 者 | G18: 】
B19: 【 | C19: イ | D19: ． | E19: 氏 | F19: 名 | G19: の | H19: フ | I19: リ | J19: ガ | K19: ナ | L19: 】 | M19: =IF(定期検査報告書!M27="","",定期検査報告書!M27)
B20: 【 | C20: ロ | D20: ． | E20: 氏 | H20: 名 | I20: 】 | M20: =IF(定期検査報告書!M28="","",定期検査報告書!M28)
B21: 【 | C21: ハ | D21: ． | E21: 郵 | F21: 便 | G21: 番 | H21: 号 | I21: 】 | M21: =IF(定期検査報告書!M29="","",定期検査報告書!M29)
B22: 【 | C22: ニ | D22: ． | E22: 住 | H22: 所 | I22: 】 | M22: =IF(定期検査報告書!M30="","",定期検査報告書!M30)
A25: 【 | B25: 3 | C25: ． | D25: 報 | E25: 告 | F25: 対 | G25: 象 | H25: 建 | I25: 築 | J25: 物 | K25: 】
B26: 【 | C26: イ | D26: ． | E26: 所 | F26: 在 | H26: 地 | I26: 】 | M26: =IF(定期検査報告書!M35="","",定期検査報告書!M35)
B27: 【 | C27: ロ | D27: ． | E27: 名 | F27: 称 | G27: の | H27: フ | I27: リ | J27: ガ | K27: ナ | L27: 】 | M27: =IF(定期検査報告書!M36="","",定期検査報告書!M36)
B28: 【 | C28: ハ | D28: ． | E28: 名 | H28: 称 | I28: 】 | M28: =IF(定期検査報告書!M37="","",定期検査報告書!M37)
B29: 【 | C29: ニ | D29: ． | E29: 用 | H29: 途 | I29: 】 | M29: =IF(定期検査報告書!M38="","",定期検査報告書!M38)
A32: 【 | B32: 4 | C32: ． | D32: 検 | E32: 査 | F32: に | G32: よ | H32: る | I32: 指 | J32: 摘 | K32: の | L32: 概 | M32: 要 | N32: 】
B34: 【 | C34: イ | D34: ． | E34: 指 | F34: 摘 | G34: の | H34: 内 | I34: 容 | J34: 】 | O34: =IF(定期検査報告書!O43="","",定期検査報告書!O43) | P34: 要 | Q34: 是 | R34: 正 | S34: の | T34: 指 | U34: 摘 | V34: あ | W34: り | Y34: （ | Z34: =IF(定期検査報告書!Z43="","",定期検査報告書!Z43) | AA34: 既 | AB34: 存 | AC34: 不 | AD34: 適 | AE34: 格 | AF34: ） | AI34: =IF(定期検査報告書!AI43="","",定期検査報告書!AI43) | AJ34: 指 | AK34: 摘 | AL34: な | AM34: し
B36: 【 | C36: ロ | D36: ． | E36: 指 | F36: 摘 | G36: の | H36: 概 | I36: 要 | J36: 】
C37: =IF(定期検査報告書!C46="","",定期検査報告書!C46)
B38: 【 | C38: ハ | D38: ． | E38: 改 | F38: 善 | G38: 予 | H38: 定 | I38: の | J38: 有 | K38: 無 | L38: 】 | O38: =IF(定期検査報告書!O47="","",定期検査報告書!O47) | P38: 有 | R38: （ | S38: 令 | T38: 和 | U38: =IF(定期検査報告書!U47="","",定期検査報告書!U47) | W38: 年 | X38: =IF(定期検査報告書!X47="","",定期検査報告書!X47) | Z38: 月 | AA38: に | AB38: 改 | AC38: 善 | AD38: 予 | AE38: 定 | AF38: ） | AI38: =IF(定期検査報告書!AI47="","",定期検査報告書!AI47) | AJ38: 無
B40: 【 | C40: ニ | D40: ． | E40: そ | F40: の | G40: 他 | H40: 特 | I40: 記 | J40: 事 | K40: 項 | L40: 】 | M40: =IF(定期検査報告書!M49="","",定期検査報告書!M49)
C41: =IF(定期検査報告書!C50="","",定期検査報告書!C50)
A43: 【 | B43: 5 | C43: ． | D43: 不 | E43: 具 | F43: 合 | G43: の | H43: 発 | I43: 生 | J43: 状 | K43: 況 | L43: 】
B45: 【 | C45: イ | D45: ． | E45: 不 | G45: 具 | I45: 合 | J45: 】 | L45: =+定期検査報告書!L127 -> 0 | M45: 有 | Q45: =+定期検査報告書!Q127 -> 0 | R45: 無 | AS45: ✓
B47: 【 | C47: ロ | D47: ． | E47: 不 | F47: 具 | G47: 合 | H47: 記 | I47: 録 | J47: 】 | L47: =+定期検査報告書!L129 -> 0 | M47: 有 | Q47: =+定期検査報告書!Q129 -> 0 | R47: 無
B49: 【 | C49: ハ | D49: ． | E49: 不 | F49: 具 | G49: 合 | H49: の | I49: 概 | J49: 要 | K49: 】 | L49: =定期検査報告書!F150&" "&定期検査報告書!F152&" "&定期検査報告書!F154&" "&定期検査報告書!F156
B51: 【 | C51: ニ | D51: ． | E51: 改 | F51: 善 | G51: の | H51: 状 | I51: 況 | J51: 】 | L51: =+定期検査報告書!L131 -> 0 | M51: 実 | N51: 施 | O51: 済 | Q51: =+定期検査報告書!Q131 -> 0 | R51: 改 | S51: 善 | T51: 予 | U51: 定 | V51: （ | W51: 令 | X51: 和 | Y51: =+定期検査報告書!Y131 -> 0 | AA51: 年 | AB51: =+定期検査報告書!AB131 -> 0 | AD51: 月 | AE51: に | AF51: 改 | AG51: 善 | AH51: 予 | AI51: 定 | AJ51: ）
L53: =+定期検査報告書!AL131 -> 0 | M53: 予 | N53: 定 | O53: な | P53: し | Q53: （ | R53: 理 | S53: 由 | T53: : | AP53: ）
T66: ( | U66: 第 | V66: 二 | W66: 面 | X66: ）
A67: 防 | B67: 火 | C67: 設 | D67: 備 | E67: の | F67: 状 | G67: 況 | H67: 等
A69: 【 | B69: 1 | C69: ． | D69: 建 | E69: 築 | F69: 物 | G69: の | H69: 概 | I69: 要 | J69: 】
B70: 【 | C70: イ | D70: ． | E70: 階 | H70: 数 | I70: 】 | L70: 地 | M70: 上 | N70: =定期検査報告書!N61 -> 0 | Q70: 階 | T70: 地 | U70: 下 | V70: =定期検査報告書!V61 -> 0 | Y70: 階
B71: 【 | C71: ロ | D71: ． | E71: 建 | F71: 築 | G71: 面 | H71: 積 | I71: 】 | M71: =定期検査報告書!M62 -> 0 | T71: ㎡
B72: 【 | C72: ハ | D72: ． | E72: 延 | F72: べ | G72: 面 | H72: 積 | I72: 】 | M72: =定期検査報告書!M63 -> 0 | T72: ㎡
...
