Workbook

Sheet まず、お読みください
A1: ～ まず、お読みください。 ～
A2: ＜ ファイル使用時の注意事項 ＞
A4: １．シートの構成
B5: ☆ このExcelファイルは、４枚のワークシートで構成されています。
B6: ☆ 画面下部のシート見出しより、入力（表示）したいワークシート名をクリックしてください。
A8: ２．シートの保護について
B9: ☆ このExcelファイルは、ワークシートに[シートの保護]設定をしているため、保護されている
B10: セルの選択が出来ないようになっています。
B11: ☆ シート保護の解除は、[ホーム]タブ→[書式]→[シート保護の解除]をクリックしてください。
B12: ・「シートの保護を解除するためのパスワード」は未設定です。
B13: ☆ シートの保護を解除すると、セルの選択・入力・書式設定などの変更が可能になりますが、
B14: 誤って法令で決められている内容を変更されることのないようお願いします。
A16: ３．書類作成時の注意事項
B17: ☆ このExcelファイルは、まず「定期検査報告書」シートから入力してください。
B18: ☆ 「定期検査報告書」に入力することにより、「定期検査報告概要書」にも同じ内容が表示されます。
B19: ・記入欄以外の場所に入力された場合は、「定期検査報告概要書」には表示されませんので、ご注意ください。
B20: ☆ 入力される内容に対し記入欄が狭く、文字（数字等）が入りきらない場合がありますので、
B21: 入力画面上だけでなく、必ず印刷して内容を確認してください。
B22: ☆ 入力行が不足する場合はシートの保護を解除し追加してください
A24: ４．入力方法
B25: ☆ 入力が必要な箇所は「定期検査報告書」シートに | H25: で塗りつぶしがされている所です
B26: ・該当しない箇所があれば入力は不要です

Sheet 注意事項
A1: （注意）
A2: １．各面共通関係
B3: ① | C3: ※印のある欄は記入しないでください。
B4: ② | C4: 数字は算用数字を、単位はメートル法を用いてください。
B5: ③ | C5: 記入欄が不足する場合は、枠を拡大、行を追加して記入するか、別紙に必要な事項を記入し添えてください。
A6: ２．第一面関係
B7: ① | C7: 検査者が２人以上のときは、代表となる検査者を検査者氏名欄に記入してください。
B8: ② | C8: １欄及び２欄は、所有者又は管理者が法人のときは、「ロ」はそれぞれ法人の名称及び代表者氏名を、「ニ」はそれぞれ法人の所在地を記入してください。
B9: ③ | C9: 第二面の６欄の「イ」において「要是正の指摘あり」のチェックボックスに「レ」マークを入れた場合においては、４欄の「イ」の「要是正の指摘あり」のチェックボックスに「レ」マークを入れてください。また、第二面の６欄の「イ」において、「既存不適格」のチェックボックスに「レ」マークを入れたときは、併せて４欄の「イ」の「既存不適格」のチェックボックスに「レ」マークを入れてください。
A10: ３．第二面関係
B11: ① | C11: この書類は、建築物ごとに、防火設備の概要及び当該防火設備の構造方法に係る検査結果について作成してください。
B12: ② | C12: ２欄の「イ」及び「ロ」は、検査対象の防火設備を有する建築物に関する直前の確認について、「ハ」及び「ニ」は、検査対象の防火設備を有する建築物に関する直前の完了検査について、それぞれ記入してください。
B13: ③ | C13: ２欄の「ロ」及び「ニ」は、該当するチェックボックスに「レ」マークを入れ、「指定確認検査機関」の場合には、併せてその名称を記入してください。
B14: ④ | C14: ３欄の「イ」は、検査が終了した年月日を記入し、「ロ」は、検査対象の防火設備に関する直前の報告について記入して下さい。
B15: ⑤ | C15: ３欄の「ロ」は、報告の対象となっていない場合には「未実施」のチェックボックスに「レ」マークを入れてください。
B16: ⑥ | C16: ３欄の「ハ」は、前回の定期検査の結果を記録した書類の写しの保存の有無について記入してください。
B17: ⑦ | C17: ４欄は、代表となる検査者並びに検査に係る防火設備に係る全ての検査者について記入してください。当該防火設備の検査を行った検査者が１人の場合は、その他の検査者欄は削除して構いません。
B18: ⑧ | C18: ４欄の「イ」は、検査者の有する資格について記入してください。検査者が防火設備検査員である場合は、防火設備検査員資格者証の交付番号を「防火設備検査員」の番号欄に記入してください。
B19: ⑨ | C19: ４欄の「ニ」は、検査者が法人に勤務している場合は、検査者の勤務先について記入し、勤務先が建築士事務所のときは、事務所登録番号を併せて記入してください。
B20: ⑩ | C20: ４欄の「ホ」から「ト」までは、検査者が法人に勤務している場合は、検査者の勤務先について記入し、検査者が法人に勤務していない場合は検査者の住所について記入してください。
B21: ⑪ | C21: ５欄の「イ」は、建築基準法施行令第１２８条の６第３項に規定する区画避難安全検証法により区画避難安全性能が検証された建築物のときは「区画避難安全検証法」のチェックボックスに、同令第１２９条第３項に規定する階避難安全検証法により階避難安全性能が検証された建築物のときは「階避難安全検証法」のチェックボックスに、同令第129条の２第４項に規定する全館避難安全検証法により全館避難安全性能が検証された建築物のときは「全館避難安全検証法」のチェックボックスに、それぞれ「レ」マークを入れ、「区画避難安全検証法」の場合は区画避難安全性能を検証した階を、「階避難安全検証法」の場合は、階避難安全性能を検証した階を、併せて記入してください。建築基準法第38条（同法第66条、第67条の2及び第88条第１項において準用する場合を含む。）の規定による特殊構造方法等認定、同法第68条の25第１項の規定による構造方法等の認定又は建築基準法の一部を改正する法律（平成10年法律第100号）による改正前の建築基準法第38条の規定による認定を受けている建築物のうち、当該適用について特に報告が必要なものについては「その他」のチェックボックスに「レ」マークを入れ、その概要を記入してください。
B22: ⑫ | C22: ５欄の「ロ」は、検査対象の防火設備について、チェックボックスに「レ」マークを入れてください。また、防火扉、防火シャッター、耐火クロススクリーンについては、個々の扉又はカーテン部ごとにその枚数を計上し、その合計を記入してください。ドレンチャーについては、散水ヘッドの合計の個数を記入してください。「その他」の場合は具体的な内容と台数を記入してください。
... B27: ⑰ | C27: 各欄に掲げられている項目以外で特に報告すべき事項は、８欄又は別紙に記載して添えてください。
A28: ４．第三面関係
B29: ① | C29: 第三面は、前回検査時以降に把握した防火設備に係る不具合のうち第二面の６欄において指摘されるもの以外のものについて、把握できる範囲において記入してください。前回検査時以降不具合を把握していない場合は、第三面を省略することができます。
B30: ② | C30: 「不具合を把握した年月」欄は、当該不具合を把握した年月を記入してください。
B31: ③ | C31: 「不具合の概要」欄は、当該不具合の箇所を特定した上で、当該不具合の具体的内容を記入してください。不具合の概要を記入する場合にあっては、当該防火設備が設置されている区画の概要を明記してください。
B32: ④ | C32: 「考えられる原因」欄は、当該不具合が生じた原因として主として考えられるものを記入してください。ただし、当該不具合が生じた原因が不明な場合は「不明」と記入してください。
B33: ⑤ | C33: 「改善（予定）年月」欄は、既に改善を実施している場合には実施年月を、改善を行う予定がある場合には改善予定年月を記入し、改善を行う予定がない場合には「－」を記入してください。
B34: ⑥ | C34: 「改善措置の概要等」欄は、既に改善を実施している場合又は改善を行う予定がある場合に、具体的措置の概要を記入してください。改善を行う予定がない場合には、その理由を記入してください。

Sheet 定期検査報告書
A1: 2025.7.1～ | AI1: 整 理 番 号
AQ2: 2
A3: 第 | B3: 三 | C3: 十 | D3: 六 | E3: 号 | F3: の | G3: 八 | H3: 様 | I3: 式 | J3: （ | K3: 第 | L3: 六 | M3: 条 | N3: 関 | O3: 係 | P3: ） | Q3: ( | R3: A | S3: 4 | T3: ) | AI3: （必ず記入して下さい）
R4: 定 期 検 査 報 告 書
T5: 防 火 設 備
T6: ( | U6: 第 | V6: 一 | W6: 面 | X6: ）
B7: 建 | C7: 築 | D7: 基 | E7: 準 | F7: 法 | G7: 第 | H7: 1 | I7: 2 | J7: 条 | K7: 第 | L7: 3 | M7: 項 | N7: の | O7: 規 | P7: 定 | Q7: に | R7: よ | S7: り | T7: 、 | U7: 定 | V7: 期 | W7: 検 | X7: 査 | Y7: の | Z7: 結 | AA7: 果 | AB7: を | AC7: 報 | AD7: 告 | AE7: し | AF7: ま | AG7: す | AH7: 。 | AI7: こ | AJ7: の | AK7: 報 | AL7: 告 | AM7: 書 | AN7: に | AO7: 記 | AP7: 載
A8: の | B8: 事 | C8: 項 | D8: は | E8: 、 | F8: 事 | G8: 実 | H8: に | I8: 相 | J8: 違 | K8: あ | L8: り | M8: ま | N8: せ | O8: ん | P8: 。 | AU8: 平成・令和
B9: 特 | C9: 定 | D9: 行 | E9: 政 | F9: 庁 | Q9: 様
AC10: 令和 | AI10: 年 | AL10: 月 | AO10: 日 | AU10: 平成
AU11: 令和
X12: 報 | Y12: 告 | Z12: 者 | AA12: 氏 | AB12: 名 | AV12: A
AV13: B
AV14: C
X15: 検 | Y15: 査 | Z15: 者 | AA15: 氏 | AB15: 名 | AV15: D
AV16: E
AV17: F
A18: 【 | B18: 1 | C18: ． | D18: 所 | E18: 有 | F18: 者 | G18: 】 | AV18: G
B19: 【 | C19: イ | D19: ． | E19: 氏 | F19: 名 | G19: の | H19: フ | I19: リ | J19: ガ | K19: ナ | L19: 】 | AV19: H
B20: 【 | C20: ロ | D20: ． | E20: 氏 | H20: 名 | I20: 】 | AV20: I
B21: 【 | C21: ハ | D21: ． | E21: 郵 | F21: 便 | G21: 番 | H21: 号 | I21: 】 | AV21: J
B22: 【 | C22: ニ | D22: ． | E22: 住 | H22: 所 | I22: 】 | AV22: K
B23: 【 | C23: ホ | D23: ． | E23: 電 | F23: 話 | G23: 番 | H23: 号 | I23: 】 | AV23: L
AV24: M
AV25: N
A26: 【 | B26: 2 | C26: ． | D26: 管 | E26: 理 | F26: 者 | G26: 】
B27: 【 | C27: イ | D27: ． | E27: 氏 | F27: 名 | G27: の | H27: フ | I27: リ | J27: ガ | K27: ナ | L27: 】
B28: 【 | C28: ロ | D28: ． | E28: 氏 | H28: 名 | I28: 】
B29: 【 | C29: ハ | D29: ． | E29: 郵 | F29: 便 | G29: 番 | H29: 号 | I29: 】
B30: 【 | C30: ニ | D30: ． | E30: 住 | H30: 所 | I30: 】
B31: 【 | C31: ホ | D31: ． | E31: 電 | F31: 話 | G31: 番 | H31: 号 | I31: 】
A34: 【 | B34: 3 | C34: ． | D34: 報 | E34: 告 | F34: 対 | G34: 象 | H34: 建 | I34: 築 | J34: 物 | K34: 】
B35: 【 | C35: イ | D35: ． | E35: 所 | F35: 在 | H35: 地 | I35: 】
B36: 【 | C36: ロ | D36: ． | E36: 名 | F36: 称 | G36: の | H36: フ | I36: リ | J36: ガ | K36: ナ | L36: 】
B37: 【 | C37: ハ | D37: ． | E37: 名 | H37: 称 | I37: 】
B38: 【 | C38: ニ | D38: ． | E38: 用 | H38: 途 | I38: 】
A41: 【 | B41: 4 | C41: ． | D41: 検 | E41: 査 | F41: に | G41: よ | H41: る | I41: 指 | J41: 摘 | K41: の | L41: 概 | M41: 要 | N41: 】
B43: 【 | C43: イ | D43: ． | E43: 指 | F43: 摘 | G43: の | H43: 内 | I43: 容 | J43: 】 | O43: =IF(O119="","",O119) | P43: 要 | Q43: 是 | R43: 正 | S43: の | T43: 指 | U43: 摘 | V43: あ | W43: り | Y43: （ | Z43: =IF(Z119="","",Z119) | AA43: 既 | AB43: 存 | AC43: 不 | AD43: 適 | AE43: 格 | AF43: ） | AI43: =IF(AI119="","",AI119) | AJ43: 指 | AK43: 摘 | AL43: な | AM43: し
B45: 【 | C45: ロ | D45: ． | E45: 指 | F45: 摘 | G45: の | H45: 概 | I45: 要 | J45: 】 | L45: =M123&" "&M184&" "&M234
C46: =IF(C121="","",C121)
B47: 【 | C47: ハ | D47: ． | E47: 改 | F47: 善 | G47: 予 | H47: 定 | I47: の | J47: 有 | K47: 無 | L47: 】 | O47: =IF(O123="","",O123) | P47: 有 | R47: （ | S47: 令和 | U47: =IF(U123="","",U123) | W47: 年 | X47: =IF(X123="","",X123) | Z47: 月 | AA47: に | AB47: 改 | AC47: 善 | AD47: 予 | AE47: 定 | AF47: ） | AI47: =IF(AI123="","",AI123) | AJ47: 無
B49: 【 | C49: ニ | D49: ． | E49: そ | F49: の | G49: 他 | H49: 特 | I49: 記 | J49: 事 | K49: 項 | L49: 】
C51: ※ | D51: 受 | E51: 付 | F51: 欄 | N51: ※ | P51: 特 | Q51: 記 | R51: 欄 | AJ51: ※ | AK51: 整 | AL51: 理 | AM51: 番 | AN51: 号 | AO51: 欄
A52: 令 | B52: 和 | E52: 年 | H52: 月 | K52: 日
B53: 第 | K53: 号 | AX53: ✓
A54: 係 | B54: 員 | C54: 氏 | D54: 名
AS55: 福岡県知事
AS56: 北九州市長
T57: ( | U57: 第 | V57: 二 | W57: 面 | X57: ） | AS57: 福岡市長
A58: 防 | B58: 火 | C58: 設 | D58: 備 | E58: の | F58: 状 | G58: 況 | H58: 等 | AS58: 久留米市長
AS59: 大牟田市長
A60: 【 | B60: 1 | C60: ． | D60: 建 | E60: 築 | F60: 物 | G60: の | H60: 概 | I60: 要 | J60: 】
B61: 【 | C61: イ | D61: ． | E61: 階 | H61: 数 | I61: 】 | L61: 地 | M61: 上 | Q61: 階 | T61: 地 | U61: 下 | Y61: 階
B62: 【 | C62: ロ | D62: ． | E62: 建 | F62: 築 | G62: 面 | H62: 積 | I62: 】 | U62: ㎡
B63: 【 | C63: ハ | D63: ． | E63: 延 | F63: べ | G63: 面 | H63: 積 | I63: 】 | U63: ㎡
A66: 【 | B66: 2 | C66: ． | D66: 確 | E66: 認 | F66: 済 | G66: 証 | H66: 交 | I66: 付 | J66: 年 | K66: 月 | L66: 日 | M66: 等 | N66: 】
B67: 【 | C67: イ | D67: ． | E67: 確 | F67: 認 | G67: 済 | H67: 証 | I67: 交 | J67: 付 | K67: 年 | L67: 月 | M67: 日 | N67: 】 | P67: Ｓ・Ｈ・Ｒ | W67: 年 | Z67: 月 | AC67: 日 | AE67: 第 | AO67: 号 | AX67: 昭和 ・ 平成
B68: 【 | C68: ロ | D68: ． | E68: 確 | F68: 認 | G68: 済 | H68: 証 | I68: 交 | J68: 付 | K68: 者 | L68: 】 | Q68: 建 | R68: 築 | S68: 主 | T68: 事 | U68: 等 | W68: 指 | X68: 定 | Y68: 確 | Z68: 認 | AA68: 検 | AB68: 査 | AC68: 機 | AD68: 関 | AE68: （ | AO68: ） | AX68: 昭和
B69: 【 | C69: ハ | D69: ． | E69: 検 | F69: 査 | G69: 済 | H69: 証 | I69: 交 | J69: 付 | K69: 年 | L69: 月 | M69: 日 | N69: 】 | P69: Ｓ・Ｈ・Ｒ | W69: 年 | Z69: 月 | AC69: 日 | AE69: 第 | AO69: 号 | AX69: 平成
B70: 【 | C70: ニ | D70: ． | E70: 検 | F70: 査 | G70: 済 | H70: 証 | I70: 交 | J70: 付 | K70: 者 | L70: 】 | Q70: 建 | R70: 築 | S70: 主 | T70: 事 | U70: 等 | W70: 指 | X70: 定 | Y70: 確 | Z70: 認 | AA70: 検 | AB70: 査 | AC70: 機 | AD70: 関 | AE70: （ | AO70: ）
A73: 【 | B73: 3 | C73: ． | D73: 検 | E73: 査 | F73: 日 | G73: 等 | H73: 】 | AU73: H・R | AV73: Ｓ・Ｈ・Ｒ
B74: 【 | C74: イ | D74: ． | E74: 今 | F74: 回 | G74: の | H74: 検 | I74: 査 | J74: 】 | Q74: 令 | R74: 和 | U74: 年 | X74: 月 | AA74: 日 | AB74: 実 | AC74: 施 | AU74: 平成 | AV74: 昭和
B75: 【 | C75: ロ | D75: ． | E75: 前 | F75: 回 | G75: の | H75: 検 | I75: 査 | J75: 】 | M75: 実 | N75: 施 | P75: （ | Q75: 令和 | U75: 年 | X75: 月 | AA75: 日 | AB75: 報 | AC75: 告 | AD75: ） | AH75: 未 | AI75: 実 | AJ75: 施 | AU75: 令和 | AV75: 平成
B76: 【 | C76: ハ | D76: ． | E76: 前 | F76: 回 | G76: の | H76: 検 | I76: 査 | J76: に | K76: 関 | L76: す | M76: る | N76: 書 | O76: 類 | P76: の | Q76: 写 | R76: し | S76: 】 | V76: 有 | AB76: 無 | AV76: 令和
A79: 【 | B79: 4 | C79: ． | D79: 防 | E79: 火 | F79: 設 | G79: 備 | H79: の | I79: 検 | J79: 査 | K79: 者 | L79: 】
B80: （ | C80: 代 | D80: 表 | E80: と | F80: な | G80: る | H80: 検 | I80: 査 | J80: 者 | K80: ）
B81: 【 | C81: イ | D81: ． | E81: 資 | H81: 格 | I81: 】 | J81: （ | N81: ） | O81: 建 | P81: 築 | Q81: 士 | X81: （ | AD81: ） | AE81: 登 | AF81: 録 | AG81: 第 | AO81: 号 | AX81: 1級
J82: 防火設備検査員 | AG82: 第 | AO82: 号 | AX82: 2級
B83: 【 | C83: ロ | D83: ． | E83: 氏 | F83: 名 | G83: の | H83: フ | I83: リ | J83: ガ | K83: ナ | L83: 】
B84: 【 | C84: ハ | D84: ． | E84: 氏 | H84: 名 | I84: 】 | AX84: 建設大臣
B85: 【 | C85: ニ | D85: ． | E85: 勤 | F85: 務 | H85: 先 | I85: 】 | AX85: 国土交通大臣
J86: （ | N86: ） | O86: 建 | P86: 築 | Q86: 士 | R86: 事 | S86: 務 | T86: 所 | W86: （ | AC86: ） | AD86: 知 | AE86: 事 | AF86: 登 | AG86: 録 | AH86: 第 | AO86: 号 | AX86: 都道府県知事
B87: 【 | C87: ホ | D87: ． | E87: 郵 | F87: 便 | G87: 番 | H87: 号 | I87: 】
B88: 【 | C88: ヘ | D88: ． | E88: 所 | F88: 在 | H88: 地 | I88: 】
B89: 【 | C89: ト | D89: ． | E89: 電 | F89: 話 | G89: 番 | H89: 号 | I89: 】
B90: （ | C90: そ | D90: の | E90: 他 | F90: の | G90: 検 | H90: 査 | I90: 者 | J90: ）
B91: 【 | C91: イ | D91: ． | E91: 資 | H91: 格 | I91: 】 | J91: （ | N91: ） | O91: 建 | P91: 築 | Q91: 士 | X91: （ | AD91: ） | AE91: 登 | AF91: 録 | AG91: 第 | AO91: 号
J92: 防火設備検査員 | AG92: 第 | AO92: 号
B93: 【 | C93: ロ | D93: ． | E93: 氏 | F93: 名 | G93: の | H93: フ | I93: リ | J93: ガ | K93: ナ | L93: 】
B94: 【 | C94: ハ | D94: ． | E94: 氏 | H94: 名 | I94: 】
B95: 【 | C95: ニ | D95: ． | E95: 勤 | F95: 務 | H95: 先 | I95: 】
J96: （ | N96: ） | O96: 建 | P96: 築 | Q96: 士 | R96: 事 | S96: 務 | T96: 所 | W96: （ | AC96: ） | AD96: 知 | AE96: 事 | AF96: 登 | AG96: 録 | AH96: 第 | AO96: 号
B97: 【 | C97: ホ | D97: ． | E97: 郵 | F97: 便 | G97: 番 | H97: 号 | I97: 】
B98: 【 | C98: ヘ | D98: ． | E98: 所 | F98: 在 | H98: 地 | I98: 】
B99: 【 | C99: ト | D99: ． | E99: 電 | F99: 話 | G99: 番 | H99: 号 | I99: 】
A102: 【 | B102: 5 | C102: ． | D102: 防 | E102: 火 | F102: 設 | G102: 備 | H102: の | I102: 概 | J102: 要 | K102: 】
B103: 【 | C103: イ | D103: ． | E103: 避 | F103: 難 | G103: 安 | H103: 全 | I103: 検 | J103: 証 | K103: 法 | L103: 等 | M103: の | N103: 適 | O103: 用 | P103: 】 | R103: 区画避難安全検証法 | Z103: （ | AC103: 階 | AD103: ） | AF103: 階避難安全検証法 | AM103: （ | AP103: 階 | AQ103: ）
R105: 全館避難安全検証法 | AF105: そ | AG105: の | AH105: 他 | AI105: （ | AQ105: ）
B107: 【 | C107: ロ | D107: ． | E107: 防 | F107: 火 | G107: 設 | H107: 備 | I107: 】 | L107: 防 | M107: 火 | N107: 扉 | O107: （ | R107: 枚 | S107: ）
L109: 防 | M109: 火 | N109: シ | O109: ャ | P109: ッ | Q109: タ | R109: ー | S109: （ | V109: 枚 | W109: ）
L111: 耐 | M111: 火 | N111: ク | O111: ロ | P111: ス | Q111: ス | R111: ク | S111: リ | T111: ー | U111: ン | V111: （ | Y111: 枚 | Z111: ）
L113: ド | M113: レ | N113: ン | O113: チ | P113: ャ | Q113: ー | R113: （ | U113: 台 | V113: ）
L115: そ | M115: の | N115: 他 | O115: （ | Y115: 台 | Z115: ）
A118: 【 | B118: 6 | C118: ． | D118: 防 | E118: 火 | F118: 設 | G118: 備 | H118: の | I118: 検 | J118: 査 | K118: の | L118: 状 | M118: 況 | N118: 】
B119: 【 | C119: イ | D119: ． | E119: 指 | F119: 摘 | G119: の | H119: 内 | I119: 容 | J119: 】 | P119: 要 | Q119: 是 | R119: 正 | S119: の | T119: 指 | U119: 摘 | V119: あ | W119: り | Y119: （ | AA119: 既 | AB119: 存 | AC119: 不 | AD119: 適 | AE119: 格 | AF119: ） | AJ119: 指 | AK119: 摘 | AL119: な | AM119: し
B120: 【 | C120: ロ | D120: ． | E120: 指 | F120: 摘 | G120: の | H120: 概 | I120: 要 | J120: 】
B123: 【 | C123: ハ | D123: ． | E123: 改 | F123: 善 | G123: 予 | H123: 定 | I123: の | J123: 有 | K123: 無 | L123: 】 | P123: 有 | R123: （ | S123: 令 | T123: 和 | W123: 年 | Z123: 月 | AA123: に | AB123: 改 | AC123: 善 | AD123: 予 | AE123: 定 | AF123: ） | AJ123: 無
A126: 【 | B126: 7 | C126: ． | D126: 防 | E126: 火 | F126: 設 | G126: 備 | H126: の | I126: 不 | J126: 具 | K126: 合 | L126: の | M126: 発 | N126: 生 | O126: 状 | P126: 況 | Q126: 】
B127: 【 | C127: イ | D127: ． | E127: 不 | F127: 具 | I127: 合 | J127: 】 | M127: 有 | R127: 無
B129: 【 | C129: ロ | D129: ． | E129: 不 | F129: 具 | G129: 合 | H129: 記 | I129: 録 | J129: 】 | M129: 有 | R129: 無
...

Sheet 定期検査報告概要書
AI1: 整 理 番 号
AI2: =IF(定期検査報告書!AI2="","",IF(定期検査報告書!AI2=0,"0",定期検査報告書!AI2)) | AJ2: =IF(定期検査報告書!AJ2="","",IF(定期検査報告書!AJ2=0,"0",定期検査報告書!AJ2)) | AK2: =IF(定期検査報告書!AK2="","",IF(定期検査報告書!AK2=0,"0",定期検査報告書!AK2)) | AL2: =IF(定期検査報告書!AL2="","",IF(定期検査報告書!AL2=0,"0",定期検査報告書!AL2)) | AM2: =IF(定期検査報告書!AM2="","",IF(定期検査報告書!AM2=0,"0",定期検査報告書!AM2)) | AN2: =IF(定期検査報告書!AN2="","",IF(定期検査報告書!AN2=0,"0",定期検査報告書!AN2)) | AO2: =IF(定期検査報告書!AO2="","",IF(定期検査報告書!AO2=0,"0",定期検査報告書!AO2)) | AP2: =IF(定期検査報告書!AP2="","",IF(定期検査報告書!AP2=0,"0",定期検査報告書!AP2)) | AQ2: =IF(定期検査報告書!AQ2="","",IF(定期検査報告書!AQ2=0,"0",定期検査報告書!AQ2)) -> 2
A4: 第 | B4: 三 | C4: 十 | D4: 六 | E4: 号 | F4: の | G4: 九 | H4: 様 | I4: 式 | J4: （ | K4: 第 | L4: 六 | M4: 条 | N4: 、 | O4: 第 | P4: 六 | Q4: 条 | R4: の | S4: 三 | T4: 、 | U4: 第 | V4: 十 | W4: 一 | X4: 条 | Y4: の | Z4: 四 | AA4: 関 | AB4: 係 | AC4: ） | AD4: ( | AE4: A | AF4: 4 | AG4: )
Q5: 定 期 検 査 報 告 概 要 書
T6: 防 | U6: 火 | V6: 設 | W6: 備
T8: ( | U8: 第 | V8: 一 | W8: 面 | X8: ）
A11: 【 | B11: 1 | C11: ． | D11: 所 | E11: 有 | F11: 者 | G11: 】
B12: 【 | C12: イ | D12: ． | E12: 氏 | F12: 名 | G12: の | H12: フ | I12: リ | J12: ガ | K12: ナ | L12: 】 | M12: =IF(定期検査報告書!M19="","",定期検査報告書!M19)
B13: 【 | C13: ロ | D13: ． | E13: 氏 | H13: 名 | I13: 】 | M13: =IF(定期検査報告書!M20="","",定期検査報告書!M20)
B14: 【 | C14: ハ | D14: ． | E14: 郵 | F14: 便 | G14: 番 | H14: 号 | I14: 】 | M14: =IF(定期検査報告書!M21="","",定期検査報告書!M21)
B15: 【 | C15: ニ | D15: ． | E15: 住 | H15: 所 | I15: 】 | M15: =IF(定期検査報告書!M22="","",定期検査報告書!M22)
A18: 【 | B18: 2 | C18: ． | D18: 管 | E18: 理 | F18: 者 | G18: 】
B19: 【 | C19: イ | D19: ． | E19: 氏 | F19: 名 | G19: の | H19: フ | I19: リ | J19: ガ | K19: ナ | L19: 】 | M19: =IF(定期検査報告書!M27="","",定期検査報告書!M27)
B20: 【 | C20: ロ | D20: ． | E20: 氏 | H20: 名 | I20: 】 | M20: =IF(定期検査報告書!M28="","",定期検査報告書!M28)
B21: 【 | C21: ハ | D21: ． | E21: 郵 | F21: 便 | G21: 番 | H21: 号 | I21: 】 | M21: =IF(定期検査報告書!M29="","",定期検査報告書!M29)
B22: 【 | C22: ニ | D22: ． | E22: 住 | H22: 所 | I22: 】 | M22: =IF(定期検査報告書!M30="","",定期検査報告書!M30)
A25: 【 | B25: 3 | C25: ． | D25: 報 | E25: 告 | F25: 対 | G25: 象 | H25: 建 | I25: 築 | J25: 物 | K25: 】
B26: 【 | C26: イ | D26: ． | E26: 所 | F26: 在 | H26: 地 | I26: 】 | M26: =IF(定期検査報告書!M35="","",定期検査報告書!M35)
B27: 【 | C27: ロ | D27: ． | E27: 名 | F27: 称 | G27: の | H27: フ | I27: リ | J27: ガ | K27: ナ | L27: 】 | M27: =IF(定期検査報告書!M36="","",定期検査報告書!M36)
B28: 【 | C28: ハ | D28: ． | E28: 名 | H28: 称 | I28: 】 | M28: =IF(定期検査報告書!M37="","",定期検査報告書!M37)
B29: 【 | C29: ニ | D29: ． | E29: 用 | H29: 途 | I29: 】 | M29: =IF(定期検査報告書!M38="","",定期検査報告書!M38)
A32: 【 | B32: 4 | C32: ． | D32: 検 | E32: 査 | F32: に | G32: よ | H32: る | I32: 指 | J32: 摘 | K32: の | L32: 概 | M32: 要 | N32: 】
B34: 【 | C34: イ | D34: ． | E34: 指 | F34: 摘 | G34: の | H34: 内 | I34: 容 | J34: 】 | O34: =IF(定期検査報告書!O43="","",定期検査報告書!O43) | P34: 要 | Q34: 是 | R34: 正 | S34: の | T34: 指 | U34: 摘 | V34: あ | W34: り | Y34: （ | Z34: =IF(定期検査報告書!Z43="","",定期検査報告書!Z43) | AA34: 既 | AB34: 存 | AC34: 不 | AD34: 適 | AE34: 格 | AF34: ） | AI34: =IF(定期検査報告書!AI43="","",定期検査報告書!AI43) | AJ34: 指 | AK34: 摘 | AL34: な | AM34: し
B36: 【 | C36: ロ | D36: ． | E36: 指 | F36: 摘 | G36: の | H36: 概 | I36: 要 | J36: 】
C37: =IF(定期検査報告書!C46="","",定期検査報告書!C46)
B38: 【 | C38: ハ | D38: ． | E38: 改 | F38: 善 | G38: 予 | H38: 定 | I38: の | J38: 有 | K38: 無 | L38: 】 | O38: =IF(定期検査報告書!O47="","",定期検査報告書!O47) | P38: 有 | R38: （ | S38: 令 | T38: 和 | U38: =IF(定期検査報告書!U47="","",定期検査報告書!U47) | W38: 年 | X38: =IF(定期検査報告書!X47="","",定期検査報告書!X47) | Z38: 月 | AA38: に | AB38: 改 | AC38: 善 | AD38: 予 | AE38: 定 | AF38: ） | AI38: =IF(定期検査報告書!AI47="","",定期検査報告書!AI47) | AJ38: 無
B40: 【 | C40: ニ | D40: ． | E40: そ | F40: の | G40: 他 | H40: 特 | I40: 記 | J40: 事 | K40: 項 | L40: 】 | M40: =IF(定期検査報告書!M49="","",定期検査報告書!M49)
C41: =IF(定期検査報告書!C50="","",定期検査報告書!C50)
A43: 【 | B43: 5 | C43: ． | D43: 不 | E43: 具 | F43: 合 | G43: の | H43: 発 | I43: 生 | J43: 状 | K43: 況 | L43: 】
B45: 【 | C45: イ | D45: ． | E45: 不 | G45: 具 | I45: 合 | J45: 】 | L45: =+定期検査報告書!L127 -> 0 | M45: 有 | Q45: =+定期検査報告書!Q127 -> 0 | R45: 無 | AS45: ✓
B47: 【 | C47: ロ | D47: ． | E47: 不 | F47: 具 | G47: 合 | H47: 記 | I47: 録 | J47: 】 | L47: =+定期検査報告書!L129 -> 0 | M47: 有 | Q47: =+定期検査報告書!Q129 -> 0 | R47: 無
B49: 【 | C49: ハ | D49: ． | E49: 不 | F49: 具 | G49: 合 | H49: の | I49: 概 | J49: 要 | K49: 】 | L49: =定期検査報告書!F150&" "&定期検査報告書!F152&" "&定期検査報告書!F154&" "&定期検査報告書!F156
B51: 【 | C51: ニ | D51: ． | E51: 改 | F51: 善 | G51: の | H51: 状 | I51: 況 | J51: 】 | L51: =+定期検査報告書!L131 -> 0 | M51: 実 | N51: 施 | O51: 済 | Q51: =+定期検査報告書!Q131 -> 0 | R51: 改 | S51: 善 | T51: 予 | U51: 定 | V51: （ | W51: 令 | X51: 和 | Y51: =+定期検査報告書!Y131 -> 0 | AA51: 年 | AB51: =+定期検査報告書!AB131 -> 0 | AD51: 月 | AE51: に | AF51: 改 | AG51: 善 | AH51: 予 | AI51: 定 | AJ51: ）
L53: =+定期検査報告書!AL131 -> 0 | M53: 予 | N53: 定 | O53: な | P53: し | Q53: （ | R53: 理 | S53: 由 | T53: : | AP53: ）
T66: ( | U66: 第 | V66: 二 | W66: 面 | X66: ）
A67: 防 | B67: 火 | C67: 設 | D67: 備 | E67: の | F67: 状 | G67: 況 | H67: 等
A69: 【 | B69: 1 | C69: ． | D69: 建 | E69: 築 | F69: 物 | G69: の | H69: 概 | I69: 要 | J69: 】
B70: 【 | C70: イ | D70: ． | E70: 階 | H70: 数 | I70: 】 | L70: 地 | M70: 上 | N70: =定期検査報告書!N61 -> 0 | Q70: 階 | T70: 地 | U70: 下 | V70: =定期検査報告書!V61 -> 0 | Y70: 階
B71: 【 | C71: ロ | D71: ． | E71: 建 | F71: 築 | G71: 面 | H71: 積 | I71: 】 | M71: =定期検査報告書!M62 -> 0 | T71: ㎡
B72: 【 | C72: ハ | D72: ． | E72: 延 | F72: べ | G72: 面 | H72: 積 | I72: 】 | M72: =定期検査報告書!M63 -> 0 | T72: ㎡
A75: 【 | B75: 2 | C75: ． | D75: 確 | E75: 認 | F75: 済 | G75: 証 | H75: 交 | I75: 付 | J75: 年 | K75: 月 | L75: 日 | M75: 等 | N75: 】
B76: 【 | C76: イ | D76: ． | E76: 確 | F76: 認 | G76: 済 | H76: 証 | I76: 交 | J76: 付 | K76: 年 | L76: 月 | M76: 日 | N76: 】 | P76: =定期検査報告書!P67 -> Ｓ・Ｈ・Ｒ | U76: =定期検査報告書!U67 -> 0 | W76: 年 | X76: =定期検査報告書!X67 -> 0 | Z76: 月 | AA76: =定期検査報告書!AA67 -> 0 | AC76: 日 | AE76: 第 | AF76: =定期検査報告書!AF67 -> 0 | AN76: 号
B77: 【 | C77: ロ | D77: ． | E77: 確 | F77: 認 | G77: 済 | H77: 証 | I77: 交 | J77: 付 | K77: 者 | L77: 】 | P77: =定期検査報告書!P68 -> 0 | Q77: 建 | R77: 築 | S77: 主 | T77: 事 | U77: 等 | V77: =定期検査報告書!V68 -> 0 | W77: 指 | X77: 定 | Y77: 確 | Z77: 認 | AA77: 検 | AB77: 査 | AC77: 機 | AD77: 関 | AE77: （ | AF77: =定期検査報告書!AF68 -> 0 | AN77: ）
B78: 【 | C78: ハ | D78: ． | E78: 検 | F78: 査 | G78: 済 | H78: 証 | I78: 交 | J78: 付 | K78: 年 | L78: 月 | M78: 日 | N78: 】 | P78: =定期検査報告書!P69 -> Ｓ・Ｈ・Ｒ | U78: =定期検査報告書!U69 -> 0 | W78: 年 | X78: =定期検査報告書!X69 -> 0 | Z78: 月 | AA78: =定期検査報告書!AA69 -> 0 | AC78: 日 | AE78: 第 | AF78: =定期検査報告書!AF69 -> 0 | AN78: 号
B79: 【 | C79: ニ | D79: ． | E79: 検 | F79: 査 | G79: 済 | H79: 証 | I79: 交 | J79: 付 | K79: 者 | L79: 】 | P79: =定期検査報告書!P70 -> 0 | Q79: 建 | R79: 築 | S79: 主 | T79: 事 | U79: 等 | V79: =定期検査報告書!V70 -> 0 | W79: 指 | X79: 定 | Y79: 確 | Z79: 認 | AA79: 検 | AB79: 査 | AC79: 機 | AD79: 関 | AE79: （ | AF79: =定期検査報告書!AF70 -> 0 | AN79: ）
A82: 【 | B82: 3 | C82: ． | D82: 検 | E82: 査 | F82: 日 | G82: 等 | H82: 】
B83: 【 | C83: イ | D83: ． | E83: 今 | F83: 回 | G83: の | H83: 検 | I83: 査 | J83: 】 | P83: 令 | Q83: 和 | R83: =定期検査報告書!S74 -> 0 | T83: 年 | U83: =定期検査報告書!V74 -> 0 | W83: 月 | X83: =定期検査報告書!Y74 -> 0 | Z83: 日 | AA83: 実 | AB83: 施
B84: 【 | C84: ロ | D84: ． | E84: 前 | F84: 回 | G84: の | H84: 検 | I84: 査 | J84: 】 | L84: =定期検査報告書!L75 -> 0 | M84: 実 | N84: 施 | O84: （ | P84: =+定期検査報告書!Q75 -> 令和 | R84: =定期検査報告書!S75 -> 0 | T84: 年 | U84: =定期検査報告書!V75 -> 0 | W84: 月 | X84: =定期検査報告書!Y75 -> 0 | Z84: 日 | AA84: 報 | AB84: 告 | AC84: ） | AF84: =定期検査報告書!AG75 -> 0 | AG84: 未 | AH84: 実 | AI84: 施
B86: 【 | C86: ハ | D86: ． | E86: 前 | F86: 回 | G86: の | H86: 検 | I86: 査 | J86: に | K86: 関 | L86: す | M86: る | N86: 書 | O86: 類 | P86: の | Q86: 写 | R86: し | S86: 】 | U86: =定期検査報告書!U76 -> 0 | V86: 有 | AA86: =定期検査報告書!AA76 -> 0 | AB86: 無
A89: 【 | B89: 4 | C89: ． | D89: 防 | E89: 火 | F89: 設 | G89: 備 | H89: の | I89: 検 | J89: 査 | K89: 者 | L89: 】
B90: （ | C90: 代 | D90: 表 | E90: と | F90: な | G90: る | H90: 検 | I90: 査 | J90: 者 | K90: ）
B91: 【 | C91: イ | D91: ． | E91: 資 | H91: 格 | I91: 】 | J91: （ | K91: =定期検査報告書!K81 -> 0 | N91: ） | O91: 建 | P91: 築 | Q91: 士 | S91: =定期検査報告書!S81 -> 0 | X91: （ | Y91: =定期検査報告書!Y81 -> 0 | AD91: ） | AE91: 登 | AF91: 録 | AG91: 第 | AH91: =定期検査報告書!AH81 -> 0 | AO91: 号
J92: 防 | K92: 火 | L92: 設 | M92: 備 | N92: 検 | O92: 査 | P92: 員 | AG92: 第 | AH92: =定期検査報告書!AH82 -> 0 | AO92: 号
B93: 【 | C93: ロ | D93: ． | E93: 氏 | F93: 名 | G93: の | H93: フ | I93: リ | J93: ガ | K93: ナ | L93: 】 | M93: =IF(定期検査報告書!M83="","",定期検査報告書!M83)
B94: 【 | C94: ハ | D94: ． | E94: 氏 | H94: 名 | I94: 】 | M94: =IF(定期検査報告書!M84="","",定期検査報告書!M84)
B95: 【 | C95: ニ | D95: ． | E95: 勤 | F95: 務 | H95: 先 | I95: 】 | M95: =IF(定期検査報告書!M85="","",定期検査報告書!M85)
J96: （ | K96: =定期検査報告書!K86 -> 0 | N96: ） | O96: 建 | P96: 築 | Q96: 士 | R96: 事 | S96: 務 | T96: 所 | V96: （ | W96: =定期検査報告書!X86 -> 0 | AB96: ） | AC96: 知 | AD96: 事 | AE96: 登 | AF96: 録 | AG96: 第 | AH96: =定期検査報告書!AI86 -> 0 | AO96: 号
B97: 【 | C97: ホ | D97: ． | E97: 郵 | F97: 便 | G97: 番 | H97: 号 | I97: 】 | M97: =IF(定期検査報告書!M87="","",定期検査報告書!M87)
B98: 【 | C98: ヘ | D98: ． | E98: 所 | F98: 在 | H98: 地 | I98: 】 | M98: =IF(定期検査報告書!M88="","",定期検査報告書!M88)
B99: 【 | C99: ト | D99: ． | E99: 電 | F99: 話 | G99: 番 | H99: 号 | I99: 】 | M99: =IF(定期検査報告書!M89="","",定期検査報告書!M89)
B100: （ | C100: そ | D100: の | E100: 他 | F100: の | G100: 検 | H100: 査 | I100: 者 | J100: ）
B101: 【 | C101: イ | D101: ． | E101: 資 | H101: 格 | I101: 】 | J101: （ | K101: =定期検査報告書!K91 -> 0 | N101: ） | O101: 建 | P101: 築 | Q101: 士 | S101: =定期検査報告書!S91 -> 0 | X101: （ | Y101: =定期検査報告書!Y91 -> 0 | AD101: ） | AE101: 登 | AF101: 録 | AG101: 第 | AH101: =定期検査報告書!AH91 -> 0 | AO101: 号
J102: 防 | K102: 火 | L102: 設 | M102: 備 | N102: 検 | O102: 査 | P102: 員 | AG102: 第 | AH102: =定期検査報告書!AH92 -> 0 | AO102: 号
B103: 【 | C103: ロ | D103: ． | E103: 氏 | F103: 名 | G103: の | H103: フ | I103: リ | J103: ガ | K103: ナ | L103: 】 | M103: =IF(定期検査報告書!M93="","",定期検査報告書!M93)
B104: 【 | C104: ハ | D104: ． | E104: 氏 | H104: 名 | I104: 】 | M104: =IF(定期検査報告書!M94="","",定期検査報告書!M94)
B105: 【 | C105: ニ | D105: ． | E105: 勤 | F105: 務 | H105: 先 | I105: 】 | M105: =IF(定期検査報告書!M95="","",定期検査報告書!M95)
J106: （ | K106: =定期検査報告書!K96 -> 0 | N106: ） | O106: 建 | P106: 築 | Q106: 士 | R106: 事 | S106: 務 | T106: 所 | V106: （ | W106: =定期検査報告書!X96 -> 0 | AB106: ） | AC106: 知 | AD106: 事 | AE106: 登 | AF106: 録 | AG106: 第 | AH106: =定期検査報告書!AI96 -> 0 | AO106: 号
B107: 【 | C107: ホ | D107: ． | E107: 郵 | F107: 便 | G107: 番 | H107: 号 | I107: 】 | M107: =IF(定期検査報告書!M97="","",定期検査報告書!M97)
B108: 【 | C108: ヘ | D108: ． | E108: 所 | F108: 在 | H108: 地 | I108: 】 | M108: =IF(定期検査報告書!M98="","",定期検査報告書!M98)
B109: 【 | C109: ト | D109: ． | E109: 電 | F109: 話 | G109: 番 | H109: 号 | I109: 】 | M109: =IF(定期検査報告書!M99="","",定期検査報告書!M99)
A112: 【 | B112: 5 | C112: ． | D112: 防 | E112: 火 | F112: 設 | G112: 備 | H112: の | I112: 概 | J112: 要 | K112: 】
B113: 【 | C113: イ | D113: ． | E113: 避 | F113: 難 | G113: 安 | H113: 全 | I113: 検 | J113: 証 | K113: 法 | L113: 等 | M113: の | N113: 適 | O113: 用 | P113: 】 | Q113: =定期検査報告書!Q103 -> 0 | R113: 区画避難安全検証法 | Z113: （ | AA113: =+定期検査報告書!AA103 -> 0 | AC113: 階 | AD113: ） | AE113: =定期検査報告書!AE103 -> 0 | AF113: 階避難安全検証法 | AM113: （ | AN113: =+定期検査報告書!AN103 -> 0 | AP113: 階 | AQ113: ）
Q115: =定期検査報告書!Q105 -> 0 | R115: 全館避難安全検証法 | AE115: =定期検査報告書!AE105 -> 0 | AF115: そ | AG115: の | AH115: 他 | AI115: （ | AJ115: =+定期検査報告書!AJ105 -> 0 | AQ115: ）
B117: 【 | C117: ロ | D117: ． | E117: 防 | F117: 火 | G117: 設 | H117: 備 | I117: 】 | K117: =+定期検査報告書!K107 -> 0 | L117: 防 | M117: 火 | N117: 扉 | O117: （ | P117: =+定期検査報告書!P107 -> 0 | R117: 枚 | S117: ）
K119: =+定期検査報告書!K109 -> 0 | L119: 防 | M119: 火 | N119: シ | O119: ャ | P119: ッ | Q119: タ | R119: ー | S119: （ | T119: =+定期検査報告書!T109 -> 0 | V119: 枚 | W119: ）
K121: =+定期検査報告書!K111 -> 0 | L121: 耐 | M121: 火 | N121: ク | O121: ロ | P121: ス | Q121: ス | R121: ク | S121: リ | T121: ー | U121: ン | V121: （ | W121: =+定期検査報告書!W111 -> 0 | Y121: 枚 | Z121: ）
K123: =+定期検査報告書!K113 -> 0 | L123: ド | M123: レ | N123: ン | O123: チ | P123: ャ | Q123: ー | R123: （ | S123: =+定期検査報告書!S113 -> 0 | U123: 台 | V123: ）
K125: =+定期検査報告書!K115 -> 0 | L125: そ | M125: の | N125: 他 | O125: （ | P125: =+定期検査報告書!P115 -> 0 | W125: =+定期検査報告書!W115 -> 0 | Y125: 台 | Z125: ）
A128: 【 | B128: 6 | C128: ． | D128: 備 | E128: 考 | F128: 】
B129: =定期検査報告書!B135 -> 0
B139: （注意）
A140: この様式には、第三十六号の八様式に記入した内容と同一の内容を記入してください。第二面は、同様式
A141: 第二面において指摘があった防火設備についてのみ作成し、第一面に添えてください。
