Workbook

Sheet まず、お読みください
A1: ～ まず、お読みください。 ～
A2: ＜ ファイル使用時の注意事項 ＞
A4: １．シートの構成
B5: ☆ このExcelファイルは、４枚のワークシートで構成されています。
B6: ☆ 画面下部のシート見出しより、入力（表示）したいワークシート名をクリックしてください。
A8: ２．シートの保護について
B9: ☆ このExcelファイルは、ワークシートに[シートの保護]設定をしているため、保護されている
B10: セルの選択が出来ないようになっています。
B11: ☆ シート保護の解除は、[ホーム]タブ→[書式]→[シート保護の解除]をクリックしてください。
B12: ・「シートの保護を解除するためのパスワード」は未設定です。
B13: ☆ シートの保護を解除すると、セルの選択・入力・書式設定などの変更が可能になりますが、
B14: 誤って法令で決められている内容を変更されることのないようお願いします。
A16: ３．書類作成時の注意事項
B17: ☆ このExcelファイルは、まず「定期調査報告書」シートから入力してください。
B18: ☆ 「定期調査報告書」に入力することにより、「定期調査報告概要書」にも同じ内容が表示されます。
B19: ・記入欄以外の場所に入力された場合は、「定期調査報告概要書」には表示されませんので、ご注意ください。
B20: ・「定期調査報告概要書」第一面の【7．建築物等に係る不具合等の状況】の記述欄は直接入力してください。
B21: ☆ 入力される内容に対し記入欄が狭く、文字（数字等）が入りきらない場合がありますので、
B22: 入力画面上だけでなく、必ず印刷して内容を確認してください。
B23: ☆ 入力行が不足する場合はシートの保護を解除し追加してください。
A25: ４．入力方法
B26: ☆ 入力が必要な箇所は「定期調査報告書」シートに | H26: で塗りつぶしがされている所です。
B27: ・該当しない箇所があれば入力は不要です。

Sheet （注意）
A1: （注意）
A2: １．各面共通関係
B3: ① | D3: ※印のある欄は記入しないでください。
B4: ② | D4: 数字は算用数字を、単位はメートル法を用いてください。
B5: ③ | D5: 記入欄が不足する場合は、枠を拡大、行を追加して記入するか、別紙に必要な事項を記入し添えてください。
A6: ２．第一面関係
B7: ① | D7: 調査者が２人以上のときは、代表となる調査者を調査者氏名欄に記入してください。
B8: ② | D8: １欄及び２欄は、所有者又は管理者が法人のときは、「ロ」はそれぞれ法人の名称及び代表者氏名を、「ニ」はそれぞれ法人の所在地を記入してください。
B9: ③ | D9: ３欄は、代表となる調査者及び当該建築物の調査を行ったすべての調査者について記入してください。当該建築物の調査を行った調査者が１人の場合は、その他の調査者欄は削除して構いません。
B10: ④ | D10: ３欄の「イ」は、調査者の有する資格について記入してください。調査者が特定建築物調査員である場合は、特定建築物調査員資格証の交付番号を「特定建築物調査員」の番号欄に記入してください。
B11: ⑤ | D11: ３欄の「ニ」は、調査者が法人に勤務している場合は、調査者の勤務先について記入し、勤務先が建築士事務所のときは、事務所登録番号を併せて記入してください。
B12: ⑥ | D12: ３欄の「ホ」から「ト」までは、調査者が法人に勤務している場合は、調査者の勤務先について記入し、調査者が法人に勤務していない場合は、調査者の住所について記入してください。
B13: ⑦ | D13: 第三面の２欄のいずれかの「イ」において「要是正の指摘あり」のチェックボックスに「レ」マークを入れたときは、５欄の「イ」の「要是正の指摘あり」のチェックボックスに「レ」マークを入れ、それ以外のときは、「指摘なし」のチェックボックスに「レ」マークを入れてください。また、第三面の２欄の「イ」の「要是正の指摘あり」のチェックボックスに「レ」マークを入れたものの全てにおいて、「既存不適格」のチェックボックスに「レ」マークを入れたときは、併せて５欄の「イ」の「既存不適格」のチェックボックスに「レ」マークを入れてください。
B14: ⑧ | D14: ５欄の「ロ」は、指摘された事項のうち特に報告すべき事項があれば記入してください。
B15: ⑨ | D15: ５欄の「ハ」は、第三面の２欄のいずれかの「ハ」において改善予定があるとしているときは「有」のチェックボックスに「レ」マークを入れ、第三面の２欄の「ハ」に記入された改善予定年月のうち最も早いものを併せて記入してください。
B16: ⑩ | D16: ５欄の「ニ」は、指摘された事項以外に特に報告すべき事項があれば記入してください。
A17: ３．第二面関係
B18: ① | D18: この書類は、建築物ごとに作成してください。
B19: ② | D19: 敷地が複数の地域にまたがるときは、１欄の「イ」は、該当するすべてのチェックボックスに「レ」マークを入れてください。建築基準法第22条第１項の規定により地域指定がされている場合、災害危険区域に指定されている場合その他建築基準法又はそれに基づく命令により地域等の指定がされている場合は、「その他」のチェックボックスに「レ」マークを入れ、併せてその内容を記入してください。
B20: ③ | D20: １欄の「ロ」は、該当する用途地域名を全て記入してください。
B21: ④ | D21: ２欄の「イ」は、該当する全てのチェックボックスに「レ」マークを入れてください。なお、その他の構造からなる場合には、「その他」のチェックボックスに「レ」マークを入れ、併せて具体的な構造を記入してください。
B22: ⑤ | D22: ３欄の「イ」は、建築基準法別表第一（い）欄に掲げる用途に供する部分について、最上階から順に記入し、当該用途に供する部分の床面積を記入してください。ただし、特定行政庁が報告の必要がある用途を定めている場合には、その用途について記入してください。該当する用途が複数あるときは、それらを全て記入してください。
B23: ⑥ | D23: ３欄の「ロ」は、「イ」の用途ごとに床面積の合計を記入してください。
B24: ⑦ | D24: ４欄は、建築基準法施行令第108条の３第２項に規定する耐火性能検証法により耐火に関する性能が検証されたときは「耐火性能検証法」のチェックボックスに、同令第108条の３第５項に規定する防火区画検証法により遮炎に関する性能が検証されたときは「防火区画検証法」のチェックボックスに、同令第１２８条の６第３項に規定する区画避難安全検証法により区画避難安全性能が検証されたときは「区画避難安全検証法」のチェックボックスに、同令第129条第３項に規定する階避難安全検証法により階避難安全性能が検証されたときは「階避難安全検証法」のチェックボックスに、同令第129条の２第４項に規定する全館避難安全検証法により全館避難安全性能が検証されたときは「全館避難安全検証法」のチェックボックスに、それぞれ「レ」マークを入れ、「区画避難安全検証法」の場合は区画避難安全性能を検証した階を、「階避難安全検証法」の場合は階避難安全性能を検証した階を、併せて記入してください。建築基準法第38条（同法第66条、第67条の2及び第88条第１項において準用する場合を含む。）の規定による特殊構造方法等認定、同法第68条の25第１項の規定による構造方法の認定又は建築基準法の一部を改正する法律(平成10年法律第100号）による改正前の建築基準法第38条の規定による認定を受けている建築物のうち、当該適用について特に報告が必要なものについては「その他」のチェックボックスに「レ」マークを入れ、その概要を記入してください。
B25: ⑧ | D25: ５欄は、前回調査時以降の建築（新築を除く。）、模様替え、修繕又は用途の変更（以下「増築、改築、用途変更等」という。）について、古いものから順に記入し、確認（建築基準法第６条第１項に規定する確認。以下同じ。）を受けている場合は建築確認済証交付年月日を、受けていない場合は増築、改築、用途変更等が完了した年月日を、併せて記入し、それぞれ増築、改築、用途変更等の概要を記入してください。
B26: ⑨ | D26: ６欄の「イ」は、最近の確認について、当該確認に要した図書の全部又は一部があるときは｢有」のチェックボックスに「レ」マークを入れ、そのうち各階平面図のみがあるときは併せて「各階平面図あり」のチェックボックスに「レ」マークを入れてください。
B27: ⑩ | D27: ６欄の「ロ」は、最近の確認に係る確認済証について、該当するチェックボックスに「レ」マークを入れてください。「有」の場合は、確認済証の交付年月日を記入し、交付者に関するチェックボックスに「レ」マークを入れ、「指定確認検査機関」の場合は、併せてその名称を記入してください。
B28: ⑪ | D28: ６欄の「ハ」は、直近の完了検査について、当該完了検査に要した図書の全部又は一部があるときは「有」のチェックボックスに「レ」マークを入れてください。
B29: ⑫ | D29: ６欄の「ニ」は、（注意）⑩に準じて記入してください。
... B33: ⑯ | D33: ここに書き表せない事項で特に報告すべき事項は、７欄又は別紙に記載して添えてください。
A34: ４．第三面関係
B35: ① | D35: この書類は、建築物ごとに、当該建築物の敷地、構造及び建築設備の状況（別途建築設備の検査を行っている場合は建築設備の設置の状況に係るものに限る。）に関する調査の結果について作成してください。
B36: ② | D36: １欄の「イ」は、調査が終了した年月日を記入してください。
B37: ③ | D37: １欄の「ロ」から「ホ」までは、報告の対象となっていない場合には「未実施」のチェックボックスに「レ」マークを入れてください。
B38: ④ | D38: １欄の「ハ」から「ホ」までは、直前の報告について、それぞれ記入してください。
B39: ⑤ | D39: ２欄の「イ」は、調査結果において、是正が必要と認められるときは「要是正の指摘あり」のチェックボックスに「レ」マークを入れ、建築基準法第３条第２項（同法第86条の９第１項において準用する場合を含む。）の規定の適用を受けているものであることが確認されたときは併せて「既存不適格」のチェックボックスに「レ」マークを入れてください。
B40: ⑥ | D40: ２欄の「イ」の「要是正の指摘あり」のチェックボックスに「レ」マークを入れたとき（「既存不適格」のチェックボックスに「レ」マークを入れたときを除く。）は、「ロ」に指摘の概要を記入してください。
B41: ⑦ | D41: ２欄の「イ」の「要是正の指摘あり」のチェックボックスに「レ」マークを入れた当該指摘をうけた項目について改善予定があるときは「ハ」の「有」のチェックボックスに「レ」マークを入れ、併せて改善予定年月を記入してください。改善予定がないときは「ハ」の「無」のチェックボックスに「レ」マークを入れてください。
B42: ⑧ | D42: ３欄は、建築基準法第28条の２の規定の適用を受ける石綿を添加した建築材料について記入してください。「イ」の「有（飛散防止措置無）」又は「有(飛散防止措置有）」のチェックボックスに「レ」マークを入れたときは、当該建築材料が確認された室を記入してください。当該建築材料について飛散防止措置を行う予定があるときは、「ロ」の「有」のチェックボックスに「レ」マークを入れ、併せて措置予定年月を記入してください。措置を行う予定がないときは、「ロ」の「無」のチェックボックスに「レ」マークを入れてください。
B43: ⑨ | D43: ４欄は、建築物の耐震改修の促進に関する法律（平成7年法律第123号）第２条第１項又は第２項に規定する耐震診断又は耐震改修の実施の有無について記入してください。耐震診断又は耐震改修の実施の予定があるときは、実施予定年月を記入し、具体的な耐震改修の内容を定めている場合は別紙に記入し添えてください。
B44: ⑩ | D44: 前回調査時以降に把握した屋根ふき材、内装材、外装材等及び広告塔、装飾塔その他建築物の屋外に取り付けられたものの脱落、バルコニー、屋上等の手すりその他建築物の部分の脱落等（以下「不具合等」という。）について第四面の「不具合等の概要」欄に記入したときは、５欄の「イ」の「有」のチェックボックスに「レ」マークを入れ、当該不具合等について記録が有るときは「ロ」の「有」のチェックボックスに「レ」マークを入れ、記録が無いときは「ロ」の「無」のチェックボックスに「レ」マークを入れてください。また、第四面に記入された不具合等のうち当該不具合等を受け既に改善を実施しているものがあり、かつ、改善を行う予定があるものがない場合には「ハ」の「実施済」のチェックボックスに「レ」マークを入れ、第四面に記入された不具合等のうち改善を行う予定があるものがある場合には「改善予定」のチェックボックスに「レ」マークを入れ、第四面の「改善(予定）年月」欄に記入された改善予定年月のうち最も早いものを併せて記入し、これら以外の場合には「予定なし」のチェックボックスに「レ」マークを入れてください。
B45: ⑪ | D45: 各欄に掲げられている項目以外で特に報告すべき事項は、６欄又は別紙に記入して添えてください。
A46: ５．第四面関係
B47: ① | D47: 第四面は、前回調査時以降に把握した建築物等に係る不具合等のうち第三面の２欄において指摘されるもの以外のものについて、把握できる範囲において記入してください。前回調査時以降の不具合等を把握していない場合は、第四面を省略することができます。
B48: ② | D48: 「不具合等を把握した年月」欄は、当該不具合等を把握した年月を記入してください。
B49: ③ | D49: 「不具合等の概要」欄は、当該不具合等の概要を記入してください。
B50: ④ | D50: 「考えられる原因」欄は、当該不具合等が生じた原因として考えられるものを記入してください。
B51: ⑤ | D51: 「改善(予定）年月」欄は、既に改善を実施している場合には実施年月を、改善を行う予定がある場合には改善予定年月を記入し、改善を行う予定がない場合には「－」マークを記入してください。
B52: ⑥ | D52: 「改善措置の概要等」欄は、既に改善を実施している場合又は改善を行う予定がある場合に、具体的措置の概要を記入してください。改善を行う予定がない場合には、その理由を記入してください。

Sheet 定期調査報告書
A1: 2025.7.1.～
A2: 第 | B2: 三 | C2: 十 | D2: 六 | E2: 号 | F2: の | G2: 二 | H2: 様 | I2: 式 | J2: （ | K2: 第 | L2: 五 | M2: 条 | N2: 関 | O2: 係 | P2: ） | Q2: ( | R2: A | S2: 4 | T2: ) | AI2: 整 理 番 号
S3: 定 | T3: 期 | U3: 調 | V3: 査 | W3: 報 | X3: 告 | Y3: 書 | AQ3: 0
T4: ( | U4: 第 | V4: 一 | W4: 面 | X4: ）
B5: 建 | C5: 築 | D5: 基 | E5: 準 | F5: 法 | G5: 第 | H5: 1 | I5: 2 | J5: 条 | K5: 第 | L5: 1 | M5: 項 | N5: の | O5: 規 | P5: 定 | Q5: に | R5: よ | S5: る | T5: 定 | U5: 期 | V5: 調 | W5: 査 | X5: の | Y5: 結 | Z5: 果 | AA5: を | AB5: 報 | AC5: 告 | AD5: し | AE5: ま | AF5: す | AG5: 。 | AH5: こ | AI5: の | AJ5: 報 | AK5: 告 | AL5: 書 | AM5: に | AN5: 記 | AO5: 載
A6: の | B6: 事 | C6: 項 | D6: は | E6: 、 | F6: 事 | G6: 実 | H6: に | I6: 相 | J6: 違 | K6: あ | L6: り | M6: ま | N6: せ | O6: ん | P6: 。
B7: 特 | C7: 定 | D7: 行 | E7: 政 | F7: 庁 | Q7: 様
AC8: 令和 | AI8: 年 | AL8: 月 | AO8: 日
AS9: 平成 | AU9: A
X10: 報 | Y10: 告 | Z10: 者 | AA10: 氏 | AB10: 名 | AS10: 令和 | AU10: B
AU11: C
AU12: D
X13: 調 | Y13: 査 | Z13: 者 | AA13: 氏 | AB13: 名 | AU13: E
AU14: F
A15: 【 | B15: 1 | C15: ． | D15: 所 | E15: 有 | F15: 者 | G15: 】 | AU15: G
B16: 【 | C16: イ | D16: ． | E16: 氏 | F16: 名 | G16: の | H16: フ | I16: リ | J16: ガ | K16: ナ | L16: 】 | AU16: H
B17: 【 | C17: ロ | D17: ． | E17: 氏 | H17: 名 | I17: 】 | AU17: I
B18: 【 | C18: ハ | D18: ． | E18: 郵 | F18: 便 | G18: 番 | H18: 号 | I18: 】 | AU18: J
B19: 【 | C19: ニ | D19: ． | E19: 住 | H19: 所 | I19: 】 | AU19: K
B20: 【 | C20: ホ | D20: ． | E20: 電 | F20: 話 | G20: 番 | H20: 号 | I20: 】 | AU20: L
AU21: M
A22: 【 | B22: 2 | C22: ． | D22: 管 | E22: 理 | F22: 者 | G22: 】 | AU22: N | BK22: 共同住宅
B23: 【 | C23: イ | D23: ． | E23: 氏 | F23: 名 | G23: の | H23: フ | I23: リ | J23: ガ | K23: ナ | L23: 】 | BK23: 事務所
B24: 【 | C24: ロ | D24: ． | E24: 氏 | H24: 名 | I24: 】 | BK24: 店舗
B25: 【 | C25: ハ | D25: ． | E25: 郵 | F25: 便 | G25: 番 | H25: 号 | I25: 】 | BK25: 飲食店
B26: 【 | C26: ニ | D26: ． | E26: 住 | H26: 所 | I26: 】 | BK26: 有床診療所
B27: 【 | C27: ホ | D27: ． | E27: 電 | F27: 話 | G27: 番 | H27: 号 | I27: 】 | BK27: ホテル
BK28: 旅館
A29: 【 | B29: 3 | C29: ． | D29: 調 | E29: 査 | F29: 者 | G29: 】 | BK29: 百貨店
B30: （ | C30: 代 | D30: 表 | E30: と | F30: な | G30: る | H30: 調 | I30: 査 | J30: 者 | K30: ） | BK30: マーケット
B31: 【 | C31: イ | D31: ． | E31: 資 | H31: 格 | I31: 】 | BK31: 病院
J32: （ | N32: ） | O32: 建 | P32: 築 | Q32: 士 | X32: （ | AD32: ） | AE32: 登 | AF32: 録 | AG32: 第 | AP32: 号 | AT32: 建設大臣 | BK32: 診療所
J33: 特 | K33: 定 | L33: 建 | M33: 築 | N33: 物 | O33: 調 | P33: 査 | Q33: 員 | AG33: 第 | AP33: 号 | AT33: 国土交通大臣 | BK33: 就寝用福祉施設
B34: 【 | C34: ロ | D34: ． | E34: 氏 | F34: 名 | G34: の | H34: フ | I34: リ | J34: ガ | K34: ナ | L34: 】 | AT34: 知事 | BK34: エントランス等
B35: 【 | C35: ハ | D35: ． | E35: 氏 | H35: 名 | I35: 】 | BK35: 駐車場
B36: 【 | C36: ニ | D36: ． | E36: 勤 | F36: 務 | H36: 先 | I36: 】 | BK36: 倉庫
J37: （ | N37: ） | O37: 建 | P37: 築 | Q37: 士 | R37: 事 | S37: 務 | T37: 所 | W37: （ | AC37: ） | AD37: 知 | AE37: 事 | AF37: 登 | AG37: 録 | AH37: 第 | AP37: 号 | BK37: 共用部分
B38: 【 | C38: ホ | D38: ． | E38: 郵 | F38: 便 | G38: 番 | H38: 号 | I38: 】 | BK38: 集会室
B39: 【 | C39: ヘ | D39: ． | E39: 所 | F39: 在 | H39: 地 | I39: 】 | BK39: 機械室 | CG39: 1 | CH39: 敷 | CI39: 地 | CJ39: 及 | CK39: び | CL39: 地 | CM39: 盤 | CO39: =IF(O183=0,0,1) -> 0 | CP39: =IF(Z183=0,0,1) -> 0 | CQ39: =IF(AI183=0,0,1) -> 0 | CT39: 改善予定 | CY39: 有 | CZ39: =IF(O187=0,0,1) -> 0 | DA39: =IFERROR(DATE(BE134,BH134,1),"") | DB39: =IFERROR(DATE(U187,X187,1),"") | DD39: 無 | DE39: =IF(AI187=0,0,1) -> 0
B40: 【 | C40: ト | D40: ． | E40: 電 | F40: 話 | G40: 番 | H40: 号 | I40: 】 | CG40: 2 | CH40: 建 | CI40: 築 | CJ40: 物 | CK40: の | CL40: 外 | CM40: 部 | CO40: =IF(O191=0,0,1) -> 0 | CP40: =IF(Z191=0,0,1) -> 0 | CQ40: =IF(AI191=0,0,1) -> 0 | CT40: 改善予定 | CY40: 有 | CZ40: =IF(O195=0,0,1) -> 0 | DA40: =IFERROR(DATE(BE135,BH135,1),"") | DB40: =IFERROR(DATE(U195,X195,1),"") | DD40: 無 | DE40: =IF(AI195=0,0,1) -> 0
B41: （ | C41: そ | D41: の | E41: 他 | F41: の | G41: 調 | H41: 査 | I41: 者 | J41: ） | CG41: 3 | CH41: 屋 | CI41: 上 | CJ41: 及 | CK41: び | CL41: 屋 | CM41: 根 | CO41: =IF(O199=0,0,1) -> 0 | CP41: =IF(Z199=0,0,1) -> 0 | CQ41: =IF(AI199=0,0,1) -> 0 | CT41: 改善予定 | CY41: 有 | CZ41: =IF(O203=0,0,1) -> 0 | DA41: =IFERROR(DATE(BE136,BH136,1),"") | DB41: =IFERROR(DATE(U203,X203,1),"") | DD41: 無 | DE41: =IF(AI203=0,0,1) -> 0
B42: 【 | C42: イ | D42: ． | E42: 資 | H42: 格 | I42: 】 | CG42: 4 | CH42: 建 | CI42: 築 | CJ42: 物 | CK42: の | CL42: 内 | CM42: 部 | CO42: =IF(O207=0,0,1) -> 0 | CP42: =IF(Z207=0,0,1) -> 0 | CQ42: =IF(AI207=0,0,1) -> 0 | CT42: 改善予定 | CY42: 有 | CZ42: =IF(O211=0,0,1) -> 0 | DA42: =IFERROR(DATE(BE137,BH137,1),"") | DB42: =IFERROR(DATE(U211,X211,1),"") | DD42: 無 | DE42: =IF(AI211=0,0,1) -> 0
J43: （ | N43: ） | O43: 建 | P43: 築 | Q43: 士 | X43: （ | AD43: ） | AE43: 登 | AF43: 録 | AG43: 第 | AP43: 号 | CG43: 5 | CH43: 避 | CI43: 難 | CJ43: 施 | CK43: 設 | CL43: 等 | CO43: =IF(O215=0,0,1) -> 0 | CP43: =IF(Z215=0,0,1) -> 0 | CQ43: =IF(AI215=0,0,1) -> 0 | CT43: 改善予定 | CY43: 有 | CZ43: =IF(O219=0,0,1) -> 0 | DA43: =IFERROR(DATE(BE138,BH138,1),"") | DB43: =IFERROR(DATE(U219,X219,1),"") | DD43: 無 | DE43: =IF(AI219=0,0,1) -> 0
J44: 特 | K44: 定 | L44: 建 | M44: 築 | N44: 物 | O44: 調 | P44: 査 | Q44: 員 | AG44: 第 | AP44: 号 | CG44: 6 | CH44: そ | CI44: の | CJ44: 他 | CO44: =IF(O223=0,0,1) -> 0 | CP44: =IF(Z223=0,0,1) -> 0 | CQ44: =IF(AI223=0,0,1) -> 0 | CT44: 改善予定 | CY44: 有 | CZ44: =IF(O227=0,0,1) -> 0 | DA44: =IFERROR(DATE(BE139,BH139,1),"") | DB44: =IFERROR(DATE(U227,X227,1),"") | DD44: 無 | DE44: =IF(AI227=0,0,1) -> 0
B45: 【 | C45: ロ | D45: ． | E45: 氏 | F45: 名 | G45: の | H45: フ | I45: リ | J45: ガ | K45: ナ | L45: 】 | CL45: 結果 | CO45: =SUM(CO39:CO44) -> 0 | CP45: =SUM(CP39:CP44) -> 0 | CQ45: =SUM(CQ39:CQ44) -> 0 | CW45: 結果 | CY45: 有 | CZ45: =SUM(CZ39:CZ44) -> 0 | DB45: =IF(VALUE((TEXT(MIN(DB39:DB44),"yy")))=0,"",VALUE((TEXT(MIN(DB39:DB44),"yy")))) | DC45: =IF(DB45="","",MIN(DB39:DB44)) | DD45: 無 | DE45: =SUM(DE39:DE44) -> 0
B46: 【 | C46: ハ | D46: ． | E46: 氏 | H46: 名 | I46: 】
B47: 【 | C47: ニ | D47: ． | E47: 勤 | F47: 務 | H47: 先 | I47: 】
J48: （ | N48: ） | O48: 建 | P48: 築 | Q48: 士 | R48: 事 | S48: 務 | T48: 所 | W48: （ | AC48: ） | AD48: 知 | AE48: 事 | AF48: 登 | AG48: 録 | AH48: 第 | AP48: 号
B49: 【 | C49: ホ | D49: ． | E49: 郵 | F49: 便 | G49: 番 | H49: 号 | I49: 】
B50: 【 | C50: ヘ | D50: ． | E50: 所 | F50: 在 | H50: 地 | I50: 】
B51: 【 | C51: ト | D51: ． | E51: 電 | F51: 話 | G51: 番 | H51: 号 | I51: 】
A53: 【 | B53: 4 | C53: ． | D53: 報 | E53: 告 | F53: 対 | G53: 象 | H53: 建 | I53: 築 | J53: 物 | K53: 】
B54: 【 | C54: イ | D54: ． | E54: 所 | F54: 在 | H54: 地 | I54: 】
B55: 【 | C55: ロ | D55: ． | E55: 名 | F55: 称 | G55: の | H55: フ | I55: リ | J55: ガ | K55: ナ | L55: 】
B56: 【 | C56: ハ | D56: ． | E56: 名 | H56: 称 | I56: 】
B57: 【 | C57: ニ | D57: ． | E57: 用 | H57: 途 | I57: 】
A60: 【 | B60: 5 | C60: ． | D60: 調 | E60: 査 | F60: に | G60: よ | H60: る | I60: 指 | J60: 摘 | K60: の | L60: 概 | M60: 要 | N60: 】
B61: 【 | C61: イ | D61: ． | E61: 指 | F61: 摘 | G61: の | H61: 内 | I61: 容 | J61: 】 | O61: =IF(CO45>0,"✔","") | P61: 要 | Q61: 是 | R61: 正 | S61: の | T61: 指 | U61: 摘 | V61: あ | W61: り | Y61: （ | Z61: =IF(AND(CP45>0,CO45=CP45),"✔","") | AA61: 既 | AB61: 存 | AC61: 不 | AD61: 適 | AE61: 格 | AF61: ） | AI61: =IF(AND(CO45=0,CP45=0,CQ45>0),"✔","") | AJ61: 指 | AK61: 摘 | AL61: な | AM61: し | AT61: ✓
B62: 【 | C62: ロ | D62: ． | E62: 指 | F62: 摘 | G62: の | H62: 概 | I62: 要 | J62: 】
C63: =M185&" "&M193&" "&M201&" "&M209&" "&M217&" "&M225
B67: 【 | C67: ハ | D67: ． | E67: 改 | F67: 善 | G67: 予 | H67: 定 | I67: の | J67: 有 | K67: 無 | L67: 】 | O67: =IF(CZ45>0,"✔","") | P67: 有 | R67: （ | S67: 令 | T67: 和 | U67: =DB45 | W67: 年 | X67: =DC45 | Z67: 月 | AA67: に | AB67: 改 | AC67: 善 | AD67: 予 | AE67: 定 | AF67: ） | AI67: =IF(AND(CZ45=0,DE45>0),"✔","") | AJ67: 無
B68: 【 | C68: ニ | D68: ． | E68: そ | F68: の | G68: 他 | H68: 特 | I68: 記 | J68: 事 | K68: 項 | L68: 】
C70: ※ | D70: 受 | E70: 付 | F70: 欄 | N70: ※ | P70: 特 | Q70: 記 | R70: 欄 | AJ70: ※ | AK70: 整 | AL70: 理 | AM70: 番 | AN70: 号 | AO70: 欄
A71: 令和 年 月 日
A72: 第 号 | O72: 新様式 | U72: 旧様式
A73: 係 | B73: 員 | C73: 氏 | D73: 名
T74: ( | U74: 第 | V74: 二 | W74: 面 | X74: ）
A75: 建 | B75: 築 | C75: 物 | D75: 及 | E75: び | F75: そ | G75: の | H75: 敷 | I75: 地 | J75: に | K75: 関 | L75: す | M75: る | N75: 事 | O75: 項
A77: 【 | B77: 1 | C77: ． | D77: 敷 | E77: 地 | F77: の | G77: 位 | H77: 置 | I77: 】
B78: 【 | C78: イ | D78: ． | E78: 防 | F78: 火 | G78: 地 | H78: 域 | I78: 等 | J78: 】 | M78: 防 | N78: 火 | O78: 地 | P78: 域 | V78: 準 | W78: 防 | X78: 火 | Y78: 地 | Z78: 域
M80: そ | N80: の | O80: 他 | P80: （ | R80: 法 | S80: 第 | T80: 2 | U80: 2 | V80: 条 | W80: 区 | X80: 域 | AE80: ） | AI80: 指 | AJ80: 定 | AK80: な | AL80: し
B81: 【 | C81: ロ | D81: ． | E81: 用 | F81: 途 | H81: 地 | I81: 域 | J81: 】
A84: 【 | B84: 2 | C84: ． | D84: 建 | E84: 築 | F84: 物 | G84: 及 | H84: び | I84: そ | J84: の | K84: 敷 | L84: 地 | M84: の | N84: 概 | O84: 要 | P84: 】
B85: 【 | C85: イ | D85: ． | E85: 構 | H85: 造 | I85: 】 | M85: 鉄 | N85: 筋 | O85: コ | P85: ン | Q85: ク | R85: リ | S85: ー | T85: ト | U85: 造 | Z85: 鉄 | AA85: 骨 | AB85: 鉄 | AC85: 筋 | AD85: コ | AE85: ン | AF85: ク | AG85: リ | AH85: ー | AI85: ト | AJ85: 造
M87: 鉄 | N87: 骨 | O87: 造 | Z87: そ | AA87: の | AB87: 他 | AC87: （ | AN87: ）
B88: 【 | C88: ロ | D88: ． | E88: 階 | H88: 数 | I88: 】 | N88: 地 | O88: 上 | T88: 階 | W88: 地 | X88: 下 | AC88: 階
B89: 【 | C89: ハ | D89: ． | E89: 敷 | F89: 地 | G89: 面 | H89: 積 | I89: 】 | T89: ㎡
B90: 【 | C90: ニ | D90: ． | E90: 建 | F90: 築 | G90: 面 | H90: 積 | I90: 】 | T90: ㎡
B91: 【 | C91: ホ | D91: ． | E91: 延 | F91: べ | G91: 面 | H91: 積 | I91: 】 | T91: ㎡
A94: 【 | B94: 3 | C94: ． | D94: 階 | E94: 別 | F94: 用 | G94: 途 | H94: 別 | I94: 床 | J94: 面 | K94: 積 | L94: 】 | S94: （ | V94: 用 | W94: 途 | Z94: ） | AC94: （ | AF94: 床 | AG94: 面 | AH94: 積 | AL94: ）
B95: 【 | C95: イ | D95: ． | E95: 階 | F95: 別 | G95: 用 | H95: 途 | I95: 別 | J95: 】 | M95: （ | P95: 階 | Q95: ） | S95: （ | Z95: ） | AC95: （ | AK95: ㎡ | AL95: ）
M96: （ | P96: 階 | Q96: ） | S96: （ | Z96: ） | AC96: （ | AK96: ㎡ | AL96: ）
M97: （ | P97: 階 | Q97: ） | S97: （ | Z97: ） | AC97: （ | AK97: ㎡ | AL97: ）
M98: （ | P98: 階 | Q98: ） | S98: （ | Z98: ） | AC98: （ | AK98: ㎡ | AL98: ）
M99: （ | P99: 階 | Q99: ） | S99: （ | Z99: ） | AC99: （ | AK99: ㎡ | AL99: ）
M100: （ | P100: 階 | Q100: ） | S100: （ | Z100: ） | AC100: （ | AK100: ㎡ | AL100: ）
M101: （ | P101: 階 | Q101: ） | S101: （ | Z101: ） | AC101: （ | AK101: ㎡ | AL101: ）
M102: （ | P102: 階 | Q102: ） | S102: （ | Z102: ） | AC102: （ | AK102: ㎡ | AL102: ）
M103: （ | P103: 階 | Q103: ） | S103: （ | Z103: ） | AC103: （ | AK103: ㎡ | AL103: ）
AA104: 合 計 | AC104: （ | AD104: =IF(SUM(AD95:AJ103)=0,"",SUM(AD95:AJ103)) | AK104: ㎡ | AL104: ）
B105: 【 | C105: ロ | D105: ． | E105: 用 | F105: 途 | H105: 別 | I105: 】 | S105: （ | Z105: ） | AC105: （ | AK105: ㎡ | AL105: ）
S106: （ | Z106: ） | AC106: （ | AK106: ㎡ | AL106: ）
S107: （ | Z107: ） | AC107: （ | AK107: ㎡ | AL107: ）
S108: （ | Z108: ） | AC108: （ | AK108: ㎡ | AL108: ）
A111: 【 | B111: 4 | C111: ． | D111: 性 | E111: 能 | F111: 検 | G111: 証 | H111: 法 | I111: 等 | J111: の | K111: 適 | L111: 用 | M111: 】 | Q111: 耐 | R111: 火 | S111: 性 | T111: 能 | U111: 検 | V111: 証 | W111: 法 | AE111: 防 | AF111: 火 | AG111: 区 | AH111: 画 | AI111: 検 | AJ111: 証 | AK111: 法
Q113: 区画避難安全検証法 | Y113: （ | AB113: 階 | AC113: ） | AE113: 階避難安全検証法 | AM113: （ | AP113: 階 | AQ113: ）
Q115: 全 | R115: 館 | S115: 避 | T115: 難 | U115: 安 | V115: 全 | W115: 検 | X115: 証 | Y115: 法 | AE115: そ | AF115: の | AG115: 他 | AH115: （ | AQ115: ）
A118: 【 | B118: 5 | C118: ． | D118: 増 | E118: 築 | F118: 、 | G118: 改 | H118: 築 | I118: 、 | J118: 用 | K118: 途 | L118: 変 | M118: 更 | N118: 等 | O118: の | P118: 経 | Q118: 過 | R118: 】
D119: Ｓ・Ｈ・Ｒ | K119: 年 | N119: 月 | Q119: 日 | S119: 概 | T119: 要 | U119: （ | AP119: ）
D120: Ｓ・Ｈ・Ｒ | K120: 年 | N120: 月 | Q120: 日 | S120: 概 | T120: 要 | U120: （ | AP120: ）
...

Sheet 定期調査報告概要書
AI1: 整 理 番 号
AI2: =IF(定期調査報告書!AI3="","",IF(定期調査報告書!AI3=0,"0",定期調査報告書!AI3)) | AJ2: =IF(定期調査報告書!AJ3="","",IF(定期調査報告書!AJ3=0,"0",定期調査報告書!AJ3)) | AK2: =IF(定期調査報告書!AK3="","",IF(定期調査報告書!AK3=0,"0",定期調査報告書!AK3)) | AL2: =IF(定期調査報告書!AL3="","",IF(定期調査報告書!AL3=0,"0",定期調査報告書!AL3)) | AM2: =IF(定期調査報告書!AM3="","",IF(定期調査報告書!AM3=0,"0",定期調査報告書!AM3)) | AN2: =IF(定期調査報告書!AN3="","",IF(定期調査報告書!AN3=0,"0",定期調査報告書!AN3)) | AO2: =IF(定期調査報告書!AO3="","",IF(定期調査報告書!AO3=0,"0",定期調査報告書!AO3)) | AP2: =IF(定期調査報告書!AP3="","",IF(定期調査報告書!AP3=0,"0",定期調査報告書!AP3)) | AQ2: =IF(定期調査報告書!AQ3="","",IF(定期調査報告書!AQ3=0,"0",定期調査報告書!AQ3)) -> 0
A3: 第 | B3: 三 | C3: 十 | D3: 六 | E3: 号 | F3: の | G3: 三 | H3: 様 | I3: 式 | J3: （ | K3: 第 | L3: 五 | M3: 条 | N3: 、 | O3: 第 | P3: 六 | Q3: 条 | R3: の | S3: 三 | T3: 、 | U3: 第 | V3: 十 | W3: 一 | X3: 条 | Y3: の | Z3: 四 | AA3: 関 | AB3: 係 | AC3: ) | AD3: ( | AE3: A | AF3: 4 | AG3: )
Q4: 定 | R4: 期 | S4: 調 | T4: 査 | U4: 報 | V4: 告 | W4: 概 | X4: 要 | Y4: 書
S5: ( | T5: 第 | U5: 一 | V5: 面 | W5: ）
B6: 調 | C6: 査 | D6: 等 | E6: の | F6: 概 | G6: 要
A8: 【 | B8: 1 | C8: ． | D8: 所 | E8: 有 | F8: 者 | G8: 】
B9: 【 | C9: イ | D9: ． | E9: 氏 | F9: 名 | G9: の | H9: フ | I9: リ | J9: ガ | K9: ナ | L9: 】 | M9: =定期調査報告書!M16 -> 0
B10: 【 | C10: ロ | D10: ． | E10: 氏 | H10: 名 | I10: 】 | M10: =定期調査報告書!M17 -> 0
B11: 【 | C11: ハ | D11: ． | E11: 郵 | F11: 便 | G11: 番 | H11: 号 | I11: 】 | K11: =定期調査報告書!K18 -> 0 | M11: =IF(定期調査報告書!M18="","",定期調査報告書!M18)
B12: 【 | C12: ニ | D12: ． | E12: 住 | H12: 所 | I12: 】 | K12: =定期調査報告書!K19 -> 0 | M12: =定期調査報告書!M19 -> 0
A15: 【 | B15: 2 | C15: ． | D15: 管 | E15: 理 | F15: 者 | G15: 】
B16: 【 | C16: イ | D16: ． | E16: 氏 | F16: 名 | G16: の | H16: フ | I16: リ | J16: ガ | K16: ナ | L16: 】 | M16: =定期調査報告書!M23 -> 0
B17: 【 | C17: ロ | D17: ． | E17: 氏 | H17: 名 | I17: 】 | M17: =定期調査報告書!M24 -> 0
B18: 【 | C18: ハ | D18: ． | E18: 郵 | F18: 便 | G18: 番 | H18: 号 | I18: 】 | K18: =定期調査報告書!K25 -> 0 | M18: =IF(定期調査報告書!M25="","",定期調査報告書!M25)
B19: 【 | C19: ニ | D19: ． | E19: 住 | H19: 所 | I19: 】 | K19: =定期調査報告書!K26 -> 0 | M19: =定期調査報告書!M26 -> 0
A22: 【 | B22: 3 | C22: ． | D22: 調 | E22: 査 | F22: 者 | G22: 】
B23: （ | C23: 代 | D23: 表 | E23: と | F23: な | G23: る | H23: 調 | I23: 査 | J23: 者 | K23: ）
B24: 【 | C24: イ | D24: ． | E24: 資 | H24: 格 | I24: 】
J25: （ | K25: =定期調査報告書!K32 -> 0 | N25: ） | O25: 建 | P25: 築 | Q25: 士 | U25: =+定期調査報告書!T32 -> 0 | Y25: （ | Z25: =定期調査報告書!Y32 -> 0 | AE25: ） | AF25: 登 | AG25: 録 | AH25: 第 | AI25: =定期調査報告書!AH32 -> 0 | AP25: 号
J26: 特 | K26: 定 | L26: 建 | M26: 築 | N26: 物 | O26: 調 | P26: 査 | Q26: 員 | AH26: 第 | AI26: =定期調査報告書!AH33 -> 0 | AP26: 号
B27: 【 | C27: ロ | D27: ． | E27: 氏 | F27: 名 | G27: の | H27: フ | I27: リ | J27: ガ | K27: ナ | L27: 】 | M27: =定期調査報告書!M34 -> 0
B28: 【 | C28: ハ | D28: ． | E28: 氏 | H28: 名 | I28: 】 | M28: =定期調査報告書!M35 -> 0
B29: 【 | C29: ニ | D29: ． | E29: 勤 | F29: 務 | H29: 先 | I29: 】 | M29: =定期調査報告書!M36 -> 0
J30: （ | K30: =定期調査報告書!K37 -> 0 | N30: ） | O30: 建 | P30: 築 | Q30: 士 | R30: 事 | S30: 務 | T30: 所 | W30: （ | X30: =定期調査報告書!X37 -> 0 | AC30: ） | AD30: 知 | AE30: 事 | AF30: 登 | AG30: 録 | AH30: 第 | AI30: =定期調査報告書!AI37 -> 0 | AP30: 号
B31: 【 | C31: ホ | D31: ． | E31: 郵 | F31: 便 | G31: 番 | H31: 号 | I31: 】 | M31: =IF(定期調査報告書!M38="","",定期調査報告書!M38)
B32: 【 | C32: ヘ | D32: ． | E32: 所 | F32: 在 | H32: 地 | I32: 】 | M32: =定期調査報告書!M39 -> 0
B33: 【 | C33: ト | D33: ． | E33: 電 | F33: 話 | G33: 番 | H33: 号 | I33: 】 | M33: =定期調査報告書!M40 -> 0
B34: （ | C34: そ | D34: の | E34: 他 | F34: の | G34: 調 | H34: 査 | I34: 者 | J34: ）
B35: 【 | C35: イ | D35: ． | E35: 資 | H35: 格 | I35: 】
J36: （ | K36: =定期調査報告書!K43 -> 0 | N36: ） | O36: 建 | P36: 築 | Q36: 士 | U36: =定期調査報告書!T43 -> 0 | Y36: （ | Z36: =定期調査報告書!Y43 -> 0 | AE36: ） | AF36: 登 | AG36: 録 | AH36: 第 | AI36: =定期調査報告書!AH43 -> 0 | AP36: 号
J37: 特 | K37: 定 | L37: 建 | M37: 築 | N37: 物 | O37: 調 | P37: 査 | Q37: 員 | AH37: 第 | AI37: =定期調査報告書!AH44 -> 0 | AP37: 号
B38: 【 | C38: ロ | D38: ． | E38: 氏 | F38: 名 | G38: の | H38: フ | I38: リ | J38: ガ | K38: ナ | L38: 】 | M38: =定期調査報告書!M45 -> 0
B39: 【 | C39: ハ | D39: ． | E39: 氏 | H39: 名 | I39: 】 | M39: =定期調査報告書!M46 -> 0
B40: 【 | C40: ニ | D40: ． | E40: 勤 | F40: 務 | H40: 先 | I40: 】 | M40: =定期調査報告書!M47 -> 0
J41: （ | K41: =定期調査報告書!K48 -> 0 | N41: ） | O41: 建 | P41: 築 | Q41: 士 | R41: 事 | S41: 務 | T41: 所 | W41: （ | X41: =定期調査報告書!X48 -> 0 | AC41: ） | AD41: 知 | AE41: 事 | AF41: 登 | AG41: 録 | AH41: 第 | AI41: =定期調査報告書!AI48 -> 0 | AP41: 号
B42: 【 | C42: ホ | D42: ． | E42: 郵 | F42: 便 | G42: 番 | H42: 号 | I42: 】 | M42: =IF(定期調査報告書!M49="","",定期調査報告書!M49)
B43: 【 | C43: ヘ | D43: ． | E43: 所 | F43: 在 | H43: 地 | I43: 】 | M43: =定期調査報告書!M50 -> 0
B44: 【 | C44: ト | D44: ． | E44: 電 | F44: 話 | G44: 番 | H44: 号 | I44: 】 | M44: =定期調査報告書!M51 -> 0
A47: 【 | B47: 4 | C47: ． | D47: 報 | E47: 告 | F47: 対 | G47: 象 | H47: 建 | I47: 築 | J47: 物 | K47: 】
B48: 【 | C48: イ | D48: ． | E48: 所 | F48: 在 | H48: 地 | I48: 】 | L48: =定期調査報告書!M54 -> 0 | AT48: ✓
B49: 【 | C49: ロ | D49: ． | E49: 名 | F49: 称 | G49: の | H49: フ | I49: リ | J49: ガ | K49: ナ | L49: 】 | M49: =定期調査報告書!M55 -> 0
B50: 【 | C50: ハ | D50: ． | E50: 名 | H50: 称 | I50: 】 | M50: =定期調査報告書!M56 -> 0
B51: 【 | C51: ニ | D51: ． | E51: 用 | H51: 途 | I51: 】 | M51: =定期調査報告書!M57 -> 0
A54: 【 | B54: 5 | C54: ． | D54: 調 | E54: 査 | F54: に | G54: よ | H54: る | I54: 指 | J54: 摘 | K54: の | L54: 概 | M54: 要 | N54: 】
B55: 【 | C55: イ | D55: ． | E55: 指 | F55: 摘 | G55: の | H55: 内 | I55: 容 | J55: 】 | O55: =定期調査報告書!O61 | P55: 要 | Q55: 是 | R55: 正 | S55: の | T55: 指 | U55: 摘 | V55: あ | W55: り | Z55: （ | AA55: =定期調査報告書!Z61 | AB55: 既 | AC55: 存 | AD55: 不 | AE55: 適 | AF55: 格 | AG55: ） | AK55: =定期調査報告書!AI61 | AL55: 指 | AM55: 摘 | AN55: な | AO55: し
B56: 【 | C56: ロ | D56: ． | E56: 指 | F56: 摘 | G56: の | H56: 概 | I56: 要 | J56: 】
B57: =定期調査報告書!C63
B59: 【 | C59: ハ | D59: ． | E59: 改 | F59: 善 | G59: 予 | H59: 定 | I59: の | J59: 有 | K59: 無 | L59: 】 | O59: =定期調査報告書!O67 | P59: 有 | R59: （ | S59: 令 | T59: 和 | U59: =定期調査報告書!U67 | W59: 年 | X59: =定期調査報告書!X67 | Z59: 月 | AA59: に | AB59: 改 | AC59: 善 | AD59: 予 | AE59: 定 | AF59: ） | AK59: =定期調査報告書!AI67 | AL59: 無
B60: 【 | C60: ニ | D60: ． | E60: そ | F60: の | G60: 他 | H60: 特 | I60: 記 | J60: 事 | K60: 項 | L60: 】 | N60: =定期調査報告書!M68 -> 0
A63: 【 | B63: 6 | C63: ． | D63: 調 | E63: 査 | F63: 及 | G63: び | H63: 検 | I63: 査 | J63: の | K63: 状 | L63: 況 | M63: 】
B64: 【 | C64: イ | D64: ． | E64: 今 | F64: 回 | G64: の | H64: 調 | I64: 査 | J64: 】 | R64: 令 | S64: 和 | T64: =定期調査報告書!T168 -> 0 | V64: 年 | W64: =定期調査報告書!W168 -> 0 | Y64: 月 | Z64: =定期調査報告書!Z168 -> 0 | AB64: 日 | AC64: 実 | AD64: 施
B65: 【 | C65: ロ | D65: ． | E65: 前 | F65: 回 | G65: の | H65: 調 | I65: 査 | J65: 】 | N65: =定期調査報告書!N170 -> 0 | O65: 実 | P65: 施 | Q65: （ | R65: =+定期調査報告書!R170 -> H・R | T65: =定期調査報告書!T170 -> 0 | V65: 年 | W65: =定期調査報告書!W170 -> 0 | Y65: 月 | Z65: =定期調査報告書!Z170 -> 0 | AB65: 日 | AC65: 報 | AD65: 告 | AE65: ） | AG65: =定期調査報告書!AG170 -> 0 | AH65: 未 | AI65: 実 | AJ65: 施
B67: 【 | C67: ハ | D67: ． | E67: 建 | F67: 築 | G67: 設 | H67: 備 | I67: の | J67: 検 | K67: 査 | L67: 】 | N67: =定期調査報告書!N172 -> 0 | O67: 実 | P67: 施 | Q67: （ | R67: =+定期調査報告書!R172 -> H・R | T67: =定期調査報告書!T172 -> 0 | V67: 年 | W67: =定期調査報告書!W172 -> 0 | Y67: 月 | Z67: =定期調査報告書!Z172 -> 0 | AB67: 日 | AC67: 報 | AD67: 告 | AE67: ） | AG67: =定期調査報告書!AG172 -> 0 | AH67: 未 | AI67: 実 | AJ67: 施
B69: 【 | C69: ニ | D69: ． | E69: 昇 | F69: 降 | G69: 機 | H69: 等 | I69: の | J69: 検 | K69: 査 | L69: 】 | N69: =定期調査報告書!N174 -> 0 | O69: 実 | P69: 施 | Q69: （ | R69: =+定期調査報告書!R174 -> H・R | T69: =定期調査報告書!T174 -> 0 | V69: 年 | W69: =定期調査報告書!W174 -> 0 | Y69: 月 | Z69: =定期調査報告書!Z174 -> 0 | AB69: 日 | AC69: 報 | AD69: 告 | AE69: ） | AG69: =定期調査報告書!AG174 -> 0 | AH69: 未 | AI69: 実 | AJ69: 施
B71: 【 | C71: ホ | D71: ． | E71: 防 | F71: 火 | G71: 設 | H71: 備 | I71: の | J71: 検 | K71: 査 | L71: 】 | N71: =定期調査報告書!N176 -> 0 | O71: 実 | P71: 施 | Q71: （ | R71: =+定期調査報告書!R176 -> H・R | T71: =定期調査報告書!T176 -> 0 | V71: 年 | W71: =定期調査報告書!W176 -> 0 | Y71: 月 | Z71: =定期調査報告書!Z176 -> 0 | AB71: 日 | AC71: 報 | AD71: 告 | AE71: ） | AG71: =定期調査報告書!AG176 -> 0 | AH71: 未 | AI71: 実 | AJ71: 施
A74: 【 | B74: 7 | C74: ． | D74: 建 | E74: 築 | F74: 物 | G74: 等 | H74: に | I74: 係 | J74: る | K74: 不 | L74: 具 | M74: 合 | N74: 等 | O74: の | P74: 状 | Q74: 況 | R74: 】
B75: 【 | C75: イ | D75: ． | E75: 不 | F75: 具 | G75: 合 | H75: 等 | L75: 】 | N75: =定期調査報告書!N250 -> 0 | O75: 有 | R75: =定期調査報告書!Q250 -> 0 | S75: 無
B77: 【 | C77: ロ | D77: ． | E77: 不 | F77: 具 | G77: 合 | H77: 等 | I77: の | J77: 記 | K77: 録 | L77: 】 | N77: =定期調査報告書!N252 -> 0 | O77: 有 | R77: =定期調査報告書!Q252 -> 0 | S77: 無
B78: 【 | C78: ハ | D78: ． | E78: 不 | F78: 具 | G78: 合 | H78: 等 | I78: の | J78: 概 | K78: 要 | L78: 】 | N78: =定期調査報告書!F274&" "&定期調査報告書!F277&" "&定期調査報告書!F280&" "&定期調査報告書!F283&" "&定期調査報告書!F286&" "&定期調査報告書!F289
B80: 【 | C80: ニ | D80: ． | E80: 改 | F80: 善 | G80: の | H80: 状 | I80: 況 | L80: 】 | N80: =定期調査報告書!M254 -> 0 | O80: 実 | P80: 施 | Q80: 済 | S80: =定期調査報告書!R254 -> 0 | T80: 改 | U80: 善 | V80: 予 | W80: 定 | X80: （ | Y80: 令 | Z80: 和 | AA80: =定期調査報告書!Z254 -> 0 | AC80: 年 | AD80: =定期調査報告書!AC254 -> 0 | AF80: 月 | AG80: に | AH80: 改 | AI80: 善 | AJ80: 予 | AK80: 定 | AL80: ）
N82: =定期調査報告書!AL254 -> 0 | O82: 予 | P82: 定 | Q82: な | R82: し | T82: （ | U82: 理 | V82: 由 | W82: ： | AO82: ）
T85: ( | U85: 第 | V85: 二 | W85: 面 | X85: ）
A86: 建 | B86: 築 | C86: 物 | D86: 及 | E86: び | F86: そ | G86: の | H86: 敷 | I86: 地 | J86: に | K86: 関 | L86: す | M86: る | N86: 事 | O86: 項
A88: 【 | B88: 1 | C88: ． | D88: 敷 | E88: 地 | F88: の | G88: 位 | H88: 置 | I88: 】
B89: 【 | C89: イ | D89: ． | E89: 防 | F89: 火 | G89: 地 | H89: 域 | I89: 等 | J89: 】 | L89: =定期調査報告書!L78 -> 0 | M89: 防 | N89: 火 | O89: 地 | P89: 域 | U89: =定期調査報告書!U78 -> 0 | V89: 準 | W89: 防 | X89: 火 | Y89: 地 | Z89: 域
L91: =定期調査報告書!L80 -> 0 | M91: そ | N91: の | O91: 他 | P91: （ | Q91: =定期調査報告書!Q80 -> 0 | R91: 法 | S91: 第 | T91: 2 | U91: 2 | V91: 条 | W91: 区 | X91: 域 | AF91: ） | AH91: =定期調査報告書!AH80 -> 0 | AI91: 指 | AJ91: 定 | AK91: な | AL91: し
B92: 【 | C92: ロ | D92: ． | E92: 用 | F92: 途 | H92: 地 | I92: 域 | J92: 】 | M92: =定期調査報告書!L81 -> 0 | Z92: =定期調査報告書!Y81 -> 0
A95: 【 | B95: 2 | C95: ． | D95: 建 | E95: 築 | F95: 物 | G95: 及 | H95: び | I95: そ | J95: の | K95: 敷 | L95: 地 | M95: の | N95: 概 | O95: 要 | P95: 】
B96: 【 | C96: イ | D96: ． | E96: 構 | H96: 造 | I96: 】 | L96: =定期調査報告書!L85 -> 0 | M96: 鉄 | N96: 筋 | O96: コ | P96: ン | Q96: ク | R96: リ | S96: ー | T96: ト | U96: 造 | Y96: =定期調査報告書!Y85 -> 0 | Z96: 鉄 | AA96: 骨 | AB96: 鉄 | AC96: 筋 | AD96: コ | AE96: ン | AF96: ク | AG96: リ | AH96: ー | AI96: ト | AJ96: 造
L98: =定期調査報告書!L87 -> 0 | M98: 鉄 | N98: 骨 | O98: 造 | Y98: =定期調査報告書!Y87 -> 0 | Z98: そ | AA98: の | AB98: 他 | AC98: （ | AD98: =定期調査報告書!AD87 -> 0 | AM98: ）
B99: 【 | C99: ロ | D99: ． | E99: 階 | H99: 数 | I99: 】 | N99: 地 | O99: 上 | Q99: =定期調査報告書!Q88 -> 0 | T99: 階 | W99: 地 | X99: 下 | Z99: =定期調査報告書!Z88 -> 0 | AC99: 階
B100: 【 | C100: ハ | D100: ． | E100: 敷 | F100: 地 | G100: 面 | H100: 積 | I100: 】 | M100: =定期調査報告書!M89 -> 0 | U100: ㎡
B101: 【 | C101: ニ | D101: ． | E101: 建 | F101: 築 | G101: 面 | H101: 積 | I101: 】 | M101: =定期調査報告書!M90 -> 0 | U101: ㎡
B102: 【 | C102: ホ | D102: ． | E102: 延 | F102: べ | G102: 面 | H102: 積 | I102: 】 | M102: =定期調査報告書!M91 -> 0 | U102: ㎡
A105: 【 | B105: 3 | C105: ． | D105: 階 | E105: 別 | F105: 用 | G105: 途 | H105: 別 | I105: 床 | J105: 面 | K105: 積 | L105: 】 | S105: （ | V105: 用 | W105: 途 | Z105: ） | AC105: （ | AF105: 床 | AG105: 面 | AH105: 積 | AL105: ） | AS105: 第一種低層住居専用地域
B106: 【 | C106: イ | D106: ． | E106: 階 | F106: 別 | G106: 用 | H106: 途 | I106: 別 | J106: 】 | M106: （ | N106: =定期調査報告書!N95 -> 0 | P106: 階 | Q106: ） | S106: （ | T106: =定期調査報告書!T95 -> 0 | Z106: ） | AC106: （ | AD106: =定期調査報告書!AD95 -> 0 | AK106: ㎡ | AL106: ） | AM106: =+定期調査報告書!AM95 -> 0 | AS106: 第二種低層住居専用地域
M107: （ | N107: =定期調査報告書!N96 -> 0 | P107: 階 | Q107: ） | S107: （ | T107: =定期調査報告書!T96 -> 0 | Z107: ） | AC107: （ | AD107: =定期調査報告書!AD96 -> 0 | AK107: ㎡ | AL107: ） | AM107: =+定期調査報告書!AM96 -> 0 | AS107: 第一種中高層住居専用地域
M108: （ | N108: =定期調査報告書!N97 -> 0 | P108: 階 | Q108: ） | S108: （ | T108: =定期調査報告書!T97 -> 0 | Z108: ） | AC108: （ | AD108: =定期調査報告書!AD97 -> 0 | AK108: ㎡ | AL108: ） | AM108: =+定期調査報告書!AM97 -> 0 | AS108: 第二種中高層住居専用地域
M109: （ | N109: =定期調査報告書!N98 -> 0 | P109: 階 | Q109: ） | S109: （ | T109: =定期調査報告書!T98 -> 0 | Z109: ） | AC109: （ | AD109: =定期調査報告書!AD98 -> 0 | AK109: ㎡ | AL109: ） | AM109: =+定期調査報告書!AM98 -> 0 | AS109: 第一種住居地域
M110: （ | N110: =定期調査報告書!N99 -> 0 | P110: 階 | Q110: ） | S110: （ | T110: =定期調査報告書!T99 -> 0 | Z110: ） | AC110: （ | AD110: =定期調査報告書!AD99 -> 0 | AK110: ㎡ | AL110: ） | AM110: =+定期調査報告書!AM99 -> 0 | AS110: 第二種住居地域
M111: （ | N111: =定期調査報告書!N100 -> 0 | P111: 階 | Q111: ） | S111: （ | T111: =定期調査報告書!T100 -> 0 | Z111: ） | AC111: （ | AD111: =定期調査報告書!AD100 -> 0 | AK111: ㎡ | AL111: ） | AM111: =+定期調査報告書!AM100 -> 0 | AS111: 準住居地域
M112: （ | N112: =定期調査報告書!N101 -> 0 | P112: 階 | Q112: ） | S112: （ | T112: =定期調査報告書!T101 -> 0 | Z112: ） | AC112: （ | AD112: =定期調査報告書!AD101 -> 0 | AK112: ㎡ | AL112: ） | AM112: =+定期調査報告書!AM101 -> 0 | AS112: 近隣商業地域
M113: （ | N113: =定期調査報告書!N102 -> 0 | P113: 階 | Q113: ） | S113: （ | T113: =定期調査報告書!T102 -> 0 | Z113: ） | AC113: （ | AD113: =定期調査報告書!AD102 -> 0 | AK113: ㎡ | AL113: ） | AM113: =+定期調査報告書!AM102 -> 0 | AS113: 商業地域
M114: （ | N114: =定期調査報告書!N103 -> 0 | P114: 階 | Q114: ） | S114: （ | T114: =定期調査報告書!T103 -> 0 | Z114: ） | AC114: （ | AD114: =定期調査報告書!AD103 -> 0 | AK114: ㎡ | AL114: ） | AM114: =+定期調査報告書!AM103 -> 0 | AS114: 準工業地域
N115: =定期調査報告書!N104 -> 0 | AC115: （ | AD115: =定期調査報告書!AD104 | AK115: ㎡ | AL115: ） | AM115: =+定期調査報告書!AM104 -> 0 | AS115: 工業地域
B116: 【 | C116: ロ | D116: ． | E116: 用 | F116: 途 | H116: 別 | I116: 】 | N116: =定期調査報告書!N105 -> 0 | S116: （ | T116: =定期調査報告書!T105 -> 0 | Z116: ） | AC116: （ | AD116: =定期調査報告書!AD105 -> 0 | AK116: ㎡ | AL116: ）
S117: （ | T117: =定期調査報告書!T106 -> 0 | Z117: ） | AC117: （ | AD117: =定期調査報告書!AD106 -> 0 | AK117: ㎡ | AL117: ）
S118: （ | T118: =定期調査報告書!T107 -> 0 | Z118: ） | AC118: （ | AD118: =定期調査報告書!AD107 -> 0 | AK118: ㎡ | AL118: ）
S119: （ | T119: =定期調査報告書!T108 -> 0 | Z119: ） | AC119: （ | AD119: =定期調査報告書!AD108 -> 0 | AK119: ㎡ | AL119: ）
A122: 【 | B122: 4 | C122: ． | D122: 性 | E122: 能 | F122: 検 | G122: 証 | H122: 法 | I122: 等 | J122: の | K122: 適 | L122: 用 | M122: 】 | O122: =定期調査報告書!P111 -> 0 | P122: 耐 | Q122: 火 | R122: 性 | S122: 能 | T122: 検 | U122: 証 | V122: 法 | AC122: =定期調査報告書!AD111 -> 0 | AD122: 防 | AE122: 火 | AF122: 区 | AG122: 画 | AH122: 検 | AI122: 証 | AJ122: 法
O124: =定期調査報告書!P113 -> 0 | P124: 区画避難安全検証法 | X124: （ | Y124: =+定期調査報告書!Z113 -> 0 | AA124: 階 | AB124: ） | AC124: =定期調査報告書!AD113 -> 0 | AD124: 階避難安全検証法 | AL124: （ | AM124: =+定期調査報告書!AN113 -> 0 | AO124: 階 | AP124: ）
O126: =定期調査報告書!P115 -> 0 | P126: 全 | Q126: 館 | R126: 避 | S126: 難 | T126: 安 | U126: 全 | V126: 検 | W126: 証 | X126: 法 | AC126: =定期調査報告書!AD115 -> 0 | AD126: そ | AE126: の | AF126: 他 | AG126: （ | AH126: =+定期調査報告書!AI115 -> 0 | AP126: ）
A128: 【 | B128: 5 | C128: ． | D128: 増 | E128: 築 | F128: 、 | G128: 改 | H128: 築 | I128: 、 | J128: 用 | K128: 途 | L128: 変 | M128: 更 | N128: 等 | O128: の | P128: 経 | Q128: 過 | R128: 】
D129: =定期調査報告書!D119 -> Ｓ・Ｈ・Ｒ | I129: =定期調査報告書!I119 -> 0 | K129: 年 | L129: =定期調査報告書!L119 -> 0 | N129: 月 | O129: =定期調査報告書!O119 -> 0 | Q129: 日 | S129: 概 | T129: 要 | U129: （ | V129: =定期調査報告書!V119 -> 0 | AP129: ）
D130: =定期調査報告書!D120 -> Ｓ・Ｈ・Ｒ | I130: =定期調査報告書!I120 -> 0 | K130: 年 | L130: =定期調査報告書!L120 -> 0 | N130: 月 | O130: =定期調査報告書!O120 -> 0 | Q130: 日 | S130: 概 | T130: 要 | U130: （ | V130: =定期調査報告書!V120 -> 0 | AP130: ）
D131: =定期調査報告書!D121 -> Ｓ・Ｈ・Ｒ | I131: =定期調査報告書!I121 -> 0 | K131: 年 | L131: =定期調査報告書!L121 -> 0 | N131: 月 | O131: =定期調査報告書!O121 -> 0 | Q131: 日 | S131: 概 | T131: 要 | U131: （ | V131: =定期調査報告書!V121 -> 0 | AP131: ）
D132: =定期調査報告書!D122 -> Ｓ・Ｈ・Ｒ | I132: =定期調査報告書!I122 -> 0 | K132: 年 | L132: =定期調査報告書!L122 -> 0 | N132: 月 | O132: =定期調査報告書!O122 -> 0 | Q132: 日 | S132: 概 | T132: 要 | U132: （ | V132: =定期調査報告書!V122 -> 0 | AP132: ）
A134: 【 | B134: 6 | C134: ． | D134: 関 | E134: 連 | F134: 図 | G134: 書 | H134: の | I134: 整 | J134: 備 | K134: 状 | L134: 況 | M134: 】
B135: 【 | C135: イ | D135: ． | E135: 確 | F135: 認 | G135: に | H135: 要 | I135: し | J135: た | K135: 図 | L135: 書 | M135: 】 | P135: =定期調査報告書!O126 -> 0 | Q135: 有 | T135: （ | U135: =定期調査報告書!T126 -> 0 | V135: 各 | W135: 階 | X135: 平 | Y135: 面 | Z135: 図 | AA135: あ | AB135: り | AC135: ） | AE135: =定期調査報告書!AD126 -> 0 | AF135: 無
...
