Workbook

Sheet まず、お読みください
A1: ～ まず、お読みください。 ～
A2: ＜ ファイル使用時の注意事項 ＞
A4: １．シートの構成
B5: ☆ このExcelファイルは、４枚のワークシートで構成されています。
B6: ☆ 画面下部のシート見出しより、入力（表示）したいワークシート名をクリックしてください。
A8: ２．シートの保護について
B9: ☆ このExcelファイルは、ワークシートに[シートの保護]設定をしているため、保護されている
B10: セルの選択が出来ないようになっています。
B11: ☆ シート保護の解除は、[ホーム]タブ→[書式]→[シート保護の解除]をクリックしてください。
B12: ・「シートの保護を解除するためのパスワード」は未設定です。
B13: ☆ シートの保護を解除すると、セルの選択・入力・書式設定などの変更が可能になりますが、
B14: 誤って法令で決められている内容を変更されることのないようお願いします。
A16: ３．書類作成時の注意事項
B17: ☆ このExcelファイルは、まず「定期調査報告書」シートから入力してください。
B18: ☆ 「定期調査報告書」に入力することにより、「定期調査報告概要書」にも同じ内容が表示されます。
B19: ・記入欄以外の場所に入力された場合は、「定期調査報告概要書」には表示されませんので、ご注意ください。
B20: ・「定期調査報告概要書」第一面の【7．建築物等に係る不具合等の状況】の記述欄は直接入力してください。
B21: ☆ 入力される内容に対し記入欄が狭く、文字（数字等）が入りきらない場合がありますので、
B22: 入力画面上だけでなく、必ず印刷して内容を確認してください。
B23: ☆ 入力行が不足する場合はシートの保護を解除し追加してください。
A25: ４．入力方法
B26: ☆ 入力が必要な箇所は「定期調査報告書」シートに | H26: で塗りつぶしがされている所です。
B27: ・該当しない箇所があれば入力は不要です。

Sheet （注意）
A1: （注意）
A2: １．各面共通関係
B3: ① | D3: ※印のある欄は記入しないでください。
B4: ② | D4: 数字は算用数字を、単位はメートル法を用いてください。
B5: ③ | D5: 記入欄が不足する場合は、枠を拡大、行を追加して記入するか、別紙に必要な事項を記入し添えてください。
A6: ２．第一面関係
B7: ① | D7: 調査者が２人以上のときは、代表となる調査者を調査者氏名欄に記入してください。
B8: ② | D8: １欄及び２欄は、所有者又は管理者が法人のときは、「ロ」はそれぞれ法人の名称及び代表者氏名を、「ニ」はそれぞれ法人の所在地を記入してください。
B9: ③ | D9: ３欄は、代表となる調査者及び当該建築物の調査を行ったすべての調査者について記入してください。当該建築物の調査を行った調査者が１人の場合は、その他の調査者欄は削除して構いません。
B10: ④ | D10: ３欄の「イ」は、調査者の有する資格について記入してください。調査者が特定建築物調査員である場合は、特定建築物調査員資格証の交付番号を「特定建築物調査員」の番号欄に記入してください。
B11: ⑤ | D11: ３欄の「ニ」は、調査者が法人に勤務している場合は、調査者の勤務先について記入し、勤務先が建築士事務所のときは、事務所登録番号を併せて記入してください。
B12: ⑥ | D12: ３欄の「ホ」から「ト」までは、調査者が法人に勤務している場合は、調査者の勤務先について記入し、調査者が法人に勤務していない場合は、調査者の住所について記入してください。
B13: ⑦ | D13: 第三面の２欄のいずれかの「イ」において「要是正の指摘あり」のチェックボックスに「レ」マークを入れたときは、５欄の「イ」の「要是正の指摘あり」のチェックボックスに「レ」マークを入れ、それ以外のときは、「指摘なし」のチェックボックスに「レ」マークを入れてください。また、第三面の２欄の「イ」の「要是正の指摘あり」のチェックボックスに「レ」マークを入れたものの全てにおいて、「既存不適格」のチェックボックスに「レ」マークを入れたときは、併せて５欄の「イ」の「既存不適格」のチェックボックスに「レ」マークを入れてください。
B14: ⑧ | D14: ５欄の「ロ」は、指摘された事項のうち特に報告すべき事項があれば記入してください。
B15: ⑨ | D15: ５欄の「ハ」は、第三面の２欄のいずれかの「ハ」において改善予定があるとしているときは「有」のチェックボックスに「レ」マークを入れ、第三面の２欄の「ハ」に記入された改善予定年月のうち最も早いものを併せて記入してください。
B16: ⑩ | D16: ５欄の「ニ」は、指摘された事項以外に特に報告すべき事項があれば記入してください。
A17: ３．第二面関係
B18: ① | D18: この書類は、建築物ごとに作成してください。
B19: ② | D19: 敷地が複数の地域にまたがるときは、１欄の「イ」は、該当するすべてのチェックボックスに「レ」マークを入れてください。建築基準法第22条第１項の規定により地域指定がされている場合、災害危険区域に指定されている場合その他建築基準法又はそれに基づく命令により地域等の指定がされている場合は、「その他」のチェックボックスに「レ」マークを入れ、併せてその内容を記入してください。
B20: ③ | D20: １欄の「ロ」は、該当する用途地域名を全て記入してください。
B21: ④ | D21: ２欄の「イ」は、該当する全てのチェックボックスに「レ」マークを入れてください。なお、その他の構造からなる場合には、「その他」のチェックボックスに「レ」マークを入れ、併せて具体的な構造を記入してください。
B22: ⑤ | D22: ３欄の「イ」は、建築基準法別表第一（い）欄に掲げる用途に供する部分について、最上階から順に記入し、当該用途に供する部分の床面積を記入してください。ただし、特定行政庁が報告の必要がある用途を定めている場合には、その用途について記入してください。該当する用途が複数あるときは、それらを全て記入してください。
B23: ⑥ | D23: ３欄の「ロ」は、「イ」の用途ごとに床面積の合計を記入してください。
B24: ⑦ | D24: ４欄は、建築基準法施行令第108条の３第２項に規定する耐火性能検証法により耐火に関する性能が検証されたときは「耐火性能検証法」のチェックボックスに、同令第108条の３第５項に規定する防火区画検証法により遮炎に関する性能が検証されたときは「防火区画検証法」のチェックボックスに、同令第１２８条の６第３項に規定する区画避難安全検証法により区画避難安全性能が検証されたときは「区画避難安全検証法」のチェックボックスに、同令第129条第３項に規定する階避難安全検証法により階避難安全性能が検証されたときは「階避難安全検証法」のチェックボックスに、同令第129条の２第４項に規定する全館避難安全検証法により全館避難安全性能が検証されたときは「全館避難安全検証法」のチェックボックスに、それぞれ「レ」マークを入れ、「区画避難安全検証法」の場合は区画避難安全性能を検証した階を、「階避難安全検証法」の場合は階避難安全性能を検証した階を、併せて記入してください。建築基準法第38条（同法第66条、第67条の2及び第88条第１項において準用する場合を含む。）の規定による特殊構造方法等認定、同法第68条の25第１項の規定による構造方法の認定又は建築基準法の一部を改正する法律(平成10年法律第100号）による改正前の建築基準法第38条の規定による認定を受けている建築物のうち、当該適用について特に報告が必要なものについては「その他」のチェックボックスに「レ」マークを入れ、その概要を記入してください。
B25: ⑧ | D25: ５欄は、前回調査時以降の建築（新築を除く。）、模様替え、修繕又は用途の変更（以下「増築、改築、用途変更等」という。）について、古いものから順に記入し、確認（建築基準法第６条第１項に規定する確認。以下同じ。）を受けている場合は建築確認済証交付年月日を、受けていない場合は増築、改築、用途変更等が完了した年月日を、併せて記入し、それぞれ増築、改築、用途変更等の概要を記入してください。
B26: ⑨ | D26: ６欄の「イ」は、最近の確認について、当該確認に要した図書の全部又は一部があるときは｢有」のチェックボックスに「レ」マークを入れ、そのうち各階平面図のみがあるときは併せて「各階平面図あり」のチェックボックスに「レ」マークを入れてください。
B27: ⑩ | D27: ６欄の「ロ」は、最近の確認に係る確認済証について、該当するチェックボックスに「レ」マークを入れてください。「有」の場合は、確認済証の交付年月日を記入し、交付者に関するチェックボックスに「レ」マークを入れ、「指定確認検査機関」の場合は、併せてその名称を記入してください。
B28: ⑪ | D28: ６欄の「ハ」は、直近の完了検査について、当該完了検査に要した図書の全部又は一部があるときは「有」のチェックボックスに「レ」マークを入れてください。
B29: ⑫ | D29: ６欄の「ニ」は、（注意）⑩に準じて記入してください。
... B33: ⑯ | D33: ここに書き表せない事項で特に報告すべき事項は、７欄又は別紙に記載して添えてください。
A34: ４．第三面関係
B35: ① | D35: この書類は、建築物ごとに、当該建築物の敷地、構造及び建築設備の状況（別途建築設備の検査を行っている場合は建築設備の設置の状況に係るものに限る。）に関する調査の結果について作成してください。
B36: ② | D36: １欄の「イ」は、調査が終了した年月日を記入してください。
B37: ③ | D37: １欄の「ロ」から「ホ」までは、報告の対象となっていない場合には「未実施」のチェックボックスに「レ」マークを入れてください。
B38: ④ | D38: １欄の「ハ」から「ホ」までは、直前の報告について、それぞれ記入してください。
B39: ⑤ | D39: ２欄の「イ」は、調査結果において、是正が必要と認められるときは「要是正の指摘あり」のチェックボックスに「レ」マークを入れ、建築基準法第３条第２項（同法第86条の９第１項において準用する場合を含む。）の規定の適用を受けているものであることが確認されたときは併せて「既存不適格」のチェックボックスに「レ」マークを入れてください。
B40: ⑥ | D40: ２欄の「イ」の「要是正の指摘あり」のチェックボックスに「レ」マークを入れたとき（「既存不適格」のチェックボックスに「レ」マークを入れたときを除く。）は、「ロ」に指摘の概要を記入してください。
B41: ⑦ | D41: ２欄の「イ」の「要是正の指摘あり」のチェックボックスに「レ」マークを入れた当該指摘をうけた項目について改善予定があるときは「ハ」の「有」のチェックボックスに「レ」マークを入れ、併せて改善予定年月を記入してください。改善予定がないときは「ハ」の「無」のチェックボックスに「レ」マークを入れてください。
B42: ⑧ | D42: ３欄は、建築基準法第28条の２の規定の適用を受ける石綿を添加した建築材料について記入してください。「イ」の「有（飛散防止措置無）」又は「有(飛散防止措置有）」のチェックボックスに「レ」マークを入れたときは、当該建築材料が確認された室を記入してください。当該建築材料について飛散防止措置を行う予定があるときは、「ロ」の「有」のチェックボックスに「レ」マークを入れ、併せて措置予定年月を記入してください。措置を行う予定がないときは、「ロ」の「無」のチェックボックスに「レ」マークを入れてください。
B43: ⑨ | D43: ４欄は、建築物の耐震改修の促進に関する法律（平成7年法律第123号）第２条第１項又は第２項に規定する耐震診断又は耐震改修の実施の有無について記入してください。耐震診断又は耐震改修の実施の予定があるときは、実施予定年月を記入し、具体的な耐震改修の内容を定めている場合は別紙に記入し添えてください。
...

Sheet 定期調査報告書
A1: 2025.7.1.～
A2: 第 | B2: 三 | C2: 十 | D2: 六 | E2: 号 | F2: の | G2: 二 | H2: 様 | I2: 式 | J2: （ | K2: 第 | L2: 五 | M2: 条 | N2: 関 | O2: 係 | P2: ） | Q2: ( | R2: A | S2: 4 | T2: ) | AI2: 整 理 番 号
S3: 定 | T3: 期 | U3: 調 | V3: 査 | W3: 報 | X3: 告 | Y3: 書 | AQ3: 0
T4: ( | U4: 第 | V4: 一 | W4: 面 | X4: ）
B5: 建 | C5: 築 | D5: 基 | E5: 準 | F5: 法 | G5: 第 | H5: 1 | I5: 2 | J5: 条 | K5: 第 | L5: 1 | M5: 項 | N5: の | O5: 規 | P5: 定 | Q5: に | R5: よ | S5: る | T5: 定 | U5: 期 | V5: 調 | W5: 査 | X5: の | Y5: 結 | Z5: 果 | AA5: を | AB5: 報 | AC5: 告 | AD5: し | AE5: ま | AF5: す | AG5: 。 | AH5: こ | AI5: の | AJ5: 報 | AK5: 告 | AL5: 書 | AM5: に | AN5: 記 | AO5: 載
A6: の | B6: 事 | C6: 項 | D6: は | E6: 、 | F6: 事 | G6: 実 | H6: に | I6: 相 | J6: 違 | K6: あ | L6: り | M6: ま | N6: せ | O6: ん | P6: 。
B7: 特 | C7: 定 | D7: 行 | E7: 政 | F7: 庁 | Q7: 様
AC8: 令和 | AI8: 年 | AL8: 月 | AO8: 日
AS9: 平成 | AU9: A
X10: 報 | Y10: 告 | Z10: 者 | AA10: 氏 | AB10: 名 | AS10: 令和 | AU10: B
AU11: C
AU12: D
X13: 調 | Y13: 査 | Z13: 者 | AA13: 氏 | AB13: 名 | AU13: E
AU14: F
A15: 【 | B15: 1 | C15: ． | D15: 所 | E15: 有 | F15: 者 | G15: 】 | AU15: G
B16: 【 | C16: イ | D16: ． | E16: 氏 | F16: 名 | G16: の | H16: フ | I16: リ | J16: ガ | K16: ナ | L16: 】 | AU16: H
B17: 【 | C17: ロ | D17: ． | E17: 氏 | H17: 名 | I17: 】 | AU17: I
B18: 【 | C18: ハ | D18: ． | E18: 郵 | F18: 便 | G18: 番 | H18: 号 | I18: 】 | AU18: J
B19: 【 | C19: ニ | D19: ． | E19: 住 | H19: 所 | I19: 】 | AU19: K
B20: 【 | C20: ホ | D20: ． | E20: 電 | F20: 話 | G20: 番 | H20: 号 | I20: 】 | AU20: L
AU21: M
A22: 【 | B22: 2 | C22: ． | D22: 管 | E22: 理 | F22: 者 | G22: 】 | AU22: N | BK22: 共同住宅
B23: 【 | C23: イ | D23: ． | E23: 氏 | F23: 名 | G23: の | H23: フ | I23: リ | J23: ガ | K23: ナ | L23: 】 | BK23: 事務所
B24: 【 | C24: ロ | D24: ． | E24: 氏 | H24: 名 | I24: 】 | BK24: 店舗
B25: 【 | C25: ハ | D25: ． | E25: 郵 | F25: 便 | G25: 番 | H25: 号 | I25: 】 | BK25: 飲食店
B26: 【 | C26: ニ | D26: ． | E26: 住 | H26: 所 | I26: 】 | BK26: 有床診療所
B27: 【 | C27: ホ | D27: ． | E27: 電 | F27: 話 | G27: 番 | H27: 号 | I27: 】 | BK27: ホテル
BK28: 旅館
A29: 【 | B29: 3 | C29: ． | D29: 調 | E29: 査 | F29: 者 | G29: 】 | BK29: 百貨店
B30: （ | C30: 代 | D30: 表 | E30: と | F30: な | G30: る | H30: 調 | I30: 査 | J30: 者 | K30: ） | BK30: マーケット
B31: 【 | C31: イ | D31: ． | E31: 資 | H31: 格 | I31: 】 | BK31: 病院
J32: （ | N32: ） | O32: 建 | P32: 築 | Q32: 士 | X32: （ | AD32: ） | AE32: 登 | AF32: 録 | AG32: 第 | AP32: 号 | AT32: 建設大臣 | BK32: 診療所
J33: 特 | K33: 定 | L33: 建 | M33: 築 | N33: 物 | O33: 調 | P33: 査 | Q33: 員 | AG33: 第 | AP33: 号 | AT33: 国土交通大臣 | BK33: 就寝用福祉施設
B34: 【 | C34: ロ | D34: ． | E34: 氏 | F34: 名 | G34: の | H34: フ | I34: リ | J34: ガ | K34: ナ | L34: 】 | AT34: 知事 | BK34: エントランス等
B35: 【 | C35: ハ | D35: ． | E35: 氏 | H35: 名 | I35: 】 | BK35: 駐車場
B36: 【 | C36: ニ | D36: ． | E36: 勤 | F36: 務 | H36: 先 | I36: 】 | BK36: 倉庫
J37: （ | N37: ） | O37: 建 | P37: 築 | Q37: 士 | R37: 事 | S37: 務 | T37: 所 | W37: （ | AC37: ） | AD37: 知 | AE37: 事 | AF37: 登 | AG37: 録 | AH37: 第 | AP37: 号 | BK37: 共用部分
B38: 【 | C38: ホ | D38: ． | E38: 郵 | F38: 便 | G38: 番 | H38: 号 | I38: 】 | BK38: 集会室
B39: 【 | C39: ヘ | D39: ． | E39: 所 | F39: 在 | H39: 地 | I39: 】 | BK39: 機械室 | CG39: 1 | CH39: 敷 | CI39: 地 | CJ39: 及 | CK39: び | CL39: 地 | CM39: 盤 | CO39: =IF(O183=0,0,1) -> 0 | CP39: =IF(Z183=0,0,1) -> 0 | CQ39: =IF(AI183=0,0,1) -> 0 | CT39: 改善予定 | CY39: 有 | CZ39: =IF(O187=0,0,1) -> 0 | DA39: =IFERROR(DATE(BE134,BH134,1),"") | DB39: =IFERROR(DATE(U187,X187,1),"") | DD39: 無 | DE39: =IF(AI187=0,0,1) -> 0
B40: 【 | C40: ト | D40: ． | E40: 電 | F40: 話 | G40: 番 | H40: 号 | I40: 】 | CG40: 2 | CH40: 建 | CI40: 築 | CJ40: 物 | CK40: の | CL40: 外 | CM40: 部 | CO40: =IF(O191=0,0,1) -> 0 | CP40: =IF(Z191=0,0,1) -> 0 | CQ40: =IF(AI191=0,0,1) -> 0 | CT40: 改善予定 | CY40: 有 | CZ40: =IF(O195=0,0,1) -> 0 | DA40: =IFERROR(DATE(BE135,BH135,1),"") | DB40: =IFERROR(DATE(U195,X195,1),"") | DD40: 無 | DE40: =IF(AI195=0,0,1) -> 0
...

Sheet 定期調査報告概要書
AI1: 整 理 番 号
AI2: =IF(定期調査報告書!AI3="","",IF(定期調査報告書!AI3=0,"0",定期調査報告書!AI3)) | AJ2: =IF(定期調査報告書!AJ3="","",IF(定期調査報告書!AJ3=0,"0",定期調査報告書!AJ3)) | AK2: =IF(定期調査報告書!AK3="","",IF(定期調査報告書!AK3=0,"0",定期調査報告書!AK3)) | AL2: =IF(定期調査報告書!AL3="","",IF(定期調査報告書!AL3=0,"0",定期調査報告書!AL3)) | AM2: =IF(定期調査報告書!AM3="","",IF(定期調査報告書!AM3=0,"0",定期調査報告書!AM3)) | AN2: =IF(定期調査報告書!AN3="","",IF(定期調査報告書!AN3=0,"0",定期調査報告書!AN3)) | AO2: =IF(定期調査報告書!AO3="","",IF(定期調査報告書!AO3=0,"0",定期調査報告書!AO3)) | AP2: =IF(定期調査報告書!AP3="","",IF(定期調査報告書!AP3=0,"0",定期調査報告書!AP3)) | AQ2: =IF(定期調査報告書!AQ3="","",IF(定期調査報告書!AQ3=0,"0",定期調査報告書!AQ3)) -> 0
A3: 第 | B3: 三 | C3: 十 | D3: 六 | E3: 号 | F3: の | G3: 三 | H3: 様 | I3: 式 | J3: （ | K3: 第 | L3: 五 | M3: 条 | N3: 、 | O3: 第 | P3: 六 | Q3: 条 | R3: の | S3: 三 | T3: 、 | U3: 第 | V3: 十 | W3: 一 | X3: 条 | Y3: の | Z3: 四 | AA3: 関 | AB3: 係 | AC3: ) | AD3: ( | AE3: A | AF3: 4 | AG3: )
Q4: 定 | R4: 期 | S4: 調 | T4: 査 | U4: 報 | V4: 告 | W4: 概 | X4: 要 | Y4: 書
S5: ( | T5: 第 | U5: 一 | V5: 面 | W5: ）
B6: 調 | C6: 査 | D6: 等 | E6: の | F6: 概 | G6: 要
A8: 【 | B8: 1 | C8: ． | D8: 所 | E8: 有 | F8: 者 | G8: 】
B9: 【 | C9: イ | D9: ． | E9: 氏 | F9: 名 | G9: の | H9: フ | I9: リ | J9: ガ | K9: ナ | L9: 】 | M9: =定期調査報告書!M16 -> 0
B10: 【 | C10: ロ | D10: ． | E10: 氏 | H10: 名 | I10: 】 | M10: =定期調査報告書!M17 -> 0
B11: 【 | C11: ハ | D11: ． | E11: 郵 | F11: 便 | G11: 番 | H11: 号 | I11: 】 | K11: =定期調査報告書!K18 -> 0 | M11: =IF(定期調査報告書!M18="","",定期調査報告書!M18)
B12: 【 | C12: ニ | D12: ． | E12: 住 | H12: 所 | I12: 】 | K12: =定期調査報告書!K19 -> 0 | M12: =定期調査報告書!M19 -> 0
A15: 【 | B15: 2 | C15: ． | D15: 管 | E15: 理 | F15: 者 | G15: 】
B16: 【 | C16: イ | D16: ． | E16: 氏 | F16: 名 | G16: の | H16: フ | I16: リ | J16: ガ | K16: ナ | L16: 】 | M16: =定期調査報告書!M23 -> 0
B17: 【 | C17: ロ | D17: ． | E17: 氏 | H17: 名 | I17: 】 | M17: =定期調査報告書!M24 -> 0
B18: 【 | C18: ハ | D18: ． | E18: 郵 | F18: 便 | G18: 番 | H18: 号 | I18: 】 | K18: =定期調査報告書!K25 -> 0 | M18: =IF(定期調査報告書!M25="","",定期調査報告書!M25)
B19: 【 | C19: ニ | D19: ． | E19: 住 | H19: 所 | I19: 】 | K19: =定期調査報告書!K26 -> 0 | M19: =定期調査報告書!M26 -> 0
A22: 【 | B22: 3 | C22: ． | D22: 調 | E22: 査 | F22: 者 | G22: 】
B23: （ | C23: 代 | D23: 表 | E23: と | F23: な | G23: る | H23: 調 | I23: 査 | J23: 者 | K23: ）
B24: 【 | C24: イ | D24: ． | E24: 資 | H24: 格 | I24: 】
J25: （ | K25: =定期調査報告書!K32 -> 0 | N25: ） | O25: 建 | P25: 築 | Q25: 士 | U25: =+定期調査報告書!T32 -> 0 | Y25: （ | Z25: =定期調査報告書!Y32 -> 0 | AE25: ） | AF25: 登 | AG25: 録 | AH25: 第 | AI25: =定期調査報告書!AH32 -> 0 | AP25: 号
J26: 特 | K26: 定 | L26: 建 | M26: 築 | N26: 物 | O26: 調 | P26: 査 | Q26: 員 | AH26: 第 | AI26: =定期調査報告書!AH33 -> 0 | AP26: 号
B27: 【 | C27: ロ | D27: ． | E27: 氏 | F27: 名 | G27: の | H27: フ | I27: リ | J27: ガ | K27: ナ | L27: 】 | M27: =定期調査報告書!M34 -> 0
B28: 【 | C28: ハ | D28: ． | E28: 氏 | H28: 名 | I28: 】 | M28: =定期調査報告書!M35 -> 0
B29: 【 | C29: ニ | D29: ． | E29: 勤 | F29: 務 | H29: 先 | I29: 】 | M29: =定期調査報告書!M36 -> 0
J30: （ | K30: =定期調査報告書!K37 -> 0 | N30: ） | O30: 建 | P30: 築 | Q30: 士 | R30: 事 | S30: 務 | T30: 所 | W30: （ | X30: =定期調査報告書!X37 -> 0 | AC30: ） | AD30: 知 | AE30: 事 | AF30: 登 | AG30: 録 | AH30: 第 | AI30: =定期調査報告書!AI37 -> 0 | AP30: 号
B31: 【 | C31: ホ | D31: ． | E31: 郵 | F31: 便 | G31: 番 | H31: 号 | I31: 】 | M31: =IF(定期調査報告書!M38="","",定期調査報告書!M38)
B32: 【 | C32: ヘ | D32: ． | E32: 所 | F32: 在 | H32: 地 | I32: 】 | M32: =定期調査報告書!M39 -> 0
B33: 【 | C33: ト | D33: ． | E33: 電 | F33: 話 | G33: 番 | H33: 号 | I33: 】 | M33: =定期調査報告書!M40 -> 0
B34: （ | C34: そ | D34: の | E34: 他 | F34: の | G34: 調 | H34: 査 | I34: 者 | J34: ）
B35: 【 | C35: イ | D35: ． | E35: 資 | H35: 格 | I35: 】
J36: （ | K36: =定期調査報告書!K43 -> 0 | N36: ） | O36: 建 | P36: 築 | Q36: 士 | U36: =定期調査報告書!T43 -> 0 | Y36: （ | Z36: =定期調査報告書!Y43 -> 0 | AE36: ） | AF36: 登 | AG36: 録 | AH36: 第 | AI36: =定期調査報告書!AH43 -> 0 | AP36: 号
J37: 特 | K37: 定 | L37: 建 | M37: 築 | N37: 物 | O37: 調 | P37: 査 | Q37: 員 | AH37: 第 | AI37: =定期調査報告書!AH44 -> 0 | AP37: 号
B38: 【 | C38: ロ | D38: ． | E38: 氏 | F38: 名 | G38: の | H38: フ | I38: リ | J38: ガ | K38: ナ | L38: 】 | M38: =定期調査報告書!M45 -> 0
B39: 【 | C39: ハ | D39: ． | E39: 氏 | H39: 名 | I39: 】 | M39: =定期調査報告書!M46 -> 0
B40: 【 | C40: ニ | D40: ． | E40: 勤 | F40: 務 | H40: 先 | I40: 】 | M40: =定期調査報告書!M47 -> 0
J41: （ | K41: =定期調査報告書!K48 -> 0 | N41: ） | O41: 建 | P41: 築 | Q41: 士 | R41: 事 | S41: 務 | T41: 所 | W41: （ | X41: =定期調査報告書!X48 -> 0 | AC41: ） | AD41: 知 | AE41: 事 | AF41: 登 | AG41: 録 | AH41: 第 | AI41: =定期調査報告書!AI48 -> 0 | AP41: 号
B42: 【 | C42: ホ | D42: ． | E42: 郵 | F42: 便 | G42: 番 | H42: 号 | I42: 】 | M42: =IF(定期調査報告書!M49="","",定期調査報告書!M49)
B43: 【 | C43: ヘ | D43: ． | E43: 所 | F43: 在 | H43: 地 | I43: 】 | M43: =定期調査報告書!M50 -> 0
B44: 【 | C44: ト | D44: ． | E44: 電 | F44: 話 | G44: 番 | H44: 号 | I44: 】 | M44: =定期調査報告書!M51 -> 0
A47: 【 | B47: 4 | C47: ． | D47: 報 | E47: 告 | F47: 対 | G47: 象 | H47: 建 | I47: 築 | J47: 物 | K47: 】
...
